Index of /checkResults/release/bioc-LATEST/dmrseq/raw-results

[ICO]NameLast modifiedSizeDescription

[DIR]Parent Directory  -  
[   ]info.dcf08-Dec-2023 01:37 271  
[DIR]kunpeng2/03-Nov-2023 00:40 -  
[DIR]lconway/08-Dec-2023 01:37 -  
[DIR]nebbiolo2/08-Dec-2023 01:35 -  
[DIR]palomino4/08-Dec-2023 01:36 -