Back to Multiple platform build/check report for BioC 3.14
ABC[D]EFGHIJKLMNOPQRSTUVWXYZ

This page was generated on 2021-12-01 17:18:16 -0500 (Wed, 01 Dec 2021).

INSTALL results for dmrseq on machv2

To the developers/maintainers of the dmrseq package:
- Please allow up to 24 hours (and sometimes 48 hours) for your latest push to git@git.bioconductor.org:packages/dmrseq.git to
reflect on this report. See How and When does the builder pull? When will my changes propagate? here for more information.
- Make sure to use the following settings in order to reproduce any error or warning you see on this page.

raw results

Package 529/2083HostnameOS / ArchINSTALLBUILDCHECKBUILD BIN
dmrseq 1.14.0  (landing page)
Keegan Korthauer
Snapshot Date: 2021-11-30 04:15:05 -0500 (Tue, 30 Nov 2021)
git_url: https://git.bioconductor.org/packages/dmrseq
git_branch: RELEASE_3_14
git_last_commit: ae24c3a
git_last_commit_date: 2021-10-26 12:42:12 -0500 (Tue, 26 Oct 2021)
nebbiolo2Linux (Ubuntu 20.04.3 LTS) / x86_64  OK    OK    WARNINGS  UNNEEDED, same version is already published
tokay2Windows Server 2012 R2 Standard / x64  OK    OK    WARNINGS    OK  UNNEEDED, same version is already published
machv2macOS 10.14.6 Mojave / x86_64  OK    OK    WARNINGS    OK  UNNEEDED, same version is already published

Summary

Package: dmrseq
Version: 1.14.0
Command: /Library/Frameworks/R.framework/Resources/bin/R CMD INSTALL dmrseq
StartedAt: 2021-11-30 07:22:10 -0500 (Tue, 30 Nov 2021)
EndedAt: 2021-11-30 07:23:23 -0500 (Tue, 30 Nov 2021)
EllapsedTime: 72.8 seconds
RetCode: 0
Status:   OK  

Command output

##############################################################################
##############################################################################
###
### Running command:
###
###   /Library/Frameworks/R.framework/Resources/bin/R CMD INSTALL dmrseq
###
##############################################################################
##############################################################################


* installing to library ‘/Library/Frameworks/R.framework/Versions/4.1/Resources/library’
* installing *source* package ‘dmrseq’ ...
** using staged installation
** R
** data
*** moving datasets to lazyload DB
** inst
** byte-compile and prepare package for lazy loading
** help
*** installing help indices
** building package indices
** installing vignettes
** testing if installed package can be loaded from temporary location
** testing if installed package can be loaded from final location
** testing if installed package keeps a record of temporary installation path
* DONE (dmrseq)