Index of /checkResults/release/bioc-LATEST/dks/raw-results/riesling1

[ICO]NameLast modifiedSizeDescription

[DIR]Parent Directory  -  
[TXT]buildbin-out.txt19-Mar-2022 00:07 1.5K 
[   ]buildbin-summary.dcf19-Mar-2022 00:07 491  
[TXT]buildsrc-out.txt19-Mar-2022 00:07 879  
[   ]buildsrc-summary.dcf19-Mar-2022 00:07 436  
[TXT]checksrc-out.txt19-Mar-2022 00:07 3.9K 
[   ]checksrc-summary.dcf19-Mar-2022 00:07 430  
[TXT]install-out.txt19-Mar-2022 00:07 1.5K 
[   ]install-summary.dcf19-Mar-2022 00:07 260