Index of /checkResults/release/bioc-LATEST/dks/raw-results/merida1

[ICO]NameLast modifiedSizeDescription

[DIR]Parent Directory  -  
[TXT]buildbin-out.txt02-Jul-2022 01:07 1.1K 
[   ]buildbin-summary.dcf02-Jul-2022 01:07 505  
[TXT]buildsrc-out.txt02-Jul-2022 01:07 863  
[   ]buildsrc-summary.dcf02-Jul-2022 01:07 415  
[TXT]checksrc-out.txt02-Jul-2022 01:07 4.0K 
[   ]checksrc-summary.dcf02-Jul-2022 01:07 427  
[TXT]install-out.txt02-Jul-2022 01:07 1.0K 
[   ]install-summary.dcf02-Jul-2022 01:07 261