Name | Last modified | Size | Description | |
---|---|---|---|---|
Parent Directory | - | |||
buildbin-out.txt | 17-Jul-2024 06:41 | 7.3K | ||
checksrc-out.txt | 17-Jul-2024 06:41 | 4.5K | ||
install-out.txt | 17-Jul-2024 06:41 | 3.7K | ||
buildsrc-out.txt | 17-Jul-2024 06:41 | 945 | ||
buildbin-summary.dcf | 17-Jul-2024 06:41 | 537 | ||
checksrc-summary.dcf | 17-Jul-2024 06:41 | 448 | ||
buildsrc-summary.dcf | 17-Jul-2024 06:41 | 430 | ||
install-summary.dcf | 17-Jul-2024 06:41 | 272 | ||