Back to Multiple platform build/check report for BioC 3.12
ABC[D]EFGHIJKLMNOPQRSTUVWXYZ

Multiple platform build/check report for BioC 3.12

Results for package diffuStats

This page was generated on 2021-03-02 12:11:49 -0500 (Tue, 02 Mar 2021).

Package 481/1974HostnameOS / ArchINSTALLBUILDCHECKBUILD BIN
diffuStats 1.10.2
Sergio Picart-Armada
Snapshot Date: 2021-03-01 14:52:38 -0500 (Mon, 01 Mar 2021)
URL: https://git.bioconductor.org/packages/diffuStats
Branch: RELEASE_3_12
Last Commit: b578ed0
Last Changed Date: 2021-02-20 13:33:12 -0500 (Sat, 20 Feb 2021)
malbec1Linux (Ubuntu 18.04.5 LTS) / x86_64  OK    OK    OK  UNNEEDED, same version exists in internal repository
nebbiolo1Linux (Ubuntu 20.04.2 LTS) / x86_64  OK    OK    OK  
tokay1Windows Server 2012 R2 Standard / x64  OK    OK    OK    OK  UNNEEDED, same version exists in internal repository
merida1macOS 10.14.6 Mojave / x86_64  OK    OK    OK    OK  UNNEEDED, same version exists in internal repository