Back to Multiple platform build/check report for BioC 3.14
ABC[D]EFGHIJKLMNOPQRSTUVWXYZ

This page was generated on 2021-12-01 17:17:47 -0500 (Wed, 01 Dec 2021).

CHECK results for diffcyt on tokay2

To the developers/maintainers of the diffcyt package:
- Please allow up to 24 hours (and sometimes 48 hours) for your latest push to git@git.bioconductor.org:packages/diffcyt.git to
reflect on this report. See How and When does the builder pull? When will my changes propagate? here for more information.
- Make sure to use the following settings in order to reproduce any error or warning you see on this page.

raw results

Package 505/2083HostnameOS / ArchINSTALLBUILDCHECKBUILD BIN
diffcyt 1.14.0  (landing page)
Lukas M. Weber
Snapshot Date: 2021-11-30 04:15:05 -0500 (Tue, 30 Nov 2021)
git_url: https://git.bioconductor.org/packages/diffcyt
git_branch: RELEASE_3_14
git_last_commit: 18cad99
git_last_commit_date: 2021-10-26 12:43:31 -0500 (Tue, 26 Oct 2021)
nebbiolo2Linux (Ubuntu 20.04.3 LTS) / x86_64  OK    OK    OK  UNNEEDED, same version is already published
tokay2Windows Server 2012 R2 Standard / x64  OK    OK    OK    OK  UNNEEDED, same version is already published
machv2macOS 10.14.6 Mojave / x86_64  OK    OK    OK    OK  UNNEEDED, same version is already published

Summary

Package: diffcyt
Version: 1.14.0
Command: C:\Users\biocbuild\bbs-3.14-bioc\R\bin\R.exe CMD check --force-multiarch --install=check:diffcyt.install-out.txt --library=C:\Users\biocbuild\bbs-3.14-bioc\R\library --no-vignettes --timings diffcyt_1.14.0.tar.gz
StartedAt: 2021-11-30 21:36:41 -0500 (Tue, 30 Nov 2021)
EndedAt: 2021-11-30 21:43:11 -0500 (Tue, 30 Nov 2021)
EllapsedTime: 389.9 seconds
RetCode: 0
Status:   OK  
CheckDir: diffcyt.Rcheck
Warnings: 0

Command output

##############################################################################
##############################################################################
###
### Running command:
###
###   C:\Users\biocbuild\bbs-3.14-bioc\R\bin\R.exe CMD check --force-multiarch --install=check:diffcyt.install-out.txt --library=C:\Users\biocbuild\bbs-3.14-bioc\R\library --no-vignettes --timings diffcyt_1.14.0.tar.gz
###
##############################################################################
##############################################################################


* using log directory 'C:/Users/biocbuild/bbs-3.14-bioc/meat/diffcyt.Rcheck'
* using R version 4.1.2 (2021-11-01)
* using platform: x86_64-w64-mingw32 (64-bit)
* using session charset: ISO8859-1
* using option '--no-vignettes'
* checking for file 'diffcyt/DESCRIPTION' ... OK
* this is package 'diffcyt' version '1.14.0'
* checking package namespace information ... OK
* checking package dependencies ... OK
* checking if this is a source package ... OK
* checking if there is a namespace ... OK
* checking for hidden files and directories ... OK
* checking for portable file names ... OK
* checking whether package 'diffcyt' can be installed ... OK
* checking installed package size ... OK
* checking package directory ... OK
* checking 'build' directory ... OK
* checking DESCRIPTION meta-information ... OK
* checking top-level files ... OK
* checking for left-over files ... OK
* checking index information ... OK
* checking package subdirectories ... OK
* checking R files for non-ASCII characters ... OK
* checking R files for syntax errors ... OK
* loading checks for arch 'i386'
** checking whether the package can be loaded ... OK
** checking whether the package can be loaded with stated dependencies ... OK
** checking whether the package can be unloaded cleanly ... OK
** checking whether the namespace can be loaded with stated dependencies ... OK
** checking whether the namespace can be unloaded cleanly ... OK
* loading checks for arch 'x64'
** checking whether the package can be loaded ... OK
** checking whether the package can be loaded with stated dependencies ... OK
** checking whether the package can be unloaded cleanly ... OK
** checking whether the namespace can be loaded with stated dependencies ... OK
** checking whether the namespace can be unloaded cleanly ... OK
* checking dependencies in R code ... OK
* checking S3 generic/method consistency ... OK
* checking replacement functions ... OK
* checking foreign function calls ... OK
* checking R code for possible problems ... NOTE
calcCounts: no visible binding for global variable 'cluster_id'
calcCounts: no visible binding for global variable 'sample_id'
calcMedians: no visible binding for global variable 'cluster_id'
calcMedians: no visible binding for global variable 'sample_id'
calcMedians: no visible binding for global variable 'value'
calcMediansByClusterMarker: no visible binding for global variable
  'cluster_id'
calcMediansByClusterMarker: no visible binding for global variable
  'marker_id'
calcMediansByClusterMarker: no visible binding for global variable
  'value'
calcMediansBySampleMarker: no visible binding for global variable
  'sample_id'
calcMediansBySampleMarker: no visible binding for global variable
  'marker_id'
calcMediansBySampleMarker: no visible binding for global variable
  'value'
Undefined global functions or variables:
  cluster_id marker_id sample_id value
* checking Rd files ... OK
* checking Rd metadata ... OK
* checking Rd cross-references ... OK
* checking for missing documentation entries ... OK
* checking for code/documentation mismatches ... OK
* checking Rd \usage sections ... OK
* checking Rd contents ... OK
* checking for unstated dependencies in examples ... OK
* checking files in 'vignettes' ... OK
* checking examples ...
** running examples for arch 'i386' ... OK
Examples with CPU (user + system) or elapsed time > 5s
            user system elapsed
diffcyt     8.61   0.47    9.08
testDA_GLMM 7.54   0.14    7.68
plotHeatmap 4.99   0.12    5.11
** running examples for arch 'x64' ... OK
Examples with CPU (user + system) or elapsed time > 5s
            user system elapsed
testDA_GLMM 9.73   0.00    9.75
diffcyt     9.31   0.09    9.41
plotHeatmap 5.52   0.00    5.52
* checking for unstated dependencies in 'tests' ... OK
* checking tests ...
** running tests for arch 'i386' ...
  Running 'testthat.R'
 OK
** running tests for arch 'x64' ...
  Running 'testthat.R'
 OK
* checking for unstated dependencies in vignettes ... OK
* checking package vignettes in 'inst/doc' ... OK
* checking running R code from vignettes ... SKIPPED
* checking re-building of vignette outputs ... SKIPPED
* checking PDF version of manual ... OK
* DONE

Status: 1 NOTE
See
  'C:/Users/biocbuild/bbs-3.14-bioc/meat/diffcyt.Rcheck/00check.log'
for details.



Installation output

diffcyt.Rcheck/00install.out

##############################################################################
##############################################################################
###
### Running command:
###
###   C:\cygwin\bin\curl.exe -O http://155.52.207.166/BBS/3.14/bioc/src/contrib/diffcyt_1.14.0.tar.gz && rm -rf diffcyt.buildbin-libdir && mkdir diffcyt.buildbin-libdir && C:\Users\biocbuild\bbs-3.14-bioc\R\bin\R.exe CMD INSTALL --merge-multiarch --build --library=diffcyt.buildbin-libdir diffcyt_1.14.0.tar.gz && C:\Users\biocbuild\bbs-3.14-bioc\R\bin\R.exe CMD INSTALL diffcyt_1.14.0.zip && rm diffcyt_1.14.0.tar.gz diffcyt_1.14.0.zip
###
##############################################################################
##############################################################################


  % Total    % Received % Xferd  Average Speed   Time    Time     Time  Current
                                 Dload  Upload   Total   Spent    Left  Speed

  0     0    0     0    0     0      0      0 --:--:-- --:--:-- --:--:--     0
  0     0    0     0    0     0      0      0 --:--:-- --:--:-- --:--:--     0
100  187k  100  187k    0     0   826k      0 --:--:-- --:--:-- --:--:--  826k

install for i386

* installing *source* package 'diffcyt' ...
** using staged installation
** R
** inst
** byte-compile and prepare package for lazy loading
** help
*** installing help indices
  converting help for package 'diffcyt'
    finding HTML links ... done
    calcCounts                              html  
    finding level-2 HTML links ... done

    calcMedians                             html  
    calcMediansByClusterMarker              html  
    calcMediansBySampleMarker               html  
    createContrast                          html  
    createDesignMatrix                      html  
    createFormula                           html  
    diffcyt                                 html  
    generateClusters                        html  
    plotHeatmap                             html  
    prepareData                             html  
    testDA_GLMM                             html  
    testDA_edgeR                            html  
    testDA_voom                             html  
    testDS_LMM                              html  
    testDS_limma                            html  
    topClusters                             html  
    topTable                                html  
    transformData                           html  
** building package indices
** installing vignettes
** testing if installed package can be loaded from temporary location
** testing if installed package can be loaded from final location
** testing if installed package keeps a record of temporary installation path

install for x64

* installing *source* package 'diffcyt' ...
** testing if installed package can be loaded
* MD5 sums
packaged installation of 'diffcyt' as diffcyt_1.14.0.zip
* DONE (diffcyt)
* installing to library 'C:/Users/biocbuild/bbs-3.14-bioc/R/library'
package 'diffcyt' successfully unpacked and MD5 sums checked

Tests output

diffcyt.Rcheck/tests_i386/testthat.Rout


R version 4.1.2 (2021-11-01) -- "Bird Hippie"
Copyright (C) 2021 The R Foundation for Statistical Computing
Platform: i386-w64-mingw32/i386 (32-bit)

R is free software and comes with ABSOLUTELY NO WARRANTY.
You are welcome to redistribute it under certain conditions.
Type 'license()' or 'licence()' for distribution details.

R is a collaborative project with many contributors.
Type 'contributors()' for more information and
'citation()' on how to cite R or R packages in publications.

Type 'demo()' for some demos, 'help()' for on-line help, or
'help.start()' for an HTML browser interface to help.
Type 'q()' to quit R.

> library(testthat)
> library(diffcyt)
> 
> test_check("diffcyt")
[ FAIL 0 | WARN 0 | SKIP 0 | PASS 8 ]
> 
> proc.time()
   user  system elapsed 
  10.54    1.10   11.62 

diffcyt.Rcheck/tests_x64/testthat.Rout


R version 4.1.2 (2021-11-01) -- "Bird Hippie"
Copyright (C) 2021 The R Foundation for Statistical Computing
Platform: x86_64-w64-mingw32/x64 (64-bit)

R is free software and comes with ABSOLUTELY NO WARRANTY.
You are welcome to redistribute it under certain conditions.
Type 'license()' or 'licence()' for distribution details.

R is a collaborative project with many contributors.
Type 'contributors()' for more information and
'citation()' on how to cite R or R packages in publications.

Type 'demo()' for some demos, 'help()' for on-line help, or
'help.start()' for an HTML browser interface to help.
Type 'q()' to quit R.

> library(testthat)
> library(diffcyt)
> 
> test_check("diffcyt")
[ FAIL 0 | WARN 0 | SKIP 0 | PASS 8 ]
> 
> proc.time()
   user  system elapsed 
  10.25    0.45   10.68 

Example timings

diffcyt.Rcheck/examples_i386/diffcyt-Ex.timings

nameusersystemelapsed
calcCounts2.310.112.42
calcMedians1.640.151.79
calcMediansByClusterMarker1.230.021.25
calcMediansBySampleMarker1.100.031.13
createContrast0.000.020.01
createDesignMatrix000
createFormula000
diffcyt8.610.479.08
generateClusters1.090.111.21
plotHeatmap4.990.125.11
prepareData0.030.000.03
testDA_GLMM7.540.147.68
testDA_edgeR1.430.021.44
testDA_voom1.420.041.47
testDS_LMM4.170.054.22
testDS_limma2.010.132.14
topTable3.750.043.80
transformData0.080.000.07

diffcyt.Rcheck/examples_x64/diffcyt-Ex.timings

nameusersystemelapsed
calcCounts1.620.001.63
calcMedians2.390.002.39
calcMediansByClusterMarker1.310.031.34
calcMediansBySampleMarker1.220.001.22
createContrast000
createDesignMatrix0.020.000.01
createFormula000
diffcyt9.310.099.41
generateClusters1.250.001.25
plotHeatmap5.520.005.52
prepareData0.020.000.02
testDA_GLMM9.730.009.75
testDA_edgeR1.830.031.86
testDA_voom1.830.011.85
testDS_LMM4.470.004.47
testDS_limma2.870.032.90
topTable3.940.043.97
transformData0.060.000.06