Index of /checkResults/release/bioc-LATEST/diffcyt/raw-results/palomino4

[ICO]NameLast modifiedSizeDescription

[DIR]Parent Directory  -  
[TXT]buildbin-out.txt30-Mar-2024 00:36 1.1K 
[   ]buildbin-summary.dcf30-Mar-2024 00:36 515  
[TXT]buildsrc-out.txt30-Mar-2024 00:36 839  
[   ]buildsrc-summary.dcf30-Mar-2024 00:36 453  
[TXT]checksrc-out.txt30-Mar-2024 00:36 4.3K 
[   ]checksrc-summary.dcf30-Mar-2024 00:36 447  
[TXT]install-out.txt30-Mar-2024 00:36 962  
[   ]install-summary.dcf30-Mar-2024 00:36 268