Back to Multiple platform build/check report for BioC 3.14
ABC[D]EFGHIJKLMNOPQRSTUVWXYZ

This page was generated on 2021-12-06 13:05:55 -0500 (Mon, 06 Dec 2021).

BUILD results for diffcyt on machv2

To the developers/maintainers of the diffcyt package:
- Please allow up to 24 hours (and sometimes 48 hours) for your latest push to git@git.bioconductor.org:packages/diffcyt.git to
reflect on this report. See How and When does the builder pull? When will my changes propagate? here for more information.
- Make sure to use the following settings in order to reproduce any error or warning you see on this page.

raw results

Package 505/2083HostnameOS / ArchINSTALLBUILDCHECKBUILD BIN
diffcyt 1.14.0  (landing page)
Lukas M. Weber
Snapshot Date: 2021-12-05 01:55:05 -0500 (Sun, 05 Dec 2021)
git_url: https://git.bioconductor.org/packages/diffcyt
git_branch: RELEASE_3_14
git_last_commit: 18cad99
git_last_commit_date: 2021-10-26 12:43:31 -0500 (Tue, 26 Oct 2021)
nebbiolo2Linux (Ubuntu 20.04.3 LTS) / x86_64  OK    OK    OK  UNNEEDED, same version is already published
tokay2Windows Server 2012 R2 Standard / x64  OK    OK    OK    OK  UNNEEDED, same version is already published
machv2macOS 10.14.6 Mojave / x86_64  OK    OK    OK    OK  UNNEEDED, same version is already published

Summary

Package: diffcyt
Version: 1.14.0
Command: /Library/Frameworks/R.framework/Resources/bin/R CMD build --keep-empty-dirs --no-resave-data diffcyt
StartedAt: 2021-12-05 06:54:27 -0500 (Sun, 05 Dec 2021)
EndedAt: 2021-12-05 06:56:45 -0500 (Sun, 05 Dec 2021)
EllapsedTime: 138.3 seconds
RetCode: 0
Status:   OK  
PackageFile: diffcyt_1.14.0.tar.gz
PackageFileSize: 771.8 KiB

Command output

##############################################################################
##############################################################################
###
### Running command:
###
###   /Library/Frameworks/R.framework/Resources/bin/R CMD build --keep-empty-dirs --no-resave-data diffcyt
###
##############################################################################
##############################################################################


* checking for file ‘diffcyt/DESCRIPTION’ ... OK
* preparing ‘diffcyt’:
* checking DESCRIPTION meta-information ... OK
* installing the package to build vignettes
* creating vignettes ... OK
* checking for LF line-endings in source and make files and shell scripts
* checking for empty or unneeded directories
* building ‘diffcyt_1.14.0.tar.gz’