Back to Multiple platform build/check report for BioC 3.18:   simplified   long
ABC[D]EFGHIJKLMNOPQRSTUVWXYZ

This page was generated on 2024-02-28 11:36:44 -0500 (Wed, 28 Feb 2024).

HostnameOSArch (*)R versionInstalled pkgs
nebbiolo2Linux (Ubuntu 22.04.3 LTS)x86_644.3.2 Patched (2023-11-13 r85521) -- "Eye Holes" 4692
palomino4Windows Server 2022 Datacenterx644.3.2 (2023-10-31 ucrt) -- "Eye Holes" 4445
lconwaymacOS 12.7.1 Montereyx86_644.3.2 Patched (2023-11-01 r85457) -- "Eye Holes" 4466
Click on any hostname to see more info about the system (e.g. compilers)      (*) as reported by 'uname -p', except on Windows and Mac OS X

Package 563/2266HostnameOS / ArchINSTALLBUILDCHECKBUILD BIN
diffHic 1.34.0  (landing page)
Aaron Lun
Snapshot Date: 2024-02-27 14:05:07 -0500 (Tue, 27 Feb 2024)
git_url: https://git.bioconductor.org/packages/diffHic
git_branch: RELEASE_3_18
git_last_commit: d7d9f66
git_last_commit_date: 2023-10-24 10:43:16 -0500 (Tue, 24 Oct 2023)
nebbiolo2Linux (Ubuntu 22.04.3 LTS) / x86_64  OK    OK    WARNINGS  UNNEEDED, same version is already published
palomino4Windows Server 2022 Datacenter / x64  OK    OK    WARNINGS    OK  UNNEEDED, same version is already published
lconwaymacOS 12.7.1 Monterey / x86_64  OK    OK    WARNINGS    OK  UNNEEDED, same version is already published
kjohnson1macOS 13.6.1 Ventura / arm64see weekly results here

BUILD BIN results for diffHic on palomino4


To the developers/maintainers of the diffHic package:
- Allow up to 24 hours (and sometimes 48 hours) for your latest push to git@git.bioconductor.org:packages/diffHic.git to reflect on this report. See Troubleshooting Build Report for more information.
- Use the following Renviron settings to reproduce errors and warnings.
- If 'R CMD check' started to fail recently on the Linux builder(s) over a missing dependency, add the missing dependency to 'Suggests:' in your DESCRIPTION file. See Renviron.bioc for more information.

raw results


Summary

Package: diffHic
Version: 1.34.0
Command: rm -rf diffHic.buildbin-libdir && mkdir diffHic.buildbin-libdir && F:\biocbuild\bbs-3.18-bioc\R\bin\R.exe CMD INSTALL --build --library=diffHic.buildbin-libdir diffHic_1.34.0.tar.gz
StartedAt: 2024-02-28 08:25:23 -0500 (Wed, 28 Feb 2024)
EndedAt: 2024-02-28 08:27:51 -0500 (Wed, 28 Feb 2024)
EllapsedTime: 147.8 seconds
RetCode: 0
Status:   OK  
PackageFile: diffHic_1.34.0.zip
PackageFileSize: 6.43 MiB

Command output

##############################################################################
##############################################################################
###
### Running command:
###
###   rm -rf diffHic.buildbin-libdir && mkdir diffHic.buildbin-libdir && F:\biocbuild\bbs-3.18-bioc\R\bin\R.exe CMD INSTALL --build --library=diffHic.buildbin-libdir diffHic_1.34.0.tar.gz
###
##############################################################################
##############################################################################


* installing *source* package 'diffHic' ...
** using staged installation
** libs
using C++ compiler: 'G__~1.EXE (GCC) 12.3.0'
using C++11
g++  -std=gnu++11 -I"F:/biocbuild/bbs-3.18-bioc/R/include" -DNDEBUG -D_FILE_OFFSET_BITS=64 -I'F:/biocbuild/bbs-3.18-bioc/R/library/Rhtslib/include' -I'F:/biocbuild/bbs-3.18-bioc/R/library/zlibbioc/include' -I'F:/biocbuild/bbs-3.18-bioc/R/library/Rcpp/include'   -I"C:/rtools43/x86_64-w64-mingw32.static.posix/include"     -O2 -Wall  -mfpmath=sse -msse2 -mstackrealign  -c binner.cpp -o binner.o
g++  -std=gnu++11 -I"F:/biocbuild/bbs-3.18-bioc/R/include" -DNDEBUG -D_FILE_OFFSET_BITS=64 -I'F:/biocbuild/bbs-3.18-bioc/R/library/Rhtslib/include' -I'F:/biocbuild/bbs-3.18-bioc/R/library/zlibbioc/include' -I'F:/biocbuild/bbs-3.18-bioc/R/library/Rcpp/include'   -I"C:/rtools43/x86_64-w64-mingw32.static.posix/include"     -O2 -Wall  -mfpmath=sse -msse2 -mstackrealign  -c check_input.cpp -o check_input.o
g++  -std=gnu++11 -I"F:/biocbuild/bbs-3.18-bioc/R/include" -DNDEBUG -D_FILE_OFFSET_BITS=64 -I'F:/biocbuild/bbs-3.18-bioc/R/library/Rhtslib/include' -I'F:/biocbuild/bbs-3.18-bioc/R/library/zlibbioc/include' -I'F:/biocbuild/bbs-3.18-bioc/R/library/Rcpp/include'   -I"C:/rtools43/x86_64-w64-mingw32.static.posix/include"     -O2 -Wall  -mfpmath=sse -msse2 -mstackrealign  -c cluster_2d.cpp -o cluster_2d.o
g++  -std=gnu++11 -I"F:/biocbuild/bbs-3.18-bioc/R/include" -DNDEBUG -D_FILE_OFFSET_BITS=64 -I'F:/biocbuild/bbs-3.18-bioc/R/library/Rhtslib/include' -I'F:/biocbuild/bbs-3.18-bioc/R/library/zlibbioc/include' -I'F:/biocbuild/bbs-3.18-bioc/R/library/Rcpp/include'   -I"C:/rtools43/x86_64-w64-mingw32.static.posix/include"     -O2 -Wall  -mfpmath=sse -msse2 -mstackrealign  -c count_background.cpp -o count_background.o
g++  -std=gnu++11 -I"F:/biocbuild/bbs-3.18-bioc/R/include" -DNDEBUG -D_FILE_OFFSET_BITS=64 -I'F:/biocbuild/bbs-3.18-bioc/R/library/Rhtslib/include' -I'F:/biocbuild/bbs-3.18-bioc/R/library/zlibbioc/include' -I'F:/biocbuild/bbs-3.18-bioc/R/library/Rcpp/include'   -I"C:/rtools43/x86_64-w64-mingw32.static.posix/include"     -O2 -Wall  -mfpmath=sse -msse2 -mstackrealign  -c count_connect.cpp -o count_connect.o
count_connect.cpp: In function 'SEXPREC* count_connect(SEXP, SEXP)':
count_connect.cpp:57:30: warning: comparison of integer expressions of different signedness: 'size_t' {aka 'long long unsigned int'} and 'const int' [-Wsign-compare]
   57 |     for (size_t odex=0; odex < ncombos; ++odex) {
      |                         ~~~~~^~~~~~~~~
g++  -std=gnu++11 -I"F:/biocbuild/bbs-3.18-bioc/R/include" -DNDEBUG -D_FILE_OFFSET_BITS=64 -I'F:/biocbuild/bbs-3.18-bioc/R/library/Rhtslib/include' -I'F:/biocbuild/bbs-3.18-bioc/R/library/zlibbioc/include' -I'F:/biocbuild/bbs-3.18-bioc/R/library/Rcpp/include'   -I"C:/rtools43/x86_64-w64-mingw32.static.posix/include"     -O2 -Wall  -mfpmath=sse -msse2 -mstackrealign  -c count_patch.cpp -o count_patch.o
count_patch.cpp: In function 'SEXPREC* count_patch(SEXP, SEXP, SEXP, SEXP, SEXP)':
count_patch.cpp:45:33: warning: comparison of integer expressions of different signedness: 'size_t' {aka 'long long unsigned int'} and 'const int' [-Wsign-compare]
   45 |     for (size_t vecdex=0; vecdex<ncombos; ++vecdex) {
      |                           ~~~~~~^~~~~~~~
g++  -std=gnu++11 -I"F:/biocbuild/bbs-3.18-bioc/R/include" -DNDEBUG -D_FILE_OFFSET_BITS=64 -I'F:/biocbuild/bbs-3.18-bioc/R/library/Rhtslib/include' -I'F:/biocbuild/bbs-3.18-bioc/R/library/zlibbioc/include' -I'F:/biocbuild/bbs-3.18-bioc/R/library/Rcpp/include'   -I"C:/rtools43/x86_64-w64-mingw32.static.posix/include"     -O2 -Wall  -mfpmath=sse -msse2 -mstackrealign  -c directionality.cpp -o directionality.o
g++  -std=gnu++11 -I"F:/biocbuild/bbs-3.18-bioc/R/include" -DNDEBUG -D_FILE_OFFSET_BITS=64 -I'F:/biocbuild/bbs-3.18-bioc/R/library/Rhtslib/include' -I'F:/biocbuild/bbs-3.18-bioc/R/library/zlibbioc/include' -I'F:/biocbuild/bbs-3.18-bioc/R/library/Rcpp/include'   -I"C:/rtools43/x86_64-w64-mingw32.static.posix/include"     -O2 -Wall  -mfpmath=sse -msse2 -mstackrealign  -c init.cpp -o init.o
g++  -std=gnu++11 -I"F:/biocbuild/bbs-3.18-bioc/R/include" -DNDEBUG -D_FILE_OFFSET_BITS=64 -I'F:/biocbuild/bbs-3.18-bioc/R/library/Rhtslib/include' -I'F:/biocbuild/bbs-3.18-bioc/R/library/zlibbioc/include' -I'F:/biocbuild/bbs-3.18-bioc/R/library/Rcpp/include'   -I"C:/rtools43/x86_64-w64-mingw32.static.posix/include"     -O2 -Wall  -mfpmath=sse -msse2 -mstackrealign  -c iterative_correction.cpp -o iterative_correction.o
g++  -std=gnu++11 -I"F:/biocbuild/bbs-3.18-bioc/R/include" -DNDEBUG -D_FILE_OFFSET_BITS=64 -I'F:/biocbuild/bbs-3.18-bioc/R/library/Rhtslib/include' -I'F:/biocbuild/bbs-3.18-bioc/R/library/zlibbioc/include' -I'F:/biocbuild/bbs-3.18-bioc/R/library/Rcpp/include'   -I"C:/rtools43/x86_64-w64-mingw32.static.posix/include"     -O2 -Wall  -mfpmath=sse -msse2 -mstackrealign  -c neighbors.cpp -o neighbors.o
g++  -std=gnu++11 -I"F:/biocbuild/bbs-3.18-bioc/R/include" -DNDEBUG -D_FILE_OFFSET_BITS=64 -I'F:/biocbuild/bbs-3.18-bioc/R/library/Rhtslib/include' -I'F:/biocbuild/bbs-3.18-bioc/R/library/zlibbioc/include' -I'F:/biocbuild/bbs-3.18-bioc/R/library/Rcpp/include'   -I"C:/rtools43/x86_64-w64-mingw32.static.posix/include"     -O2 -Wall  -mfpmath=sse -msse2 -mstackrealign  -c pair_stats.cpp -o pair_stats.o
g++  -std=gnu++11 -I"F:/biocbuild/bbs-3.18-bioc/R/include" -DNDEBUG -D_FILE_OFFSET_BITS=64 -I'F:/biocbuild/bbs-3.18-bioc/R/library/Rhtslib/include' -I'F:/biocbuild/bbs-3.18-bioc/R/library/zlibbioc/include' -I'F:/biocbuild/bbs-3.18-bioc/R/library/Rcpp/include'   -I"C:/rtools43/x86_64-w64-mingw32.static.posix/include"     -O2 -Wall  -mfpmath=sse -msse2 -mstackrealign  -c quadrant_bg.cpp -o quadrant_bg.o
g++  -std=gnu++11 -I"F:/biocbuild/bbs-3.18-bioc/R/include" -DNDEBUG -D_FILE_OFFSET_BITS=64 -I'F:/biocbuild/bbs-3.18-bioc/R/library/Rhtslib/include' -I'F:/biocbuild/bbs-3.18-bioc/R/library/zlibbioc/include' -I'F:/biocbuild/bbs-3.18-bioc/R/library/Rcpp/include'   -I"C:/rtools43/x86_64-w64-mingw32.static.posix/include"     -O2 -Wall  -mfpmath=sse -msse2 -mstackrealign  -c report_hic_pairs.cpp -o report_hic_pairs.o
g++  -std=gnu++11 -I"F:/biocbuild/bbs-3.18-bioc/R/include" -DNDEBUG -D_FILE_OFFSET_BITS=64 -I'F:/biocbuild/bbs-3.18-bioc/R/library/Rhtslib/include' -I'F:/biocbuild/bbs-3.18-bioc/R/library/zlibbioc/include' -I'F:/biocbuild/bbs-3.18-bioc/R/library/Rcpp/include'   -I"C:/rtools43/x86_64-w64-mingw32.static.posix/include"     -O2 -Wall  -mfpmath=sse -msse2 -mstackrealign  -c trended_filter.cpp -o trended_filter.o
g++  -std=gnu++11 -I"F:/biocbuild/bbs-3.18-bioc/R/include" -DNDEBUG -D_FILE_OFFSET_BITS=64 -I'F:/biocbuild/bbs-3.18-bioc/R/library/Rhtslib/include' -I'F:/biocbuild/bbs-3.18-bioc/R/library/zlibbioc/include' -I'F:/biocbuild/bbs-3.18-bioc/R/library/Rcpp/include'   -I"C:/rtools43/x86_64-w64-mingw32.static.posix/include"     -O2 -Wall  -mfpmath=sse -msse2 -mstackrealign  -c utils.cpp -o utils.o
g++ -shared -s -static-libgcc -o diffHic.dll tmp.def binner.o check_input.o cluster_2d.o count_background.o count_connect.o count_patch.o directionality.o init.o iterative_correction.o neighbors.o pair_stats.o quadrant_bg.o report_hic_pairs.o trended_filter.o utils.o F:/biocbuild/bbs-3.18-bioc/R/library/Rhtslib/usrlib/x64/libhts.a -lz -lm -lbz2 -llzma -lcurl -lbcrypt -lidn2 -lunistring -liconv -lssl -lcrypto -lcrypt32 -lwsock32 -lwldap32 -lssh2 -lgcrypt -lgpg-error -lws2_32 -lzstd -lregex -LC:/rtools43/x86_64-w64-mingw32.static.posix/lib/x64 -LC:/rtools43/x86_64-w64-mingw32.static.posix/lib -LF:/biocbuild/bbs-3.18-bioc/R/bin/x64 -lR
installing to F:/biocbuild/bbs-3.18-bioc/meat/diffHic.buildbin-libdir/00LOCK-diffHic/00new/diffHic/libs/x64
** R
** inst
** byte-compile and prepare package for lazy loading
** help
*** installing help indices
** building package indices
** installing vignettes
** testing if installed package can be loaded from temporary location
** testing if installed package can be loaded from final location
** testing if installed package keeps a record of temporary installation path
* MD5 sums
packaged installation of 'diffHic' as diffHic_1.34.0.zip
* DONE (diffHic)