Name | Last modified | Size | Description | |
---|---|---|---|---|
Parent Directory | - | |||
buildbin-out.txt | 30-Mar-2024 00:36 | 1.1K | ||
buildbin-summary.dcf | 30-Mar-2024 00:36 | 568 | ||
buildsrc-out.txt | 30-Mar-2024 00:36 | 1.0K | ||
buildsrc-summary.dcf | 30-Mar-2024 00:36 | 487 | ||
checksrc-out.txt | 30-Mar-2024 00:36 | 5.1K | ||
checksrc-summary.dcf | 30-Mar-2024 00:36 | 482 | ||
install-out.txt | 30-Mar-2024 00:36 | 1.0K | ||
install-summary.dcf | 30-Mar-2024 00:36 | 286 | ||