Name | Last modified | Size | Description | |
---|---|---|---|---|
Parent Directory | - | |||
install-summary.dcf | 12-Jun-2024 03:42 | 281 | ||
install-out.txt | 12-Jun-2024 03:42 | 1.0K | ||
checksrc-summary.dcf | 12-Jun-2024 03:42 | 468 | ||
checksrc-out.txt | 12-Jun-2024 03:42 | 3.3K | ||
buildsrc-summary.dcf | 12-Jun-2024 03:42 | 446 | ||
buildsrc-out.txt | 12-Jun-2024 03:42 | 880 | ||
buildbin-summary.dcf | 12-Jun-2024 03:42 | 566 | ||
buildbin-out.txt | 12-Jun-2024 03:42 | 1.2K | ||