Name | Last modified | Size | Description | |
---|---|---|---|---|
Parent Directory | - | |||
buildbin-out.txt | 18-Feb-2024 16:28 | 1.2K | ||
buildbin-summary.dcf | 18-Feb-2024 16:28 | 566 | ||
buildsrc-out.txt | 05-Mar-2024 01:39 | 1.1K | ||
buildsrc-summary.dcf | 05-Mar-2024 01:39 | 355 | ||
checksrc-out.txt | 18-Feb-2024 16:28 | 4.0K | ||
checksrc-summary.dcf | 18-Feb-2024 16:28 | 468 | ||
install-out.txt | 05-Mar-2024 01:39 | 1.0K | ||
install-summary.dcf | 05-Mar-2024 01:39 | 281 | ||