Back to Multiple platform build/check report for BioC 3.14
ABC[D]EFGHIJKLMNOPQRSTUVWXYZ

This page was generated on 2022-01-26 13:07:53 -0500 (Wed, 26 Jan 2022).

HostnameOSArch (*)R versionInstalled pkgs
nebbiolo2Linux (Ubuntu 20.04.4 LTS)x86_644.1.2 (2021-11-01) -- "Bird Hippie" 4329
tokay2Windows Server 2012 R2 Standardx644.1.2 (2021-11-01) -- "Bird Hippie" 4080
machv2macOS 10.14.6 Mojavex86_644.1.2 (2021-11-01) -- "Bird Hippie" 4141
Click on any hostname to see more info about the system (e.g. compilers)      (*) as reported by 'uname -p', except on Windows and Mac OS X

BUILD BIN results for decoupleR on machv2


To the developers/maintainers of the decoupleR package:
- Please allow up to 24 hours (and sometimes 48 hours) for your latest push to git@git.bioconductor.org:packages/decoupleR.git to
reflect on this report. See How and When does the builder pull? When will my changes propagate? here for more information.
- Make sure to use the following settings in order to reproduce any error or warning you see on this page.

raw results

Package 468/2083HostnameOS / ArchINSTALLBUILDCHECKBUILD BIN
decoupleR 2.0.0  (landing page)
Jesús Vélez
Snapshot Date: 2022-01-25 01:55:07 -0500 (Tue, 25 Jan 2022)
git_url: https://git.bioconductor.org/packages/decoupleR
git_branch: RELEASE_3_14
git_last_commit: b00f6bf
git_last_commit_date: 2021-10-26 13:10:14 -0500 (Tue, 26 Oct 2021)
nebbiolo2Linux (Ubuntu 20.04.4 LTS) / x86_64  OK    OK    OK  UNNEEDED, same version is already published
tokay2Windows Server 2012 R2 Standard / x64  OK    OK    OK    OK  UNNEEDED, same version is already published
machv2macOS 10.14.6 Mojave / x86_64  OK    OK    OK    OK  UNNEEDED, same version is already published

Summary

Package: decoupleR
Version: 2.0.0
Command: rm -rf decoupleR.buildbin-libdir && mkdir decoupleR.buildbin-libdir && /Users/biocbuild/BBS/utils/build-universal.sh decoupleR_2.0.0.tar.gz /Library/Frameworks/R.framework/Resources/bin/R decoupleR.buildbin-libdir
StartedAt: 2022-01-25 20:10:54 -0500 (Tue, 25 Jan 2022)
EndedAt: 2022-01-25 20:11:31 -0500 (Tue, 25 Jan 2022)
EllapsedTime: 36.7 seconds
RetCode: 0
Status:   OK  
PackageFile: decoupleR_2.0.0.tgz
PackageFileSize: 761.3 KiB

Command output

##############################################################################
##############################################################################
###
### Running command:
###
###   rm -rf decoupleR.buildbin-libdir && mkdir decoupleR.buildbin-libdir && /Users/biocbuild/BBS/utils/build-universal.sh decoupleR_2.0.0.tar.gz /Library/Frameworks/R.framework/Resources/bin/R decoupleR.buildbin-libdir
###
##############################################################################
##############################################################################


>>>>>>> 
>>>>>>> INSTALLATION WITH 'R CMD INSTALL --preclean --no-multiarch --library=decoupleR.buildbin-libdir decoupleR_2.0.0.tar.gz'
>>>>>>> 

* installing *source* package ‘decoupleR’ ...
** using staged installation
** R
** inst
** byte-compile and prepare package for lazy loading
** help
*** installing help indices
** building package indices
** installing vignettes
** testing if installed package can be loaded from temporary location
** testing if installed package can be loaded from final location
** testing if installed package keeps a record of temporary installation path
* DONE (decoupleR)