Name | Last modified | Size | Description | |
---|---|---|---|---|
Parent Directory | - | |||
install-summary.dcf | 27-Jul-2024 06:41 | 269 | ||
install-out.txt | 27-Jul-2024 06:41 | 32K | ||
checksrc-summary.dcf | 27-Jul-2024 06:41 | 448 | ||
checksrc-out.txt | 27-Jul-2024 06:41 | 4.8K | ||
buildsrc-summary.dcf | 27-Jul-2024 06:41 | 426 | ||
buildsrc-out.txt | 27-Jul-2024 06:41 | 845 | ||
buildbin-summary.dcf | 27-Jul-2024 06:41 | 528 | ||
buildbin-out.txt | 27-Jul-2024 06:41 | 34K | ||