Index of /checkResults/release/bioc-LATEST/deco/raw-results/palomino4
Name
Last modified
Size
Description
Parent Directory
-
buildsrc-out.txt
30-Mar-2024 00:36
1.0K
buildsrc-summary.dcf
30-Mar-2024 00:36
359
install-out.txt
30-Mar-2024 00:36
1.1K
install-summary.dcf
30-Mar-2024 00:36
262