Index of /checkResults/release/bioc-LATEST/deco/raw-results/nebbiolo2
Name
Last modified
Size
Description
Parent Directory
-
buildsrc-out.txt
30-Mar-2024 00:35
1.0K
buildsrc-summary.dcf
30-Mar-2024 00:35
327
install-out.txt
30-Mar-2024 00:35
1.1K
install-summary.dcf
30-Mar-2024 00:35
253