Index of /checkResults/release/bioc-LATEST/deco/raw-results/merida1
Name
Last modified
Size
Description
Parent Directory
-
buildsrc-out.txt
30-Mar-2024 00:37
1.0K
buildsrc-summary.dcf
30-Mar-2024 00:37
338
install-out.txt
30-Mar-2024 00:37
1.1K
install-summary.dcf
30-Mar-2024 00:37
263