Index of /checkResults/release/bioc-LATEST/deco/raw-results/lconway
Name
Last modified
Size
Description
Parent Directory
-
buildsrc-out.txt
05-Mar-2024 01:37
1.0K
buildsrc-summary.dcf
05-Mar-2024 01:37
337
install-out.txt
05-Mar-2024 01:37
1.1K
install-summary.dcf
05-Mar-2024 01:37
263