Index of /checkResults/release/bioc-LATEST/deco/raw-results/kunpeng2
Name
Last modified
Size
Description
Parent Directory
-
buildsrc-out.txt
03-Nov-2023 00:40
1.0K
buildsrc-summary.dcf
03-Nov-2023 00:40
321
install-out.txt
03-Nov-2023 00:40
1.1K
install-summary.dcf
03-Nov-2023 00:40
247