Back to Multiple platform build/check report for BioC 3.16: simplified long |
|
This page was generated on 2023-03-29 11:06:04 -0400 (Wed, 29 Mar 2023).
Hostname | OS | Arch (*) | R version | Installed pkgs |
---|---|---|---|---|
nebbiolo2 | Linux (Ubuntu 20.04.5 LTS) | x86_64 | 4.2.3 (2023-03-15) -- "Shortstop Beagle" | 4482 |
palomino4 | Windows Server 2022 Datacenter | x64 | 4.2.3 (2023-03-15 ucrt) -- "Shortstop Beagle" | 4278 |
lconway | macOS 12.5.1 Monterey | x86_64 | 4.2.3 (2023-03-15) -- "Shortstop Beagle" | 4306 |
Click on any hostname to see more info about the system (e.g. compilers) (*) as reported by 'uname -p', except on Windows and Mac OS X |
To the developers/maintainers of the deco package: - Please allow up to 24 hours (and sometimes 48 hours) for your latest push to git@git.bioconductor.org:packages/deco.git to reflect on this report. See How and When does the builder pull? When will my changes propagate? for more information. - Make sure to use the following settings in order to reproduce any error or warning you see on this page. |
Package 488/2183 | Hostname | OS / Arch | INSTALL | BUILD | CHECK | BUILD BIN | ||||||||
deco 1.14.0 (landing page) Francisco Jose Campos Laborie
| nebbiolo2 | Linux (Ubuntu 20.04.5 LTS) / x86_64 | OK | OK | ERROR | |||||||||
palomino4 | Windows Server 2022 Datacenter / x64 | OK | OK | OK | OK | ![]() | ||||||||
lconway | macOS 12.5.1 Monterey / x86_64 | OK | OK | OK | OK | ![]() | ||||||||
Package: deco |
Version: 1.14.0 |
Command: /Library/Frameworks/R.framework/Resources/bin/R CMD check --install=check:deco.install-out.txt --library=/Library/Frameworks/R.framework/Resources/library --no-vignettes --timings deco_1.14.0.tar.gz |
StartedAt: 2023-03-27 19:50:54 -0400 (Mon, 27 Mar 2023) |
EndedAt: 2023-03-27 19:54:06 -0400 (Mon, 27 Mar 2023) |
EllapsedTime: 192.5 seconds |
RetCode: 0 |
Status: OK |
CheckDir: deco.Rcheck |
Warnings: 0 |
############################################################################## ############################################################################## ### ### Running command: ### ### /Library/Frameworks/R.framework/Resources/bin/R CMD check --install=check:deco.install-out.txt --library=/Library/Frameworks/R.framework/Resources/library --no-vignettes --timings deco_1.14.0.tar.gz ### ############################################################################## ############################################################################## * using log directory ‘/Users/biocbuild/bbs-3.16-bioc/meat/deco.Rcheck’ * using R version 4.2.3 (2023-03-15) * using platform: x86_64-apple-darwin17.0 (64-bit) * using session charset: UTF-8 * using option ‘--no-vignettes’ * checking for file ‘deco/DESCRIPTION’ ... OK * checking extension type ... Package * this is package ‘deco’ version ‘1.14.0’ * checking package namespace information ... OK * checking package dependencies ... OK * checking if this is a source package ... OK * checking if there is a namespace ... OK * checking for hidden files and directories ... OK * checking for portable file names ... OK * checking for sufficient/correct file permissions ... OK * checking whether package ‘deco’ can be installed ... OK * checking installed package size ... OK * checking package directory ... OK * checking ‘build’ directory ... OK * checking DESCRIPTION meta-information ... OK * checking top-level files ... OK * checking for left-over files ... OK * checking index information ... OK * checking package subdirectories ... OK * checking R files for non-ASCII characters ... OK * checking R files for syntax errors ... OK * checking whether the package can be loaded ... OK * checking whether the package can be loaded with stated dependencies ... OK * checking whether the package can be unloaded cleanly ... OK * checking whether the namespace can be loaded with stated dependencies ... OK * checking whether the namespace can be unloaded cleanly ... OK * checking dependencies in R code ... NOTE There are ::: calls to the package's namespace in its code. A package almost never needs to use ::: for its own objects: ‘.analysisType’ ‘.heatplot.2’ * checking S3 generic/method consistency ... OK * checking replacement functions ... OK * checking foreign function calls ... OK * checking R code for possible problems ... NOTE plotAssociationH: no visible binding for global variable ‘Subclasses’ plotAssociationH: no visible binding for global variable ‘h.statistic’ plotAssociationH: no visible binding for global variable ‘input.info’ plotAssociationH: no visible binding for global variable ‘DECO.subclasses’ plotAssociationH: no visible binding for global variable ‘Samples’ plotAssociationH: no visible binding for global variable ‘Features’ plotGainingH: no visible binding for global variable ‘omic.data’ plotGainingH: no visible binding for global variable ‘h.statistic’ plotGainingH: no visible binding for global variable ‘ranking’ Undefined global functions or variables: DECO.subclasses Features Samples Subclasses h.statistic input.info omic.data ranking * checking Rd files ... OK * checking Rd metadata ... OK * checking Rd cross-references ... OK * checking for missing documentation entries ... OK * checking for code/documentation mismatches ... OK * checking Rd \usage sections ... OK * checking Rd contents ... OK * checking for unstated dependencies in examples ... OK * checking contents of ‘data’ directory ... OK * checking data for non-ASCII characters ... OK * checking data for ASCII and uncompressed saves ... OK * checking files in ‘vignettes’ ... OK * checking examples ... OK * checking for unstated dependencies in vignettes ... OK * checking package vignettes in ‘inst/doc’ ... OK * checking running R code from vignettes ... SKIPPED * checking re-building of vignette outputs ... SKIPPED * checking PDF version of manual ... OK * DONE Status: 2 NOTEs See ‘/Users/biocbuild/bbs-3.16-bioc/meat/deco.Rcheck/00check.log’ for details.
deco.Rcheck/00install.out
############################################################################## ############################################################################## ### ### Running command: ### ### /Library/Frameworks/R.framework/Resources/bin/R CMD INSTALL deco ### ############################################################################## ############################################################################## * installing to library ‘/Library/Frameworks/R.framework/Versions/4.2/Resources/library’ * installing *source* package ‘deco’ ... ** using staged installation ** R ** data ** inst ** byte-compile and prepare package for lazy loading ** help *** installing help indices ** building package indices ** installing vignettes ** testing if installed package can be loaded from temporary location ** testing if installed package can be loaded from final location ** testing if installed package keeps a record of temporary installation path * DONE (deco)
deco.Rcheck/deco-Ex.timings
name | user | system | elapsed | |
ALCLdata | 0.192 | 0.013 | 0.207 | |
AnnotateDECO | 0.124 | 0.004 | 0.129 | |
NSCAcluster | 0.655 | 0.792 | 1.455 | |
deco-class | 0.001 | 0.000 | 0.001 | |
deco-package | 0.664 | 0.004 | 0.668 | |
decoNSCA | 0.705 | 0.008 | 0.715 | |
decoRDA | 0.140 | 0.004 | 0.146 | |
decoReport | 0.117 | 0.004 | 0.121 | |
featureTable | 0.120 | 0.005 | 0.126 | |
plotAssociationH | 1.944 | 0.098 | 2.052 | |
plotDECOProfile | 0.113 | 0.002 | 0.115 | |
plotGainingH | 1.207 | 0.040 | 1.252 | |
plotHeatmapH | 0.129 | 0.004 | 0.132 | |