Index of /checkResults/release/bioc-LATEST/dearseq/raw-results
Name
Last modified
Size
Description
Parent Directory
-
riesling1/
19-Mar-2022 00:07
-
palomino3/
24-May-2022 01:06
-
nebbiolo1/
24-May-2022 01:05
-
merida1/
24-May-2022 01:07
-
info.dcf
24-May-2022 01:07
281