Back to Multiple platform build/check report for BioC 3.14
ABC[D]EFGHIJKLMNOPQRSTUVWXYZ

This page was generated on 2022-01-21 13:07:37 -0500 (Fri, 21 Jan 2022).

HostnameOSArch (*)R versionInstalled pkgs
nebbiolo2Linux (Ubuntu 20.04.4 LTS)x86_644.1.2 (2021-11-01) -- "Bird Hippie" 4329
tokay2Windows Server 2012 R2 Standardx644.1.2 (2021-11-01) -- "Bird Hippie" 4079
machv2macOS 10.14.6 Mojavex86_644.1.2 (2021-11-01) -- "Bird Hippie" 4140
Click on any hostname to see more info about the system (e.g. compilers)      (*) as reported by 'uname -p', except on Windows and Mac OS X

BUILD BIN results for dearseq on machv2


To the developers/maintainers of the dearseq package:
- Please allow up to 24 hours (and sometimes 48 hours) for your latest push to git@git.bioconductor.org:packages/dearseq.git to
reflect on this report. See How and When does the builder pull? When will my changes propagate? here for more information.
- Make sure to use the following settings in order to reproduce any error or warning you see on this page.

raw results

Package 458/2083HostnameOS / ArchINSTALLBUILDCHECKBUILD BIN
dearseq 1.6.0  (landing page)
Boris P. Hejblum
Snapshot Date: 2022-01-20 01:55:04 -0500 (Thu, 20 Jan 2022)
git_url: https://git.bioconductor.org/packages/dearseq
git_branch: RELEASE_3_14
git_last_commit: 40a9767
git_last_commit_date: 2021-10-26 12:56:40 -0500 (Tue, 26 Oct 2021)
nebbiolo2Linux (Ubuntu 20.04.4 LTS) / x86_64  OK    OK    OK  UNNEEDED, same version is already published
tokay2Windows Server 2012 R2 Standard / x64  OK    OK    OK    OK  UNNEEDED, same version is already published
machv2macOS 10.14.6 Mojave / x86_64  OK    OK    OK    OK  UNNEEDED, same version is already published

Summary

Package: dearseq
Version: 1.6.0
Command: rm -rf dearseq.buildbin-libdir && mkdir dearseq.buildbin-libdir && /Users/biocbuild/BBS/utils/build-universal.sh dearseq_1.6.0.tar.gz /Library/Frameworks/R.framework/Resources/bin/R dearseq.buildbin-libdir
StartedAt: 2022-01-20 20:09:27 -0500 (Thu, 20 Jan 2022)
EndedAt: 2022-01-20 20:09:44 -0500 (Thu, 20 Jan 2022)
EllapsedTime: 16.4 seconds
RetCode: 0
Status:   OK  
PackageFile: dearseq_1.6.0.tgz
PackageFileSize: 872.2 KiB

Command output

##############################################################################
##############################################################################
###
### Running command:
###
###   rm -rf dearseq.buildbin-libdir && mkdir dearseq.buildbin-libdir && /Users/biocbuild/BBS/utils/build-universal.sh dearseq_1.6.0.tar.gz /Library/Frameworks/R.framework/Resources/bin/R dearseq.buildbin-libdir
###
##############################################################################
##############################################################################


>>>>>>> 
>>>>>>> INSTALLATION WITH 'R CMD INSTALL --preclean --no-multiarch --library=dearseq.buildbin-libdir dearseq_1.6.0.tar.gz'
>>>>>>> 

* installing *source* package ‘dearseq’ ...
** using staged installation
** R
** data
*** moving datasets to lazyload DB
** inst
** byte-compile and prepare package for lazy loading
** help
*** installing help indices
*** copying figures
** building package indices
** installing vignettes
** testing if installed package can be loaded from temporary location
** testing if installed package can be loaded from final location
** testing if installed package keeps a record of temporary installation path
* DONE (dearseq)