Back to Multiple platform build/check report for BioC 3.12
ABC[D]EFGHIJKLMNOPQRSTUVWXYZ

INSTALL report for dcGSA on merida1

This page was generated on 2021-02-22 12:42:21 -0500 (Mon, 22 Feb 2021).

To the developers/maintainers of the dcGSA package:
Please make sure to use the following settings in order to reproduce any error or warning you see on this page.
Package 430/1974HostnameOS / ArchINSTALLBUILDCHECKBUILD BIN
dcGSA 1.18.0
Jiehuan sun
Snapshot Date: 2021-02-21 14:52:07 -0500 (Sun, 21 Feb 2021)
URL: https://git.bioconductor.org/packages/dcGSA
Branch: RELEASE_3_12
Last Commit: a0a7d07
Last Changed Date: 2020-10-27 11:09:54 -0500 (Tue, 27 Oct 2020)
malbec1Linux (Ubuntu 18.04.5 LTS) / x86_64  OK    OK    WARNINGS  UNNEEDED, same version exists in internal repository
nebbiolo1Linux (Ubuntu 20.04.2 LTS) / x86_64  OK    OK    WARNINGS  
tokay1Windows Server 2012 R2 Standard / x64  OK    OK    WARNINGS    OK  UNNEEDED, same version exists in internal repository
merida1macOS 10.14.6 Mojave / x86_64  OK    OK    WARNINGS    OK  UNNEEDED, same version exists in internal repository

Summary

Package: dcGSA
Version: 1.18.0
Command: /Library/Frameworks/R.framework/Versions/Current/Resources/bin/R CMD INSTALL dcGSA
StartedAt: 2021-02-21 16:17:33 -0500 (Sun, 21 Feb 2021)
EndedAt: 2021-02-21 16:18:19 -0500 (Sun, 21 Feb 2021)
EllapsedTime: 45.3 seconds
RetCode: 0
Status:   OK  

Command output

##############################################################################
##############################################################################
###
### Running command:
###
###   /Library/Frameworks/R.framework/Versions/Current/Resources/bin/R CMD INSTALL dcGSA
###
##############################################################################
##############################################################################


* installing to library ‘/Library/Frameworks/R.framework/Versions/4.0/Resources/library’
* installing *source* package ‘dcGSA’ ...
** using staged installation
** R
** data
*** moving datasets to lazyload DB
** inst
** byte-compile and prepare package for lazy loading
** help
*** installing help indices
** building package indices
** installing vignettes
** testing if installed package can be loaded from temporary location
** testing if installed package can be loaded from final location
** testing if installed package keeps a record of temporary installation path
* DONE (dcGSA)