Back to Multiple platform build/check report for BioC 3.13
AB[C]DEFGHIJKLMNOPQRSTUVWXYZ

This page was generated on 2021-10-13 15:05:20 -0400 (Wed, 13 Oct 2021).

BUILD BIN results for cytolib on tokay2

To the developers/maintainers of the cytolib package:
- Please allow up to 24 hours (and sometimes 48 hours) for your latest push to git@git.bioconductor.org:packages/cytolib.git to
reflect on this report. See How and When does the builder pull? When will my changes propagate? here for more information.
- Make sure to use the following settings in order to reproduce any error or warning you see on this page.

raw results

Package 433/2041HostnameOS / ArchINSTALLBUILDCHECKBUILD BIN
cytolib 2.4.0  (landing page)
Mike Jiang
Snapshot Date: 2021-10-12 04:50:13 -0400 (Tue, 12 Oct 2021)
git_url: https://git.bioconductor.org/packages/cytolib
git_branch: RELEASE_3_13
git_last_commit: 652ea2c
git_last_commit_date: 2021-05-19 12:29:37 -0400 (Wed, 19 May 2021)
nebbiolo1Linux (Ubuntu 20.04.2 LTS) / x86_64  OK    OK    OK  UNNEEDED, same version is already published
tokay2Windows Server 2012 R2 Standard / x64  OK    OK    OK    OK  UNNEEDED, same version is already published
machv2macOS 10.14.6 Mojave / x86_64  OK    OK    OK    OK  UNNEEDED, same version is already published

Summary

Package: cytolib
Version: 2.4.0
Command: rm -rf cytolib.buildbin-libdir && mkdir cytolib.buildbin-libdir && C:\Users\biocbuild\bbs-3.13-bioc\R\bin\R.exe CMD INSTALL --merge-multiarch --build --library=cytolib.buildbin-libdir cytolib_2.4.0.tar.gz
StartedAt: 2021-10-13 08:25:44 -0400 (Wed, 13 Oct 2021)
EndedAt: 2021-10-13 08:33:23 -0400 (Wed, 13 Oct 2021)
EllapsedTime: 459.7 seconds
RetCode: 0
Status:   OK  
PackageFile: cytolib_2.4.0.zip
PackageFileSize: 7.849 MiB

Command output

##############################################################################
##############################################################################
###
### Running command:
###
###   rm -rf cytolib.buildbin-libdir && mkdir cytolib.buildbin-libdir && C:\Users\biocbuild\bbs-3.13-bioc\R\bin\R.exe CMD INSTALL --merge-multiarch --build --library=cytolib.buildbin-libdir cytolib_2.4.0.tar.gz
###
##############################################################################
##############################################################################



install for i386

* installing *source* package 'cytolib' ...
** using staged installation
** preparing to configure package 'cytolib' ...
*** configured file: 'cytolibConfig.h.in' => 'inst/include/cytolib/cytolibConfig.h'
*** configured file: 'src/Makevars.in' => 'src/Makevars'
** finished configure for package 'cytolib'
** libs
"C:/rtools40/mingw32/bin/"g++  -std=gnu++11 -I"C:/Users/BIOCBU~1/BBS-3~1.13-/R/include" -DNDEBUG -DROUT -I../inst/include -DRCPP_PARALLEL_USE_TBB=1 -fpermissive -DBOOST_NO_AUTO_PTR  -I'C:/Users/biocbuild/bbs-3.13-bioc/R/library/Rcpp/include' -I'C:/Users/biocbuild/bbs-3.13-bioc/R/library/BH/include' -I'C:/Users/biocbuild/bbs-3.13-bioc/R/library/RProtoBufLib/include' -I'C:/Users/biocbuild/bbs-3.13-bioc/R/library/Rhdf5lib/include' -I'C:/Users/biocbuild/bbs-3.13-bioc/R/library/RcppArmadillo/include' -I'C:/Users/biocbuild/bbs-3.13-bioc/R/library/RcppParallel/include'   -I"c:/extsoft/include"     -O2 -Wall  -mfpmath=sse -msse2 -mstackrealign  -c boost/libs/system/src/error_code.cpp -o boost/libs/system/src/error_code.o
"C:/rtools40/mingw32/bin/"g++  -std=gnu++11 -I"C:/Users/BIOCBU~1/BBS-3~1.13-/R/include" -DNDEBUG -DROUT -I../inst/include -DRCPP_PARALLEL_USE_TBB=1 -fpermissive -DBOOST_NO_AUTO_PTR  -I'C:/Users/biocbuild/bbs-3.13-bioc/R/library/Rcpp/include' -I'C:/Users/biocbuild/bbs-3.13-bioc/R/library/BH/include' -I'C:/Users/biocbuild/bbs-3.13-bioc/R/library/RProtoBufLib/include' -I'C:/Users/biocbuild/bbs-3.13-bioc/R/library/Rhdf5lib/include' -I'C:/Users/biocbuild/bbs-3.13-bioc/R/library/RcppArmadillo/include' -I'C:/Users/biocbuild/bbs-3.13-bioc/R/library/RcppParallel/include'   -I"c:/extsoft/include"     -O2 -Wall  -mfpmath=sse -msse2 -mstackrealign  -c boost/libs/filesystem/src/portability.cpp -o boost/libs/filesystem/src/portability.o
In file included from C:/Users/biocbuild/bbs-3.13-bioc/R/library/BH/include/boost/mpl/aux_/na_assert.hpp:23,
                 from C:/Users/biocbuild/bbs-3.13-bioc/R/library/BH/include/boost/mpl/arg.hpp:25,
                 from C:/Users/biocbuild/bbs-3.13-bioc/R/library/BH/include/boost/mpl/placeholders.hpp:24,
                 from C:/Users/biocbuild/bbs-3.13-bioc/R/library/BH/include/boost/iterator/iterator_categories.hpp:16,
                 from C:/Users/biocbuild/bbs-3.13-bioc/R/library/BH/include/boost/iterator/iterator_facade.hpp:13,
                 from C:/Users/biocbuild/bbs-3.13-bioc/R/library/BH/include/boost/filesystem/path.hpp:29,
                 from boost/libs/filesystem/src/portability.cpp:14:
C:/Users/biocbuild/bbs-3.13-bioc/R/library/BH/include/boost/mpl/assert.hpp:194:21: warning: unnecessary parentheses in declaration of 'assert_arg' [-Wparentheses]
 failed ************ (Pred::************
                     ^
C:/Users/biocbuild/bbs-3.13-bioc/R/library/BH/include/boost/mpl/assert.hpp:199:21: warning: unnecessary parentheses in declaration of 'assert_not_arg' [-Wparentheses]
 failed ************ (boost::mpl::not_<Pred>::************
                     ^
"C:/rtools40/mingw32/bin/"g++  -std=gnu++11 -I"C:/Users/BIOCBU~1/BBS-3~1.13-/R/include" -DNDEBUG -DROUT -I../inst/include -DRCPP_PARALLEL_USE_TBB=1 -fpermissive -DBOOST_NO_AUTO_PTR  -I'C:/Users/biocbuild/bbs-3.13-bioc/R/library/Rcpp/include' -I'C:/Users/biocbuild/bbs-3.13-bioc/R/library/BH/include' -I'C:/Users/biocbuild/bbs-3.13-bioc/R/library/RProtoBufLib/include' -I'C:/Users/biocbuild/bbs-3.13-bioc/R/library/Rhdf5lib/include' -I'C:/Users/biocbuild/bbs-3.13-bioc/R/library/RcppArmadillo/include' -I'C:/Users/biocbuild/bbs-3.13-bioc/R/library/RcppParallel/include'   -I"c:/extsoft/include"     -O2 -Wall  -mfpmath=sse -msse2 -mstackrealign  -c boost/libs/filesystem/src/unique_path.cpp -o boost/libs/filesystem/src/unique_path.o
In file included from C:/Users/biocbuild/bbs-3.13-bioc/R/library/BH/include/boost/mpl/aux_/na_assert.hpp:23,
                 from C:/Users/biocbuild/bbs-3.13-bioc/R/library/BH/include/boost/mpl/arg.hpp:25,
                 from C:/Users/biocbuild/bbs-3.13-bioc/R/library/BH/include/boost/mpl/placeholders.hpp:24,
                 from C:/Users/biocbuild/bbs-3.13-bioc/R/library/BH/include/boost/iterator/iterator_categories.hpp:16,
                 from C:/Users/biocbuild/bbs-3.13-bioc/R/library/BH/include/boost/iterator/iterator_facade.hpp:13,
                 from C:/Users/biocbuild/bbs-3.13-bioc/R/library/BH/include/boost/filesystem/path.hpp:29,
                 from C:/Users/biocbuild/bbs-3.13-bioc/R/library/BH/include/boost/filesystem/operations.hpp:26,
                 from boost/libs/filesystem/src/unique_path.cpp:76:
C:/Users/biocbuild/bbs-3.13-bioc/R/library/BH/include/boost/mpl/assert.hpp:194:21: warning: unnecessary parentheses in declaration of 'assert_arg' [-Wparentheses]
 failed ************ (Pred::************
                     ^
C:/Users/biocbuild/bbs-3.13-bioc/R/library/BH/include/boost/mpl/assert.hpp:199:21: warning: unnecessary parentheses in declaration of 'assert_not_arg' [-Wparentheses]
 failed ************ (boost::mpl::not_<Pred>::************
                     ^
"C:/rtools40/mingw32/bin/"g++  -std=gnu++11 -I"C:/Users/BIOCBU~1/BBS-3~1.13-/R/include" -DNDEBUG -DROUT -I../inst/include -DRCPP_PARALLEL_USE_TBB=1 -fpermissive -DBOOST_NO_AUTO_PTR  -I'C:/Users/biocbuild/bbs-3.13-bioc/R/library/Rcpp/include' -I'C:/Users/biocbuild/bbs-3.13-bioc/R/library/BH/include' -I'C:/Users/biocbuild/bbs-3.13-bioc/R/library/RProtoBufLib/include' -I'C:/Users/biocbuild/bbs-3.13-bioc/R/library/Rhdf5lib/include' -I'C:/Users/biocbuild/bbs-3.13-bioc/R/library/RcppArmadillo/include' -I'C:/Users/biocbuild/bbs-3.13-bioc/R/library/RcppParallel/include'   -I"c:/extsoft/include"     -O2 -Wall  -mfpmath=sse -msse2 -mstackrealign  -c boost/libs/filesystem/src/operations.cpp -o boost/libs/filesystem/src/operations.o
In file included from C:/Users/biocbuild/bbs-3.13-bioc/R/library/BH/include/boost/mpl/aux_/na_assert.hpp:23,
                 from C:/Users/biocbuild/bbs-3.13-bioc/R/library/BH/include/boost/mpl/arg.hpp:25,
                 from C:/Users/biocbuild/bbs-3.13-bioc/R/library/BH/include/boost/mpl/placeholders.hpp:24,
                 from C:/Users/biocbuild/bbs-3.13-bioc/R/library/BH/include/boost/iterator/iterator_categories.hpp:16,
                 from C:/Users/biocbuild/bbs-3.13-bioc/R/library/BH/include/boost/iterator/iterator_facade.hpp:13,
                 from C:/Users/biocbuild/bbs-3.13-bioc/R/library/BH/include/boost/filesystem/path.hpp:29,
                 from C:/Users/biocbuild/bbs-3.13-bioc/R/library/BH/include/boost/filesystem/operations.hpp:26,
                 from boost/libs/filesystem/src/operations.cpp:17:
C:/Users/biocbuild/bbs-3.13-bioc/R/library/BH/include/boost/mpl/assert.hpp:194:21: warning: unnecessary parentheses in declaration of 'assert_arg' [-Wparentheses]
 failed ************ (Pred::************
                     ^
C:/Users/biocbuild/bbs-3.13-bioc/R/library/BH/include/boost/mpl/assert.hpp:199:21: warning: unnecessary parentheses in declaration of 'assert_not_arg' [-Wparentheses]
 failed ************ (boost::mpl::not_<Pred>::************
                     ^
"C:/rtools40/mingw32/bin/"g++  -std=gnu++11 -I"C:/Users/BIOCBU~1/BBS-3~1.13-/R/include" -DNDEBUG -DROUT -I../inst/include -DRCPP_PARALLEL_USE_TBB=1 -fpermissive -DBOOST_NO_AUTO_PTR  -I'C:/Users/biocbuild/bbs-3.13-bioc/R/library/Rcpp/include' -I'C:/Users/biocbuild/bbs-3.13-bioc/R/library/BH/include' -I'C:/Users/biocbuild/bbs-3.13-bioc/R/library/RProtoBufLib/include' -I'C:/Users/biocbuild/bbs-3.13-bioc/R/library/Rhdf5lib/include' -I'C:/Users/biocbuild/bbs-3.13-bioc/R/library/RcppArmadillo/include' -I'C:/Users/biocbuild/bbs-3.13-bioc/R/library/RcppParallel/include'   -I"c:/extsoft/include"     -O2 -Wall  -mfpmath=sse -msse2 -mstackrealign  -c boost/libs/filesystem/src/path.cpp -o boost/libs/filesystem/src/path.o
In file included from C:/Users/biocbuild/bbs-3.13-bioc/R/library/BH/include/boost/mpl/aux_/na_assert.hpp:23,
                 from C:/Users/biocbuild/bbs-3.13-bioc/R/library/BH/include/boost/mpl/arg.hpp:25,
                 from C:/Users/biocbuild/bbs-3.13-bioc/R/library/BH/include/boost/mpl/placeholders.hpp:24,
                 from C:/Users/biocbuild/bbs-3.13-bioc/R/library/BH/include/boost/iterator/iterator_categories.hpp:16,
                 from C:/Users/biocbuild/bbs-3.13-bioc/R/library/BH/include/boost/iterator/iterator_facade.hpp:13,
                 from C:/Users/biocbuild/bbs-3.13-bioc/R/library/BH/include/boost/filesystem/path.hpp:29,
                 from boost/libs/filesystem/src/path.cpp:19:
C:/Users/biocbuild/bbs-3.13-bioc/R/library/BH/include/boost/mpl/assert.hpp:194:21: warning: unnecessary parentheses in declaration of 'assert_arg' [-Wparentheses]
 failed ************ (Pred::************
                     ^
C:/Users/biocbuild/bbs-3.13-bioc/R/library/BH/include/boost/mpl/assert.hpp:199:21: warning: unnecessary parentheses in declaration of 'assert_not_arg' [-Wparentheses]
 failed ************ (boost::mpl::not_<Pred>::************
                     ^
"C:/rtools40/mingw32/bin/"g++  -std=gnu++11 -I"C:/Users/BIOCBU~1/BBS-3~1.13-/R/include" -DNDEBUG -DROUT -I../inst/include -DRCPP_PARALLEL_USE_TBB=1 -fpermissive -DBOOST_NO_AUTO_PTR  -I'C:/Users/biocbuild/bbs-3.13-bioc/R/library/Rcpp/include' -I'C:/Users/biocbuild/bbs-3.13-bioc/R/library/BH/include' -I'C:/Users/biocbuild/bbs-3.13-bioc/R/library/RProtoBufLib/include' -I'C:/Users/biocbuild/bbs-3.13-bioc/R/library/Rhdf5lib/include' -I'C:/Users/biocbuild/bbs-3.13-bioc/R/library/RcppArmadillo/include' -I'C:/Users/biocbuild/bbs-3.13-bioc/R/library/RcppParallel/include'   -I"c:/extsoft/include"     -O2 -Wall  -mfpmath=sse -msse2 -mstackrealign  -c boost/libs/filesystem/src/directory.cpp -o boost/libs/filesystem/src/directory.o
In file included from C:/Users/biocbuild/bbs-3.13-bioc/R/library/BH/include/boost/mpl/aux_/na_assert.hpp:23,
                 from C:/Users/biocbuild/bbs-3.13-bioc/R/library/BH/include/boost/mpl/arg.hpp:25,
                 from C:/Users/biocbuild/bbs-3.13-bioc/R/library/BH/include/boost/mpl/placeholders.hpp:24,
                 from C:/Users/biocbuild/bbs-3.13-bioc/R/library/BH/include/boost/iterator/iterator_categories.hpp:16,
                 from C:/Users/biocbuild/bbs-3.13-bioc/R/library/BH/include/boost/iterator/iterator_facade.hpp:13,
                 from C:/Users/biocbuild/bbs-3.13-bioc/R/library/BH/include/boost/filesystem/path.hpp:29,
                 from C:/Users/biocbuild/bbs-3.13-bioc/R/library/BH/include/boost/filesystem/directory.hpp:26,
                 from boost/libs/filesystem/src/directory.cpp:16:
C:/Users/biocbuild/bbs-3.13-bioc/R/library/BH/include/boost/mpl/assert.hpp:194:21: warning: unnecessary parentheses in declaration of 'assert_arg' [-Wparentheses]
 failed ************ (Pred::************
                     ^
C:/Users/biocbuild/bbs-3.13-bioc/R/library/BH/include/boost/mpl/assert.hpp:199:21: warning: unnecessary parentheses in declaration of 'assert_not_arg' [-Wparentheses]
 failed ************ (boost::mpl::not_<Pred>::************
                     ^
"C:/rtools40/mingw32/bin/"g++  -std=gnu++11 -I"C:/Users/BIOCBU~1/BBS-3~1.13-/R/include" -DNDEBUG -DROUT -I../inst/include -DRCPP_PARALLEL_USE_TBB=1 -fpermissive -DBOOST_NO_AUTO_PTR  -I'C:/Users/biocbuild/bbs-3.13-bioc/R/library/Rcpp/include' -I'C:/Users/biocbuild/bbs-3.13-bioc/R/library/BH/include' -I'C:/Users/biocbuild/bbs-3.13-bioc/R/library/RProtoBufLib/include' -I'C:/Users/biocbuild/bbs-3.13-bioc/R/library/Rhdf5lib/include' -I'C:/Users/biocbuild/bbs-3.13-bioc/R/library/RcppArmadillo/include' -I'C:/Users/biocbuild/bbs-3.13-bioc/R/library/RcppParallel/include'   -I"c:/extsoft/include"     -O2 -Wall  -mfpmath=sse -msse2 -mstackrealign  -c boost/libs/filesystem/src/exception.cpp -o boost/libs/filesystem/src/exception.o
In file included from C:/Users/biocbuild/bbs-3.13-bioc/R/library/BH/include/boost/mpl/aux_/na_assert.hpp:23,
                 from C:/Users/biocbuild/bbs-3.13-bioc/R/library/BH/include/boost/mpl/arg.hpp:25,
                 from C:/Users/biocbuild/bbs-3.13-bioc/R/library/BH/include/boost/mpl/placeholders.hpp:24,
                 from C:/Users/biocbuild/bbs-3.13-bioc/R/library/BH/include/boost/iterator/iterator_categories.hpp:16,
                 from C:/Users/biocbuild/bbs-3.13-bioc/R/library/BH/include/boost/iterator/iterator_facade.hpp:13,
                 from C:/Users/biocbuild/bbs-3.13-bioc/R/library/BH/include/boost/filesystem/path.hpp:29,
                 from boost/libs/filesystem/src/exception.cpp:15:
C:/Users/biocbuild/bbs-3.13-bioc/R/library/BH/include/boost/mpl/assert.hpp:194:21: warning: unnecessary parentheses in declaration of 'assert_arg' [-Wparentheses]
 failed ************ (Pred::************
                     ^
C:/Users/biocbuild/bbs-3.13-bioc/R/library/BH/include/boost/mpl/assert.hpp:199:21: warning: unnecessary parentheses in declaration of 'assert_not_arg' [-Wparentheses]
 failed ************ (boost::mpl::not_<Pred>::************
                     ^
"C:/rtools40/mingw32/bin/"g++  -std=gnu++11 -I"C:/Users/BIOCBU~1/BBS-3~1.13-/R/include" -DNDEBUG -DROUT -I../inst/include -DRCPP_PARALLEL_USE_TBB=1 -fpermissive -DBOOST_NO_AUTO_PTR  -I'C:/Users/biocbuild/bbs-3.13-bioc/R/library/Rcpp/include' -I'C:/Users/biocbuild/bbs-3.13-bioc/R/library/BH/include' -I'C:/Users/biocbuild/bbs-3.13-bioc/R/library/RProtoBufLib/include' -I'C:/Users/biocbuild/bbs-3.13-bioc/R/library/Rhdf5lib/include' -I'C:/Users/biocbuild/bbs-3.13-bioc/R/library/RcppArmadillo/include' -I'C:/Users/biocbuild/bbs-3.13-bioc/R/library/RcppParallel/include'   -I"c:/extsoft/include"     -O2 -Wall  -mfpmath=sse -msse2 -mstackrealign  -c boost/libs/filesystem/src/windows_file_codecvt.cpp -o boost/libs/filesystem/src/windows_file_codecvt.o
"C:/rtools40/mingw32/bin/"g++  -std=gnu++11 -I"C:/Users/BIOCBU~1/BBS-3~1.13-/R/include" -DNDEBUG -DROUT -I../inst/include -DRCPP_PARALLEL_USE_TBB=1 -fpermissive -DBOOST_NO_AUTO_PTR  -I'C:/Users/biocbuild/bbs-3.13-bioc/R/library/Rcpp/include' -I'C:/Users/biocbuild/bbs-3.13-bioc/R/library/BH/include' -I'C:/Users/biocbuild/bbs-3.13-bioc/R/library/RProtoBufLib/include' -I'C:/Users/biocbuild/bbs-3.13-bioc/R/library/Rhdf5lib/include' -I'C:/Users/biocbuild/bbs-3.13-bioc/R/library/RcppArmadillo/include' -I'C:/Users/biocbuild/bbs-3.13-bioc/R/library/RcppParallel/include'   -I"c:/extsoft/include"     -O2 -Wall  -mfpmath=sse -msse2 -mstackrealign  -c boost/libs/filesystem/src/utf8_codecvt_facet.cpp -o boost/libs/filesystem/src/utf8_codecvt_facet.o
"C:/rtools40/mingw32/bin/"g++  -std=gnu++11 -I"C:/Users/BIOCBU~1/BBS-3~1.13-/R/include" -DNDEBUG -DROUT -I../inst/include -DRCPP_PARALLEL_USE_TBB=1 -fpermissive -DBOOST_NO_AUTO_PTR  -I'C:/Users/biocbuild/bbs-3.13-bioc/R/library/Rcpp/include' -I'C:/Users/biocbuild/bbs-3.13-bioc/R/library/BH/include' -I'C:/Users/biocbuild/bbs-3.13-bioc/R/library/RProtoBufLib/include' -I'C:/Users/biocbuild/bbs-3.13-bioc/R/library/Rhdf5lib/include' -I'C:/Users/biocbuild/bbs-3.13-bioc/R/library/RcppArmadillo/include' -I'C:/Users/biocbuild/bbs-3.13-bioc/R/library/RcppParallel/include'   -I"c:/extsoft/include"     -O2 -Wall  -mfpmath=sse -msse2 -mstackrealign  -c boost/libs/filesystem/src/codecvt_error_category.cpp -o boost/libs/filesystem/src/codecvt_error_category.o
"C:/rtools40/mingw32/bin/"g++  -std=gnu++11 -I"C:/Users/BIOCBU~1/BBS-3~1.13-/R/include" -DNDEBUG -DROUT -I../inst/include -DRCPP_PARALLEL_USE_TBB=1 -fpermissive -DBOOST_NO_AUTO_PTR  -I'C:/Users/biocbuild/bbs-3.13-bioc/R/library/Rcpp/include' -I'C:/Users/biocbuild/bbs-3.13-bioc/R/library/BH/include' -I'C:/Users/biocbuild/bbs-3.13-bioc/R/library/RProtoBufLib/include' -I'C:/Users/biocbuild/bbs-3.13-bioc/R/library/Rhdf5lib/include' -I'C:/Users/biocbuild/bbs-3.13-bioc/R/library/RcppArmadillo/include' -I'C:/Users/biocbuild/bbs-3.13-bioc/R/library/RcppParallel/include'   -I"c:/extsoft/include"     -O2 -Wall  -mfpmath=sse -msse2 -mstackrealign  -c boost/libs/filesystem/src/path_traits.cpp -o boost/libs/filesystem/src/path_traits.o
"C:/rtools40/mingw32/bin/"g++  -std=gnu++11 -I"C:/Users/BIOCBU~1/BBS-3~1.13-/R/include" -DNDEBUG -DROUT -I../inst/include -DRCPP_PARALLEL_USE_TBB=1 -fpermissive -DBOOST_NO_AUTO_PTR  -I'C:/Users/biocbuild/bbs-3.13-bioc/R/library/Rcpp/include' -I'C:/Users/biocbuild/bbs-3.13-bioc/R/library/BH/include' -I'C:/Users/biocbuild/bbs-3.13-bioc/R/library/RProtoBufLib/include' -I'C:/Users/biocbuild/bbs-3.13-bioc/R/library/Rhdf5lib/include' -I'C:/Users/biocbuild/bbs-3.13-bioc/R/library/RcppArmadillo/include' -I'C:/Users/biocbuild/bbs-3.13-bioc/R/library/RcppParallel/include'   -I"c:/extsoft/include"     -O2 -Wall  -mfpmath=sse -msse2 -mstackrealign  -c CytoFrame.cpp -o CytoFrame.o
In file included from C:/Users/biocbuild/bbs-3.13-bioc/R/library/BH/include/boost/mpl/aux_/na_assert.hpp:23,
                 from C:/Users/biocbuild/bbs-3.13-bioc/R/library/BH/include/boost/mpl/arg.hpp:25,
                 from C:/Users/biocbuild/bbs-3.13-bioc/R/library/BH/include/boost/mpl/placeholders.hpp:24,
                 from C:/Users/biocbuild/bbs-3.13-bioc/R/library/BH/include/boost/iterator/iterator_categories.hpp:16,
                 from C:/Users/biocbuild/bbs-3.13-bioc/R/library/BH/include/boost/iterator/iterator_facade.hpp:13,
                 from C:/Users/biocbuild/bbs-3.13-bioc/R/library/BH/include/boost/range/iterator_range_core.hpp:27,
                 from C:/Users/biocbuild/bbs-3.13-bioc/R/library/BH/include/boost/range/iterator_range.hpp:13,
                 from C:/Users/biocbuild/bbs-3.13-bioc/R/library/BH/include/boost/range/as_literal.hpp:18,
                 from C:/Users/biocbuild/bbs-3.13-bioc/R/library/BH/include/boost/algorithm/string/trim.hpp:19,
                 from C:/Users/biocbuild/bbs-3.13-bioc/R/library/BH/include/boost/algorithm/string.hpp:19,
                 from ../inst/include/cytolib/transformation.hpp:18,
                 from ../inst/include/cytolib/compensation.hpp:15,
                 from ../inst/include/cytolib/CytoFrame.hpp:16,
                 from CytoFrame.cpp:3:
C:/Users/biocbuild/bbs-3.13-bioc/R/library/BH/include/boost/mpl/assert.hpp:194:21: warning: unnecessary parentheses in declaration of 'assert_arg' [-Wparentheses]
 failed ************ (Pred::************
                     ^
C:/Users/biocbuild/bbs-3.13-bioc/R/library/BH/include/boost/mpl/assert.hpp:199:21: warning: unnecessary parentheses in declaration of 'assert_not_arg' [-Wparentheses]
 failed ************ (boost::mpl::not_<Pred>::************
                     ^
In file included from ../inst/include/cytolib/CytoFrame.hpp:16,
                 from CytoFrame.cpp:3:
../inst/include/cytolib/compensation.hpp: In constructor 'cytolib::compensation::compensation(const string&)':
../inst/include/cytolib/compensation.hpp:58:20: warning: comparison of integer expressions of different signedness: 'std::vector<std::__cxx11::basic_string<char>, std::allocator<std::__cxx11::basic_string<char> > >::size_type' {aka 'unsigned int'} and 'int' [-Wsign-compare]
   if(valVec.size() != 1+n+n*n){
      ~~~~~~~~~~~~~~^~~~~~~~~~
../inst/include/cytolib/compensation.hpp:62:21: warning: comparison of integer expressions of different signedness: 'std::vector<std::__cxx11::basic_string<char>, std::allocator<std::__cxx11::basic_string<char> > >::size_type' {aka 'unsigned int'} and 'int' [-Wsign-compare]
    if(valVec.size() == 1+n+2*n*n){
       ~~~~~~~~~~~~~~^~~~~~~~~~~~
../inst/include/cytolib/compensation.hpp:68:33: warning: comparison of integer expressions of different signedness: 'int' and 'std::vector<std::__cxx11::basic_string<char>, std::allocator<std::__cxx11::basic_string<char> > >::size_type' {aka 'unsigned int'} [-Wsign-compare]
     for(int i = 1+n, j = 1+n; i < valVec_fixed.size(); i++, j+=2)
                               ~~^~~~~~~~~~~~~~~~~~~~~
"C:/rtools40/mingw32/bin/"g++  -std=gnu++11 -I"C:/Users/BIOCBU~1/BBS-3~1.13-/R/include" -DNDEBUG -DROUT -I../inst/include -DRCPP_PARALLEL_USE_TBB=1 -fpermissive -DBOOST_NO_AUTO_PTR  -I'C:/Users/biocbuild/bbs-3.13-bioc/R/library/Rcpp/include' -I'C:/Users/biocbuild/bbs-3.13-bioc/R/library/BH/include' -I'C:/Users/biocbuild/bbs-3.13-bioc/R/library/RProtoBufLib/include' -I'C:/Users/biocbuild/bbs-3.13-bioc/R/library/Rhdf5lib/include' -I'C:/Users/biocbuild/bbs-3.13-bioc/R/library/RcppArmadillo/include' -I'C:/Users/biocbuild/bbs-3.13-bioc/R/library/RcppParallel/include'   -I"c:/extsoft/include"     -O2 -Wall  -mfpmath=sse -msse2 -mstackrealign  -c CytoFrameView.cpp -o CytoFrameView.o
In file included from C:/Users/biocbuild/bbs-3.13-bioc/R/library/BH/include/boost/mpl/aux_/na_assert.hpp:23,
                 from C:/Users/biocbuild/bbs-3.13-bioc/R/library/BH/include/boost/mpl/arg.hpp:25,
                 from C:/Users/biocbuild/bbs-3.13-bioc/R/library/BH/include/boost/mpl/placeholders.hpp:24,
                 from C:/Users/biocbuild/bbs-3.13-bioc/R/library/BH/include/boost/iterator/iterator_categories.hpp:16,
                 from C:/Users/biocbuild/bbs-3.13-bioc/R/library/BH/include/boost/iterator/iterator_facade.hpp:13,
                 from C:/Users/biocbuild/bbs-3.13-bioc/R/library/BH/include/boost/range/iterator_range_core.hpp:27,
                 from C:/Users/biocbuild/bbs-3.13-bioc/R/library/BH/include/boost/range/iterator_range.hpp:13,
                 from C:/Users/biocbuild/bbs-3.13-bioc/R/library/BH/include/boost/range/as_literal.hpp:18,
                 from C:/Users/biocbuild/bbs-3.13-bioc/R/library/BH/include/boost/algorithm/string/trim.hpp:19,
                 from C:/Users/biocbuild/bbs-3.13-bioc/R/library/BH/include/boost/algorithm/string.hpp:19,
                 from ../inst/include/cytolib/transformation.hpp:18,
                 from ../inst/include/cytolib/compensation.hpp:15,
                 from ../inst/include/cytolib/CytoFrame.hpp:16,
                 from ../inst/include/cytolib/MemCytoFrame.hpp:12,
                 from ../inst/include/cytolib/CytoFrameView.hpp:12,
                 from CytoFrameView.cpp:3:
C:/Users/biocbuild/bbs-3.13-bioc/R/library/BH/include/boost/mpl/assert.hpp:194:21: warning: unnecessary parentheses in declaration of 'assert_arg' [-Wparentheses]
 failed ************ (Pred::************
                     ^
C:/Users/biocbuild/bbs-3.13-bioc/R/library/BH/include/boost/mpl/assert.hpp:199:21: warning: unnecessary parentheses in declaration of 'assert_not_arg' [-Wparentheses]
 failed ************ (boost::mpl::not_<Pred>::************
                     ^
In file included from ../inst/include/cytolib/CytoFrame.hpp:16,
                 from ../inst/include/cytolib/MemCytoFrame.hpp:12,
                 from ../inst/include/cytolib/CytoFrameView.hpp:12,
                 from CytoFrameView.cpp:3:
../inst/include/cytolib/compensation.hpp: In constructor 'cytolib::compensation::compensation(const string&)':
../inst/include/cytolib/compensation.hpp:58:20: warning: comparison of integer expressions of different signedness: 'std::vector<std::__cxx11::basic_string<char>, std::allocator<std::__cxx11::basic_string<char> > >::size_type' {aka 'unsigned int'} and 'int' [-Wsign-compare]
   if(valVec.size() != 1+n+n*n){
      ~~~~~~~~~~~~~~^~~~~~~~~~
../inst/include/cytolib/compensation.hpp:62:21: warning: comparison of integer expressions of different signedness: 'std::vector<std::__cxx11::basic_string<char>, std::allocator<std::__cxx11::basic_string<char> > >::size_type' {aka 'unsigned int'} and 'int' [-Wsign-compare]
    if(valVec.size() == 1+n+2*n*n){
       ~~~~~~~~~~~~~~^~~~~~~~~~~~
../inst/include/cytolib/compensation.hpp:68:33: warning: comparison of integer expressions of different signedness: 'int' and 'std::vector<std::__cxx11::basic_string<char>, std::allocator<std::__cxx11::basic_string<char> > >::size_type' {aka 'unsigned int'} [-Wsign-compare]
     for(int i = 1+n, j = 1+n; i < valVec_fixed.size(); i++, j+=2)
                               ~~^~~~~~~~~~~~~~~~~~~~~
"C:/rtools40/mingw32/bin/"g++  -std=gnu++11 -I"C:/Users/BIOCBU~1/BBS-3~1.13-/R/include" -DNDEBUG -DROUT -I../inst/include -DRCPP_PARALLEL_USE_TBB=1 -fpermissive -DBOOST_NO_AUTO_PTR  -I'C:/Users/biocbuild/bbs-3.13-bioc/R/library/Rcpp/include' -I'C:/Users/biocbuild/bbs-3.13-bioc/R/library/BH/include' -I'C:/Users/biocbuild/bbs-3.13-bioc/R/library/RProtoBufLib/include' -I'C:/Users/biocbuild/bbs-3.13-bioc/R/library/Rhdf5lib/include' -I'C:/Users/biocbuild/bbs-3.13-bioc/R/library/RcppArmadillo/include' -I'C:/Users/biocbuild/bbs-3.13-bioc/R/library/RcppParallel/include'   -I"c:/extsoft/include"     -O2 -Wall  -mfpmath=sse -msse2 -mstackrealign  -c CytoVFS.cpp -o CytoVFS.o
In file included from C:/Users/biocbuild/bbs-3.13-bioc/R/library/BH/include/boost/mpl/aux_/na_assert.hpp:23,
                 from C:/Users/biocbuild/bbs-3.13-bioc/R/library/BH/include/boost/mpl/arg.hpp:25,
                 from C:/Users/biocbuild/bbs-3.13-bioc/R/library/BH/include/boost/mpl/placeholders.hpp:24,
                 from C:/Users/biocbuild/bbs-3.13-bioc/R/library/BH/include/boost/iterator/iterator_categories.hpp:16,
                 from C:/Users/biocbuild/bbs-3.13-bioc/R/library/BH/include/boost/iterator/iterator_facade.hpp:13,
                 from C:/Users/biocbuild/bbs-3.13-bioc/R/library/BH/include/boost/filesystem/path.hpp:29,
                 from C:/Users/biocbuild/bbs-3.13-bioc/R/library/BH/include/boost/filesystem.hpp:16,
                 from ../inst/include/cytolib/CytoVFS.hpp:17,
                 from CytoVFS.cpp:8:
C:/Users/biocbuild/bbs-3.13-bioc/R/library/BH/include/boost/mpl/assert.hpp:194:21: warning: unnecessary parentheses in declaration of 'assert_arg' [-Wparentheses]
 failed ************ (Pred::************
                     ^
C:/Users/biocbuild/bbs-3.13-bioc/R/library/BH/include/boost/mpl/assert.hpp:199:21: warning: unnecessary parentheses in declaration of 'assert_not_arg' [-Wparentheses]
 failed ************ (boost::mpl::not_<Pred>::************
                     ^
"C:/rtools40/mingw32/bin/"g++  -std=gnu++11 -I"C:/Users/BIOCBU~1/BBS-3~1.13-/R/include" -DNDEBUG -DROUT -I../inst/include -DRCPP_PARALLEL_USE_TBB=1 -fpermissive -DBOOST_NO_AUTO_PTR  -I'C:/Users/biocbuild/bbs-3.13-bioc/R/library/Rcpp/include' -I'C:/Users/biocbuild/bbs-3.13-bioc/R/library/BH/include' -I'C:/Users/biocbuild/bbs-3.13-bioc/R/library/RProtoBufLib/include' -I'C:/Users/biocbuild/bbs-3.13-bioc/R/library/Rhdf5lib/include' -I'C:/Users/biocbuild/bbs-3.13-bioc/R/library/RcppArmadillo/include' -I'C:/Users/biocbuild/bbs-3.13-bioc/R/library/RcppParallel/include'   -I"c:/extsoft/include"     -O2 -Wall  -mfpmath=sse -msse2 -mstackrealign  -c GatingHierarchy.cpp -o GatingHierarchy.o
In file included from C:/Users/biocbuild/bbs-3.13-bioc/R/library/BH/include/boost/mpl/aux_/na_assert.hpp:23,
                 from C:/Users/biocbuild/bbs-3.13-bioc/R/library/BH/include/boost/mpl/arg.hpp:25,
                 from C:/Users/biocbuild/bbs-3.13-bioc/R/library/BH/include/boost/mpl/placeholders.hpp:24,
                 from C:/Users/biocbuild/bbs-3.13-bioc/R/library/BH/include/boost/iterator/iterator_categories.hpp:16,
                 from C:/Users/biocbuild/bbs-3.13-bioc/R/library/BH/include/boost/iterator/iterator_facade.hpp:13,
                 from C:/Users/biocbuild/bbs-3.13-bioc/R/library/BH/include/boost/range/iterator_range_core.hpp:27,
                 from C:/Users/biocbuild/bbs-3.13-bioc/R/library/BH/include/boost/range/iterator_range.hpp:13,
                 from C:/Users/biocbuild/bbs-3.13-bioc/R/library/BH/include/boost/range/as_literal.hpp:18,
                 from C:/Users/biocbuild/bbs-3.13-bioc/R/library/BH/include/boost/algorithm/string/trim.hpp:19,
                 from C:/Users/biocbuild/bbs-3.13-bioc/R/library/BH/include/boost/algorithm/string.hpp:19,
                 from ../inst/include/cytolib/transformation.hpp:18,
                 from ../inst/include/cytolib/compensation.hpp:15,
                 from ../inst/include/cytolib/CytoFrame.hpp:16,
                 from ../inst/include/cytolib/MemCytoFrame.hpp:12,
                 from ../inst/include/cytolib/gate.hpp:12,
                 from ../inst/include/cytolib/POPINDICES.hpp:14,
                 from ../inst/include/cytolib/nodeProperties.hpp:13,
                 from ../inst/include/cytolib/populationTree.hpp:13,
                 from ../inst/include/cytolib/GatingHierarchy.hpp:17,
                 from GatingHierarchy.cpp:3:
C:/Users/biocbuild/bbs-3.13-bioc/R/library/BH/include/boost/mpl/assert.hpp:194:21: warning: unnecessary parentheses in declaration of 'assert_arg' [-Wparentheses]
 failed ************ (Pred::************
                     ^
C:/Users/biocbuild/bbs-3.13-bioc/R/library/BH/include/boost/mpl/assert.hpp:199:21: warning: unnecessary parentheses in declaration of 'assert_not_arg' [-Wparentheses]
 failed ************ (boost::mpl::not_<Pred>::************
                     ^
In file included from ../inst/include/cytolib/CytoFrame.hpp:16,
                 from ../inst/include/cytolib/MemCytoFrame.hpp:12,
                 from ../inst/include/cytolib/gate.hpp:12,
                 from ../inst/include/cytolib/POPINDICES.hpp:14,
                 from ../inst/include/cytolib/nodeProperties.hpp:13,
                 from ../inst/include/cytolib/populationTree.hpp:13,
                 from ../inst/include/cytolib/GatingHierarchy.hpp:17,
                 from GatingHierarchy.cpp:3:
../inst/include/cytolib/compensation.hpp: In constructor 'cytolib::compensation::compensation(const string&)':
../inst/include/cytolib/compensation.hpp:58:20: warning: comparison of integer expressions of different signedness: 'std::vector<std::__cxx11::basic_string<char>, std::allocator<std::__cxx11::basic_string<char> > >::size_type' {aka 'unsigned int'} and 'int' [-Wsign-compare]
   if(valVec.size() != 1+n+n*n){
      ~~~~~~~~~~~~~~^~~~~~~~~~
../inst/include/cytolib/compensation.hpp:62:21: warning: comparison of integer expressions of different signedness: 'std::vector<std::__cxx11::basic_string<char>, std::allocator<std::__cxx11::basic_string<char> > >::size_type' {aka 'unsigned int'} and 'int' [-Wsign-compare]
    if(valVec.size() == 1+n+2*n*n){
       ~~~~~~~~~~~~~~^~~~~~~~~~~~
../inst/include/cytolib/compensation.hpp:68:33: warning: comparison of integer expressions of different signedness: 'int' and 'std::vector<std::__cxx11::basic_string<char>, std::allocator<std::__cxx11::basic_string<char> > >::size_type' {aka 'unsigned int'} [-Wsign-compare]
     for(int i = 1+n, j = 1+n; i < valVec_fixed.size(); i++, j+=2)
                               ~~^~~~~~~~~~~~~~~~~~~~~
In file included from C:/Users/biocbuild/bbs-3.13-bioc/R/library/BH/include/boost/graph/adjacency_iterator.hpp:13,
                 from C:/Users/biocbuild/bbs-3.13-bioc/R/library/BH/include/boost/graph/detail/adjacency_list.hpp:37,
                 from C:/Users/biocbuild/bbs-3.13-bioc/R/library/BH/include/boost/graph/adjacency_list.hpp:255,
                 from ../inst/include/cytolib/populationTree.hpp:14,
                 from ../inst/include/cytolib/GatingHierarchy.hpp:17,
                 from GatingHierarchy.cpp:3:
C:/Users/biocbuild/bbs-3.13-bioc/R/library/BH/include/boost/detail/iterator.hpp: At global scope:
C:/Users/biocbuild/bbs-3.13-bioc/R/library/BH/include/boost/detail/iterator.hpp:13:37: note: #pragma message: This header is deprecated. Use <iterator> instead.
 BOOST_HEADER_DEPRECATED("<iterator>")
                                     ^
"C:/rtools40/mingw32/bin/"g++  -std=gnu++11 -I"C:/Users/BIOCBU~1/BBS-3~1.13-/R/include" -DNDEBUG -DROUT -I../inst/include -DRCPP_PARALLEL_USE_TBB=1 -fpermissive -DBOOST_NO_AUTO_PTR  -I'C:/Users/biocbuild/bbs-3.13-bioc/R/library/Rcpp/include' -I'C:/Users/biocbuild/bbs-3.13-bioc/R/library/BH/include' -I'C:/Users/biocbuild/bbs-3.13-bioc/R/library/RProtoBufLib/include' -I'C:/Users/biocbuild/bbs-3.13-bioc/R/library/Rhdf5lib/include' -I'C:/Users/biocbuild/bbs-3.13-bioc/R/library/RcppArmadillo/include' -I'C:/Users/biocbuild/bbs-3.13-bioc/R/library/RcppParallel/include'   -I"c:/extsoft/include"     -O2 -Wall  -mfpmath=sse -msse2 -mstackrealign  -c GatingSet.cpp -o GatingSet.o
In file included from C:/Users/biocbuild/bbs-3.13-bioc/R/library/BH/include/boost/mpl/aux_/na_assert.hpp:23,
                 from C:/Users/biocbuild/bbs-3.13-bioc/R/library/BH/include/boost/mpl/arg.hpp:25,
                 from C:/Users/biocbuild/bbs-3.13-bioc/R/library/BH/include/boost/mpl/placeholders.hpp:24,
                 from C:/Users/biocbuild/bbs-3.13-bioc/R/library/BH/include/boost/iterator/iterator_categories.hpp:16,
                 from C:/Users/biocbuild/bbs-3.13-bioc/R/library/BH/include/boost/iterator/iterator_facade.hpp:13,
                 from C:/Users/biocbuild/bbs-3.13-bioc/R/library/BH/include/boost/range/iterator_range_core.hpp:27,
                 from C:/Users/biocbuild/bbs-3.13-bioc/R/library/BH/include/boost/range/iterator_range.hpp:13,
                 from C:/Users/biocbuild/bbs-3.13-bioc/R/library/BH/include/boost/range/as_literal.hpp:18,
                 from C:/Users/biocbuild/bbs-3.13-bioc/R/library/BH/include/boost/algorithm/string/trim.hpp:19,
                 from C:/Users/biocbuild/bbs-3.13-bioc/R/library/BH/include/boost/algorithm/string.hpp:19,
                 from ../inst/include/cytolib/transformation.hpp:18,
                 from ../inst/include/cytolib/compensation.hpp:15,
                 from ../inst/include/cytolib/CytoFrame.hpp:16,
                 from ../inst/include/cytolib/MemCytoFrame.hpp:12,
                 from ../inst/include/cytolib/gate.hpp:12,
                 from ../inst/include/cytolib/POPINDICES.hpp:14,
                 from ../inst/include/cytolib/nodeProperties.hpp:13,
                 from ../inst/include/cytolib/populationTree.hpp:13,
                 from ../inst/include/cytolib/GatingHierarchy.hpp:17,
                 from ../inst/include/cytolib/GatingSet.hpp:14,
                 from GatingSet.cpp:3:
C:/Users/biocbuild/bbs-3.13-bioc/R/library/BH/include/boost/mpl/assert.hpp:194:21: warning: unnecessary parentheses in declaration of 'assert_arg' [-Wparentheses]
 failed ************ (Pred::************
                     ^
C:/Users/biocbuild/bbs-3.13-bioc/R/library/BH/include/boost/mpl/assert.hpp:199:21: warning: unnecessary parentheses in declaration of 'assert_not_arg' [-Wparentheses]
 failed ************ (boost::mpl::not_<Pred>::************
                     ^
In file included from ../inst/include/cytolib/CytoFrame.hpp:16,
                 from ../inst/include/cytolib/MemCytoFrame.hpp:12,
                 from ../inst/include/cytolib/gate.hpp:12,
                 from ../inst/include/cytolib/POPINDICES.hpp:14,
                 from ../inst/include/cytolib/nodeProperties.hpp:13,
                 from ../inst/include/cytolib/populationTree.hpp:13,
                 from ../inst/include/cytolib/GatingHierarchy.hpp:17,
                 from ../inst/include/cytolib/GatingSet.hpp:14,
                 from GatingSet.cpp:3:
../inst/include/cytolib/compensation.hpp: In constructor 'cytolib::compensation::compensation(const string&)':
../inst/include/cytolib/compensation.hpp:58:20: warning: comparison of integer expressions of different signedness: 'std::vector<std::__cxx11::basic_string<char>, std::allocator<std::__cxx11::basic_string<char> > >::size_type' {aka 'unsigned int'} and 'int' [-Wsign-compare]
   if(valVec.size() != 1+n+n*n){
      ~~~~~~~~~~~~~~^~~~~~~~~~
../inst/include/cytolib/compensation.hpp:62:21: warning: comparison of integer expressions of different signedness: 'std::vector<std::__cxx11::basic_string<char>, std::allocator<std::__cxx11::basic_string<char> > >::size_type' {aka 'unsigned int'} and 'int' [-Wsign-compare]
    if(valVec.size() == 1+n+2*n*n){
       ~~~~~~~~~~~~~~^~~~~~~~~~~~
../inst/include/cytolib/compensation.hpp:68:33: warning: comparison of integer expressions of different signedness: 'int' and 'std::vector<std::__cxx11::basic_string<char>, std::allocator<std::__cxx11::basic_string<char> > >::size_type' {aka 'unsigned int'} [-Wsign-compare]
     for(int i = 1+n, j = 1+n; i < valVec_fixed.size(); i++, j+=2)
                               ~~^~~~~~~~~~~~~~~~~~~~~
In file included from C:/Users/biocbuild/bbs-3.13-bioc/R/library/BH/include/boost/graph/adjacency_iterator.hpp:13,
                 from C:/Users/biocbuild/bbs-3.13-bioc/R/library/BH/include/boost/graph/detail/adjacency_list.hpp:37,
                 from C:/Users/biocbuild/bbs-3.13-bioc/R/library/BH/include/boost/graph/adjacency_list.hpp:255,
                 from ../inst/include/cytolib/populationTree.hpp:14,
                 from ../inst/include/cytolib/GatingHierarchy.hpp:17,
                 from ../inst/include/cytolib/GatingSet.hpp:14,
                 from GatingSet.cpp:3:
C:/Users/biocbuild/bbs-3.13-bioc/R/library/BH/include/boost/detail/iterator.hpp: At global scope:
C:/Users/biocbuild/bbs-3.13-bioc/R/library/BH/include/boost/detail/iterator.hpp:13:37: note: #pragma message: This header is deprecated. Use <iterator> instead.
 BOOST_HEADER_DEPRECATED("<iterator>")
                                     ^
In file included from ../inst/include/cytolib/compensation.hpp:19,
                 from ../inst/include/cytolib/CytoFrame.hpp:16,
                 from ../inst/include/cytolib/MemCytoFrame.hpp:12,
                 from ../inst/include/cytolib/gate.hpp:12,
                 from ../inst/include/cytolib/POPINDICES.hpp:14,
                 from ../inst/include/cytolib/nodeProperties.hpp:13,
                 from ../inst/include/cytolib/populationTree.hpp:13,
                 from ../inst/include/cytolib/GatingHierarchy.hpp:17,
                 from ../inst/include/cytolib/GatingSet.hpp:14,
                 from GatingSet.cpp:3:
../inst/include/cytolib/global.hpp: In constructor 'cytolib::GatingSet::GatingSet(std::__cxx11::string, bool, bool, std::vector<std::__cxx11::basic_string<char>, std::allocator<std::__cxx11::basic_string<char> > >, bool, cytolib::CytoCtx)':
../inst/include/cytolib/global.hpp:29:3: warning: 'fmt' may be used uninitialized in this function [-Wmaybe-uninitialized]
   switch(fmt)
   ^~~~~~
GatingSet.cpp:30:14: note: 'fmt' was declared here
   FileFormat fmt;
              ^~~
"C:/rtools40/mingw32/bin/"g++  -std=gnu++11 -I"C:/Users/BIOCBU~1/BBS-3~1.13-/R/include" -DNDEBUG -DROUT -I../inst/include -DRCPP_PARALLEL_USE_TBB=1 -fpermissive -DBOOST_NO_AUTO_PTR  -I'C:/Users/biocbuild/bbs-3.13-bioc/R/library/Rcpp/include' -I'C:/Users/biocbuild/bbs-3.13-bioc/R/library/BH/include' -I'C:/Users/biocbuild/bbs-3.13-bioc/R/library/RProtoBufLib/include' -I'C:/Users/biocbuild/bbs-3.13-bioc/R/library/Rhdf5lib/include' -I'C:/Users/biocbuild/bbs-3.13-bioc/R/library/RcppArmadillo/include' -I'C:/Users/biocbuild/bbs-3.13-bioc/R/library/RcppParallel/include'   -I"c:/extsoft/include"     -O2 -Wall  -mfpmath=sse -msse2 -mstackrealign  -c H5CytoFrame.cpp -o H5CytoFrame.o
In file included from C:/Users/biocbuild/bbs-3.13-bioc/R/library/BH/include/boost/mpl/aux_/na_assert.hpp:23,
                 from C:/Users/biocbuild/bbs-3.13-bioc/R/library/BH/include/boost/mpl/arg.hpp:25,
                 from C:/Users/biocbuild/bbs-3.13-bioc/R/library/BH/include/boost/mpl/placeholders.hpp:24,
                 from C:/Users/biocbuild/bbs-3.13-bioc/R/library/BH/include/boost/iterator/iterator_categories.hpp:16,
                 from C:/Users/biocbuild/bbs-3.13-bioc/R/library/BH/include/boost/iterator/iterator_facade.hpp:13,
                 from C:/Users/biocbuild/bbs-3.13-bioc/R/library/BH/include/boost/range/iterator_range_core.hpp:27,
                 from C:/Users/biocbuild/bbs-3.13-bioc/R/library/BH/include/boost/range/iterator_range.hpp:13,
                 from C:/Users/biocbuild/bbs-3.13-bioc/R/library/BH/include/boost/range/as_literal.hpp:18,
                 from C:/Users/biocbuild/bbs-3.13-bioc/R/library/BH/include/boost/algorithm/string/trim.hpp:19,
                 from C:/Users/biocbuild/bbs-3.13-bioc/R/library/BH/include/boost/algorithm/string.hpp:19,
                 from ../inst/include/cytolib/transformation.hpp:18,
                 from ../inst/include/cytolib/compensation.hpp:15,
                 from ../inst/include/cytolib/CytoFrame.hpp:16,
                 from ../inst/include/cytolib/MemCytoFrame.hpp:12,
                 from ../inst/include/cytolib/H5CytoFrame.hpp:12,
                 from H5CytoFrame.cpp:3:
C:/Users/biocbuild/bbs-3.13-bioc/R/library/BH/include/boost/mpl/assert.hpp:194:21: warning: unnecessary parentheses in declaration of 'assert_arg' [-Wparentheses]
 failed ************ (Pred::************
                     ^
C:/Users/biocbuild/bbs-3.13-bioc/R/library/BH/include/boost/mpl/assert.hpp:199:21: warning: unnecessary parentheses in declaration of 'assert_not_arg' [-Wparentheses]
 failed ************ (boost::mpl::not_<Pred>::************
                     ^
In file included from ../inst/include/cytolib/CytoFrame.hpp:16,
                 from ../inst/include/cytolib/MemCytoFrame.hpp:12,
                 from ../inst/include/cytolib/H5CytoFrame.hpp:12,
                 from H5CytoFrame.cpp:3:
../inst/include/cytolib/compensation.hpp: In constructor 'cytolib::compensation::compensation(const string&)':
../inst/include/cytolib/compensation.hpp:58:20: warning: comparison of integer expressions of different signedness: 'std::vector<std::__cxx11::basic_string<char>, std::allocator<std::__cxx11::basic_string<char> > >::size_type' {aka 'unsigned int'} and 'int' [-Wsign-compare]
   if(valVec.size() != 1+n+n*n){
      ~~~~~~~~~~~~~~^~~~~~~~~~
../inst/include/cytolib/compensation.hpp:62:21: warning: comparison of integer expressions of different signedness: 'std::vector<std::__cxx11::basic_string<char>, std::allocator<std::__cxx11::basic_string<char> > >::size_type' {aka 'unsigned int'} and 'int' [-Wsign-compare]
    if(valVec.size() == 1+n+2*n*n){
       ~~~~~~~~~~~~~~^~~~~~~~~~~~
../inst/include/cytolib/compensation.hpp:68:33: warning: comparison of integer expressions of different signedness: 'int' and 'std::vector<std::__cxx11::basic_string<char>, std::allocator<std::__cxx11::basic_string<char> > >::size_type' {aka 'unsigned int'} [-Wsign-compare]
     for(int i = 1+n, j = 1+n; i < valVec_fixed.size(); i++, j+=2)
                               ~~^~~~~~~~~~~~~~~~~~~~~
"C:/rtools40/mingw32/bin/"g++  -std=gnu++11 -I"C:/Users/BIOCBU~1/BBS-3~1.13-/R/include" -DNDEBUG -DROUT -I../inst/include -DRCPP_PARALLEL_USE_TBB=1 -fpermissive -DBOOST_NO_AUTO_PTR  -I'C:/Users/biocbuild/bbs-3.13-bioc/R/library/Rcpp/include' -I'C:/Users/biocbuild/bbs-3.13-bioc/R/library/BH/include' -I'C:/Users/biocbuild/bbs-3.13-bioc/R/library/RProtoBufLib/include' -I'C:/Users/biocbuild/bbs-3.13-bioc/R/library/Rhdf5lib/include' -I'C:/Users/biocbuild/bbs-3.13-bioc/R/library/RcppArmadillo/include' -I'C:/Users/biocbuild/bbs-3.13-bioc/R/library/RcppParallel/include'   -I"c:/extsoft/include"     -O2 -Wall  -mfpmath=sse -msse2 -mstackrealign  -c MemCytoFrame.cpp -o MemCytoFrame.o
MemCytoFrame.cpp:538: warning: ignoring #pragma omp parallel [-Wunknown-pragmas]
      #pragma omp parallel for
 
In file included from C:/Users/biocbuild/bbs-3.13-bioc/R/library/BH/include/boost/mpl/aux_/na_assert.hpp:23,
                 from C:/Users/biocbuild/bbs-3.13-bioc/R/library/BH/include/boost/mpl/arg.hpp:25,
                 from C:/Users/biocbuild/bbs-3.13-bioc/R/library/BH/include/boost/mpl/placeholders.hpp:24,
                 from C:/Users/biocbuild/bbs-3.13-bioc/R/library/BH/include/boost/iterator/iterator_categories.hpp:16,
                 from C:/Users/biocbuild/bbs-3.13-bioc/R/library/BH/include/boost/iterator/iterator_facade.hpp:13,
                 from C:/Users/biocbuild/bbs-3.13-bioc/R/library/BH/include/boost/range/iterator_range_core.hpp:27,
                 from C:/Users/biocbuild/bbs-3.13-bioc/R/library/BH/include/boost/range/iterator_range.hpp:13,
                 from C:/Users/biocbuild/bbs-3.13-bioc/R/library/BH/include/boost/range/as_literal.hpp:18,
                 from C:/Users/biocbuild/bbs-3.13-bioc/R/library/BH/include/boost/algorithm/string/trim.hpp:19,
                 from C:/Users/biocbuild/bbs-3.13-bioc/R/library/BH/include/boost/algorithm/string.hpp:19,
                 from ../inst/include/cytolib/transformation.hpp:18,
                 from ../inst/include/cytolib/compensation.hpp:15,
                 from ../inst/include/cytolib/CytoFrame.hpp:16,
                 from ../inst/include/cytolib/MemCytoFrame.hpp:12,
                 from MemCytoFrame.cpp:3:
C:/Users/biocbuild/bbs-3.13-bioc/R/library/BH/include/boost/mpl/assert.hpp:194:21: warning: unnecessary parentheses in declaration of 'assert_arg' [-Wparentheses]
 failed ************ (Pred::************
                     ^
C:/Users/biocbuild/bbs-3.13-bioc/R/library/BH/include/boost/mpl/assert.hpp:199:21: warning: unnecessary parentheses in declaration of 'assert_not_arg' [-Wparentheses]
 failed ************ (boost::mpl::not_<Pred>::************
                     ^
In file included from ../inst/include/cytolib/CytoFrame.hpp:16,
                 from ../inst/include/cytolib/MemCytoFrame.hpp:12,
                 from MemCytoFrame.cpp:3:
../inst/include/cytolib/compensation.hpp: In constructor 'cytolib::compensation::compensation(const string&)':
../inst/include/cytolib/compensation.hpp:58:20: warning: comparison of integer expressions of different signedness: 'std::vector<std::__cxx11::basic_string<char>, std::allocator<std::__cxx11::basic_string<char> > >::size_type' {aka 'unsigned int'} and 'int' [-Wsign-compare]
   if(valVec.size() != 1+n+n*n){
      ~~~~~~~~~~~~~~^~~~~~~~~~
../inst/include/cytolib/compensation.hpp:62:21: warning: comparison of integer expressions of different signedness: 'std::vector<std::__cxx11::basic_string<char>, std::allocator<std::__cxx11::basic_string<char> > >::size_type' {aka 'unsigned int'} and 'int' [-Wsign-compare]
    if(valVec.size() == 1+n+2*n*n){
       ~~~~~~~~~~~~~~^~~~~~~~~~~~
../inst/include/cytolib/compensation.hpp:68:33: warning: comparison of integer expressions of different signedness: 'int' and 'std::vector<std::__cxx11::basic_string<char>, std::allocator<std::__cxx11::basic_string<char> > >::size_type' {aka 'unsigned int'} [-Wsign-compare]
     for(int i = 1+n, j = 1+n; i < valVec_fixed.size(); i++, j+=2)
                               ~~^~~~~~~~~~~~~~~~~~~~~
"C:/rtools40/mingw32/bin/"g++  -std=gnu++11 -I"C:/Users/BIOCBU~1/BBS-3~1.13-/R/include" -DNDEBUG -DROUT -I../inst/include -DRCPP_PARALLEL_USE_TBB=1 -fpermissive -DBOOST_NO_AUTO_PTR  -I'C:/Users/biocbuild/bbs-3.13-bioc/R/library/Rcpp/include' -I'C:/Users/biocbuild/bbs-3.13-bioc/R/library/BH/include' -I'C:/Users/biocbuild/bbs-3.13-bioc/R/library/RProtoBufLib/include' -I'C:/Users/biocbuild/bbs-3.13-bioc/R/library/Rhdf5lib/include' -I'C:/Users/biocbuild/bbs-3.13-bioc/R/library/RcppArmadillo/include' -I'C:/Users/biocbuild/bbs-3.13-bioc/R/library/RcppParallel/include'   -I"c:/extsoft/include"     -O2 -Wall  -mfpmath=sse -msse2 -mstackrealign  -c POPINDICES.cpp -o POPINDICES.o
In file included from C:/Users/biocbuild/bbs-3.13-bioc/R/library/BH/include/boost/mpl/aux_/na_assert.hpp:23,
                 from C:/Users/biocbuild/bbs-3.13-bioc/R/library/BH/include/boost/mpl/arg.hpp:25,
                 from C:/Users/biocbuild/bbs-3.13-bioc/R/library/BH/include/boost/mpl/placeholders.hpp:24,
                 from C:/Users/biocbuild/bbs-3.13-bioc/R/library/BH/include/boost/iterator/iterator_categories.hpp:16,
                 from C:/Users/biocbuild/bbs-3.13-bioc/R/library/BH/include/boost/iterator/iterator_facade.hpp:13,
                 from C:/Users/biocbuild/bbs-3.13-bioc/R/library/BH/include/boost/range/iterator_range_core.hpp:27,
                 from C:/Users/biocbuild/bbs-3.13-bioc/R/library/BH/include/boost/range/iterator_range.hpp:13,
                 from C:/Users/biocbuild/bbs-3.13-bioc/R/library/BH/include/boost/range/as_literal.hpp:18,
                 from C:/Users/biocbuild/bbs-3.13-bioc/R/library/BH/include/boost/algorithm/string/trim.hpp:19,
                 from C:/Users/biocbuild/bbs-3.13-bioc/R/library/BH/include/boost/algorithm/string.hpp:19,
                 from ../inst/include/cytolib/transformation.hpp:18,
                 from ../inst/include/cytolib/compensation.hpp:15,
                 from ../inst/include/cytolib/CytoFrame.hpp:16,
                 from ../inst/include/cytolib/MemCytoFrame.hpp:12,
                 from ../inst/include/cytolib/gate.hpp:12,
                 from ../inst/include/cytolib/POPINDICES.hpp:14,
                 from POPINDICES.cpp:3:
C:/Users/biocbuild/bbs-3.13-bioc/R/library/BH/include/boost/mpl/assert.hpp:194:21: warning: unnecessary parentheses in declaration of 'assert_arg' [-Wparentheses]
 failed ************ (Pred::************
                     ^
C:/Users/biocbuild/bbs-3.13-bioc/R/library/BH/include/boost/mpl/assert.hpp:199:21: warning: unnecessary parentheses in declaration of 'assert_not_arg' [-Wparentheses]
 failed ************ (boost::mpl::not_<Pred>::************
                     ^
In file included from ../inst/include/cytolib/CytoFrame.hpp:16,
                 from ../inst/include/cytolib/MemCytoFrame.hpp:12,
                 from ../inst/include/cytolib/gate.hpp:12,
                 from ../inst/include/cytolib/POPINDICES.hpp:14,
                 from POPINDICES.cpp:3:
../inst/include/cytolib/compensation.hpp: In constructor 'cytolib::compensation::compensation(const string&)':
../inst/include/cytolib/compensation.hpp:58:20: warning: comparison of integer expressions of different signedness: 'std::vector<std::__cxx11::basic_string<char>, std::allocator<std::__cxx11::basic_string<char> > >::size_type' {aka 'unsigned int'} and 'int' [-Wsign-compare]
   if(valVec.size() != 1+n+n*n){
      ~~~~~~~~~~~~~~^~~~~~~~~~
../inst/include/cytolib/compensation.hpp:62:21: warning: comparison of integer expressions of different signedness: 'std::vector<std::__cxx11::basic_string<char>, std::allocator<std::__cxx11::basic_string<char> > >::size_type' {aka 'unsigned int'} and 'int' [-Wsign-compare]
    if(valVec.size() == 1+n+2*n*n){
       ~~~~~~~~~~~~~~^~~~~~~~~~~~
../inst/include/cytolib/compensation.hpp:68:33: warning: comparison of integer expressions of different signedness: 'int' and 'std::vector<std::__cxx11::basic_string<char>, std::allocator<std::__cxx11::basic_string<char> > >::size_type' {aka 'unsigned int'} [-Wsign-compare]
     for(int i = 1+n, j = 1+n; i < valVec_fixed.size(); i++, j+=2)
                               ~~^~~~~~~~~~~~~~~~~~~~~
"C:/rtools40/mingw32/bin/"g++  -std=gnu++11 -I"C:/Users/BIOCBU~1/BBS-3~1.13-/R/include" -DNDEBUG -DROUT -I../inst/include -DRCPP_PARALLEL_USE_TBB=1 -fpermissive -DBOOST_NO_AUTO_PTR  -I'C:/Users/biocbuild/bbs-3.13-bioc/R/library/Rcpp/include' -I'C:/Users/biocbuild/bbs-3.13-bioc/R/library/BH/include' -I'C:/Users/biocbuild/bbs-3.13-bioc/R/library/RProtoBufLib/include' -I'C:/Users/biocbuild/bbs-3.13-bioc/R/library/Rhdf5lib/include' -I'C:/Users/biocbuild/bbs-3.13-bioc/R/library/RcppArmadillo/include' -I'C:/Users/biocbuild/bbs-3.13-bioc/R/library/RcppParallel/include'   -I"c:/extsoft/include"     -O2 -Wall  -mfpmath=sse -msse2 -mstackrealign  -c calibrationTable.cpp -o calibrationTable.o
In file included from C:/Users/biocbuild/bbs-3.13-bioc/R/library/BH/include/boost/foreach.hpp:76,
                 from calibrationTable.cpp:5:
C:/Users/biocbuild/bbs-3.13-bioc/R/library/BH/include/boost/mpl/assert.hpp:194:21: warning: unnecessary parentheses in declaration of 'assert_arg' [-Wparentheses]
 failed ************ (Pred::************
                     ^
C:/Users/biocbuild/bbs-3.13-bioc/R/library/BH/include/boost/mpl/assert.hpp:199:21: warning: unnecessary parentheses in declaration of 'assert_not_arg' [-Wparentheses]
 failed ************ (boost::mpl::not_<Pred>::************
                     ^
"C:/rtools40/mingw32/bin/"g++  -std=gnu++11 -I"C:/Users/BIOCBU~1/BBS-3~1.13-/R/include" -DNDEBUG -DROUT -I../inst/include -DRCPP_PARALLEL_USE_TBB=1 -fpermissive -DBOOST_NO_AUTO_PTR  -I'C:/Users/biocbuild/bbs-3.13-bioc/R/library/Rcpp/include' -I'C:/Users/biocbuild/bbs-3.13-bioc/R/library/BH/include' -I'C:/Users/biocbuild/bbs-3.13-bioc/R/library/RProtoBufLib/include' -I'C:/Users/biocbuild/bbs-3.13-bioc/R/library/Rhdf5lib/include' -I'C:/Users/biocbuild/bbs-3.13-bioc/R/library/RcppArmadillo/include' -I'C:/Users/biocbuild/bbs-3.13-bioc/R/library/RcppParallel/include'   -I"c:/extsoft/include"     -O2 -Wall  -mfpmath=sse -msse2 -mstackrealign  -c compensation.cpp -o compensation.o
In file included from C:/Users/biocbuild/bbs-3.13-bioc/R/library/BH/include/boost/mpl/aux_/na_assert.hpp:23,
                 from C:/Users/biocbuild/bbs-3.13-bioc/R/library/BH/include/boost/mpl/arg.hpp:25,
                 from C:/Users/biocbuild/bbs-3.13-bioc/R/library/BH/include/boost/mpl/placeholders.hpp:24,
                 from C:/Users/biocbuild/bbs-3.13-bioc/R/library/BH/include/boost/iterator/iterator_categories.hpp:16,
                 from C:/Users/biocbuild/bbs-3.13-bioc/R/library/BH/include/boost/iterator/iterator_facade.hpp:13,
                 from C:/Users/biocbuild/bbs-3.13-bioc/R/library/BH/include/boost/range/iterator_range_core.hpp:27,
                 from C:/Users/biocbuild/bbs-3.13-bioc/R/library/BH/include/boost/range/iterator_range.hpp:13,
                 from C:/Users/biocbuild/bbs-3.13-bioc/R/library/BH/include/boost/range/as_literal.hpp:18,
                 from C:/Users/biocbuild/bbs-3.13-bioc/R/library/BH/include/boost/algorithm/string/trim.hpp:19,
                 from C:/Users/biocbuild/bbs-3.13-bioc/R/library/BH/include/boost/algorithm/string.hpp:19,
                 from ../inst/include/cytolib/transformation.hpp:18,
                 from ../inst/include/cytolib/compensation.hpp:15,
                 from compensation.cpp:3:
C:/Users/biocbuild/bbs-3.13-bioc/R/library/BH/include/boost/mpl/assert.hpp:194:21: warning: unnecessary parentheses in declaration of 'assert_arg' [-Wparentheses]
 failed ************ (Pred::************
                     ^
C:/Users/biocbuild/bbs-3.13-bioc/R/library/BH/include/boost/mpl/assert.hpp:199:21: warning: unnecessary parentheses in declaration of 'assert_not_arg' [-Wparentheses]
 failed ************ (boost::mpl::not_<Pred>::************
                     ^
In file included from compensation.cpp:3:
../inst/include/cytolib/compensation.hpp: In constructor 'cytolib::compensation::compensation(const string&)':
../inst/include/cytolib/compensation.hpp:58:20: warning: comparison of integer expressions of different signedness: 'std::vector<std::__cxx11::basic_string<char>, std::allocator<std::__cxx11::basic_string<char> > >::size_type' {aka 'unsigned int'} and 'int' [-Wsign-compare]
   if(valVec.size() != 1+n+n*n){
      ~~~~~~~~~~~~~~^~~~~~~~~~
../inst/include/cytolib/compensation.hpp:62:21: warning: comparison of integer expressions of different signedness: 'std::vector<std::__cxx11::basic_string<char>, std::allocator<std::__cxx11::basic_string<char> > >::size_type' {aka 'unsigned int'} and 'int' [-Wsign-compare]
    if(valVec.size() == 1+n+2*n*n){
       ~~~~~~~~~~~~~~^~~~~~~~~~~~
../inst/include/cytolib/compensation.hpp:68:33: warning: comparison of integer expressions of different signedness: 'int' and 'std::vector<std::__cxx11::basic_string<char>, std::allocator<std::__cxx11::basic_string<char> > >::size_type' {aka 'unsigned int'} [-Wsign-compare]
     for(int i = 1+n, j = 1+n; i < valVec_fixed.size(); i++, j+=2)
                               ~~^~~~~~~~~~~~~~~~~~~~~
"C:/rtools40/mingw32/bin/"g++  -std=gnu++11 -I"C:/Users/BIOCBU~1/BBS-3~1.13-/R/include" -DNDEBUG -DROUT -I../inst/include -DRCPP_PARALLEL_USE_TBB=1 -fpermissive -DBOOST_NO_AUTO_PTR  -I'C:/Users/biocbuild/bbs-3.13-bioc/R/library/Rcpp/include' -I'C:/Users/biocbuild/bbs-3.13-bioc/R/library/BH/include' -I'C:/Users/biocbuild/bbs-3.13-bioc/R/library/RProtoBufLib/include' -I'C:/Users/biocbuild/bbs-3.13-bioc/R/library/Rhdf5lib/include' -I'C:/Users/biocbuild/bbs-3.13-bioc/R/library/RcppArmadillo/include' -I'C:/Users/biocbuild/bbs-3.13-bioc/R/library/RcppParallel/include'   -I"c:/extsoft/include"     -O2 -Wall  -mfpmath=sse -msse2 -mstackrealign  -c dummy.cpp -o dummy.o
"C:/rtools40/mingw32/bin/"g++  -std=gnu++11 -I"C:/Users/BIOCBU~1/BBS-3~1.13-/R/include" -DNDEBUG -DROUT -I../inst/include -DRCPP_PARALLEL_USE_TBB=1 -fpermissive -DBOOST_NO_AUTO_PTR  -I'C:/Users/biocbuild/bbs-3.13-bioc/R/library/Rcpp/include' -I'C:/Users/biocbuild/bbs-3.13-bioc/R/library/BH/include' -I'C:/Users/biocbuild/bbs-3.13-bioc/R/library/RProtoBufLib/include' -I'C:/Users/biocbuild/bbs-3.13-bioc/R/library/Rhdf5lib/include' -I'C:/Users/biocbuild/bbs-3.13-bioc/R/library/RcppArmadillo/include' -I'C:/Users/biocbuild/bbs-3.13-bioc/R/library/RcppParallel/include'   -I"c:/extsoft/include"     -O2 -Wall  -mfpmath=sse -msse2 -mstackrealign  -c ellipse2points.cpp -o ellipse2points.o
"C:/rtools40/mingw32/bin/"g++  -std=gnu++11 -I"C:/Users/BIOCBU~1/BBS-3~1.13-/R/include" -DNDEBUG -DROUT -I../inst/include -DRCPP_PARALLEL_USE_TBB=1 -fpermissive -DBOOST_NO_AUTO_PTR  -I'C:/Users/biocbuild/bbs-3.13-bioc/R/library/Rcpp/include' -I'C:/Users/biocbuild/bbs-3.13-bioc/R/library/BH/include' -I'C:/Users/biocbuild/bbs-3.13-bioc/R/library/RProtoBufLib/include' -I'C:/Users/biocbuild/bbs-3.13-bioc/R/library/Rhdf5lib/include' -I'C:/Users/biocbuild/bbs-3.13-bioc/R/library/RcppArmadillo/include' -I'C:/Users/biocbuild/bbs-3.13-bioc/R/library/RcppParallel/include'   -I"c:/extsoft/include"     -O2 -Wall  -mfpmath=sse -msse2 -mstackrealign  -c gate.cpp -o gate.o
In file included from C:/Users/biocbuild/bbs-3.13-bioc/R/library/BH/include/boost/mpl/aux_/na_assert.hpp:23,
                 from C:/Users/biocbuild/bbs-3.13-bioc/R/library/BH/include/boost/mpl/arg.hpp:25,
                 from C:/Users/biocbuild/bbs-3.13-bioc/R/library/BH/include/boost/mpl/placeholders.hpp:24,
                 from C:/Users/biocbuild/bbs-3.13-bioc/R/library/BH/include/boost/iterator/iterator_categories.hpp:16,
                 from C:/Users/biocbuild/bbs-3.13-bioc/R/library/BH/include/boost/iterator/iterator_facade.hpp:13,
                 from C:/Users/biocbuild/bbs-3.13-bioc/R/library/BH/include/boost/range/iterator_range_core.hpp:27,
                 from C:/Users/biocbuild/bbs-3.13-bioc/R/library/BH/include/boost/range/iterator_range.hpp:13,
                 from C:/Users/biocbuild/bbs-3.13-bioc/R/library/BH/include/boost/range/as_literal.hpp:18,
                 from C:/Users/biocbuild/bbs-3.13-bioc/R/library/BH/include/boost/algorithm/string/trim.hpp:19,
                 from C:/Users/biocbuild/bbs-3.13-bioc/R/library/BH/include/boost/algorithm/string.hpp:19,
                 from ../inst/include/cytolib/transformation.hpp:18,
                 from ../inst/include/cytolib/compensation.hpp:15,
                 from ../inst/include/cytolib/CytoFrame.hpp:16,
                 from ../inst/include/cytolib/MemCytoFrame.hpp:12,
                 from ../inst/include/cytolib/gate.hpp:12,
                 from gate.cpp:3:
C:/Users/biocbuild/bbs-3.13-bioc/R/library/BH/include/boost/mpl/assert.hpp:194:21: warning: unnecessary parentheses in declaration of 'assert_arg' [-Wparentheses]
 failed ************ (Pred::************
                     ^
C:/Users/biocbuild/bbs-3.13-bioc/R/library/BH/include/boost/mpl/assert.hpp:199:21: warning: unnecessary parentheses in declaration of 'assert_not_arg' [-Wparentheses]
 failed ************ (boost::mpl::not_<Pred>::************
                     ^
In file included from ../inst/include/cytolib/CytoFrame.hpp:16,
                 from ../inst/include/cytolib/MemCytoFrame.hpp:12,
                 from ../inst/include/cytolib/gate.hpp:12,
                 from gate.cpp:3:
../inst/include/cytolib/compensation.hpp: In constructor 'cytolib::compensation::compensation(const string&)':
../inst/include/cytolib/compensation.hpp:58:20: warning: comparison of integer expressions of different signedness: 'std::vector<std::__cxx11::basic_string<char>, std::allocator<std::__cxx11::basic_string<char> > >::size_type' {aka 'unsigned int'} and 'int' [-Wsign-compare]
   if(valVec.size() != 1+n+n*n){
      ~~~~~~~~~~~~~~^~~~~~~~~~
../inst/include/cytolib/compensation.hpp:62:21: warning: comparison of integer expressions of different signedness: 'std::vector<std::__cxx11::basic_string<char>, std::allocator<std::__cxx11::basic_string<char> > >::size_type' {aka 'unsigned int'} and 'int' [-Wsign-compare]
    if(valVec.size() == 1+n+2*n*n){
       ~~~~~~~~~~~~~~^~~~~~~~~~~~
../inst/include/cytolib/compensation.hpp:68:33: warning: comparison of integer expressions of different signedness: 'int' and 'std::vector<std::__cxx11::basic_string<char>, std::allocator<std::__cxx11::basic_string<char> > >::size_type' {aka 'unsigned int'} [-Wsign-compare]
     for(int i = 1+n, j = 1+n; i < valVec_fixed.size(); i++, j+=2)
                               ~~^~~~~~~~~~~~~~~~~~~~~
"C:/rtools40/mingw32/bin/"g++  -std=gnu++11 -I"C:/Users/BIOCBU~1/BBS-3~1.13-/R/include" -DNDEBUG -DROUT -I../inst/include -DRCPP_PARALLEL_USE_TBB=1 -fpermissive -DBOOST_NO_AUTO_PTR  -I'C:/Users/biocbuild/bbs-3.13-bioc/R/library/Rcpp/include' -I'C:/Users/biocbuild/bbs-3.13-bioc/R/library/BH/include' -I'C:/Users/biocbuild/bbs-3.13-bioc/R/library/RProtoBufLib/include' -I'C:/Users/biocbuild/bbs-3.13-bioc/R/library/Rhdf5lib/include' -I'C:/Users/biocbuild/bbs-3.13-bioc/R/library/RcppArmadillo/include' -I'C:/Users/biocbuild/bbs-3.13-bioc/R/library/RcppParallel/include'   -I"c:/extsoft/include"     -O2 -Wall  -mfpmath=sse -msse2 -mstackrealign  -c global.cpp -o global.o
In file included from C:/Users/biocbuild/bbs-3.13-bioc/R/library/BH/include/boost/mpl/aux_/na_assert.hpp:23,
                 from C:/Users/biocbuild/bbs-3.13-bioc/R/library/BH/include/boost/mpl/arg.hpp:25,
                 from C:/Users/biocbuild/bbs-3.13-bioc/R/library/BH/include/boost/mpl/placeholders.hpp:24,
                 from C:/Users/biocbuild/bbs-3.13-bioc/R/library/BH/include/boost/iterator/iterator_categories.hpp:16,
                 from C:/Users/biocbuild/bbs-3.13-bioc/R/library/BH/include/boost/iterator/iterator_facade.hpp:13,
                 from C:/Users/biocbuild/bbs-3.13-bioc/R/library/BH/include/boost/filesystem/path.hpp:29,
                 from C:/Users/biocbuild/bbs-3.13-bioc/R/library/BH/include/boost/filesystem.hpp:16,
                 from ../inst/include/cytolib/CytoVFS.hpp:17,
                 from ../inst/include/cytolib/global.hpp:21,
                 from global.cpp:3:
C:/Users/biocbuild/bbs-3.13-bioc/R/library/BH/include/boost/mpl/assert.hpp:194:21: warning: unnecessary parentheses in declaration of 'assert_arg' [-Wparentheses]
 failed ************ (Pred::************
                     ^
C:/Users/biocbuild/bbs-3.13-bioc/R/library/BH/include/boost/mpl/assert.hpp:199:21: warning: unnecessary parentheses in declaration of 'assert_not_arg' [-Wparentheses]
 failed ************ (boost::mpl::not_<Pred>::************
                     ^
global.cpp: In function 'std::__cxx11::string cytolib::s3_to_http(std::__cxx11::string)':
global.cpp:46:20: warning: comparison of integer expressions of different signedness: 'int' and 'std::vector<std::__cxx11::basic_string<char> >::size_type' {aka 'unsigned int'} [-Wsign-compare]
   for(int i = 1; i < tokens.size(); i++)
                  ~~^~~~~~~~~~~~~~~
"C:/rtools40/mingw32/bin/"g++  -std=gnu++11 -I"C:/Users/BIOCBU~1/BBS-3~1.13-/R/include" -DNDEBUG -DROUT -I../inst/include -DRCPP_PARALLEL_USE_TBB=1 -fpermissive -DBOOST_NO_AUTO_PTR  -I'C:/Users/biocbuild/bbs-3.13-bioc/R/library/Rcpp/include' -I'C:/Users/biocbuild/bbs-3.13-bioc/R/library/BH/include' -I'C:/Users/biocbuild/bbs-3.13-bioc/R/library/RProtoBufLib/include' -I'C:/Users/biocbuild/bbs-3.13-bioc/R/library/Rhdf5lib/include' -I'C:/Users/biocbuild/bbs-3.13-bioc/R/library/RcppArmadillo/include' -I'C:/Users/biocbuild/bbs-3.13-bioc/R/library/RcppParallel/include'   -I"c:/extsoft/include"     -O2 -Wall  -mfpmath=sse -msse2 -mstackrealign  -c in_polygon.cpp -o in_polygon.o
"C:/rtools40/mingw32/bin/"g++  -std=gnu++11 -I"C:/Users/BIOCBU~1/BBS-3~1.13-/R/include" -DNDEBUG -DROUT -I../inst/include -DRCPP_PARALLEL_USE_TBB=1 -fpermissive -DBOOST_NO_AUTO_PTR  -I'C:/Users/biocbuild/bbs-3.13-bioc/R/library/Rcpp/include' -I'C:/Users/biocbuild/bbs-3.13-bioc/R/library/BH/include' -I'C:/Users/biocbuild/bbs-3.13-bioc/R/library/RProtoBufLib/include' -I'C:/Users/biocbuild/bbs-3.13-bioc/R/library/Rhdf5lib/include' -I'C:/Users/biocbuild/bbs-3.13-bioc/R/library/RcppArmadillo/include' -I'C:/Users/biocbuild/bbs-3.13-bioc/R/library/RcppParallel/include'   -I"c:/extsoft/include"     -O2 -Wall  -mfpmath=sse -msse2 -mstackrealign  -c nodeProperties.cpp -o nodeProperties.o
In file included from C:/Users/biocbuild/bbs-3.13-bioc/R/library/BH/include/boost/mpl/aux_/na_assert.hpp:23,
                 from C:/Users/biocbuild/bbs-3.13-bioc/R/library/BH/include/boost/mpl/arg.hpp:25,
                 from C:/Users/biocbuild/bbs-3.13-bioc/R/library/BH/include/boost/mpl/placeholders.hpp:24,
                 from C:/Users/biocbuild/bbs-3.13-bioc/R/library/BH/include/boost/iterator/iterator_categories.hpp:16,
                 from C:/Users/biocbuild/bbs-3.13-bioc/R/library/BH/include/boost/iterator/iterator_facade.hpp:13,
                 from C:/Users/biocbuild/bbs-3.13-bioc/R/library/BH/include/boost/range/iterator_range_core.hpp:27,
                 from C:/Users/biocbuild/bbs-3.13-bioc/R/library/BH/include/boost/range/iterator_range.hpp:13,
                 from C:/Users/biocbuild/bbs-3.13-bioc/R/library/BH/include/boost/range/as_literal.hpp:18,
                 from C:/Users/biocbuild/bbs-3.13-bioc/R/library/BH/include/boost/algorithm/string/trim.hpp:19,
                 from C:/Users/biocbuild/bbs-3.13-bioc/R/library/BH/include/boost/algorithm/string.hpp:19,
                 from ../inst/include/cytolib/transformation.hpp:18,
                 from ../inst/include/cytolib/compensation.hpp:15,
                 from ../inst/include/cytolib/CytoFrame.hpp:16,
                 from ../inst/include/cytolib/MemCytoFrame.hpp:12,
                 from ../inst/include/cytolib/gate.hpp:12,
                 from ../inst/include/cytolib/POPINDICES.hpp:14,
                 from ../inst/include/cytolib/nodeProperties.hpp:13,
                 from nodeProperties.cpp:3:
C:/Users/biocbuild/bbs-3.13-bioc/R/library/BH/include/boost/mpl/assert.hpp:194:21: warning: unnecessary parentheses in declaration of 'assert_arg' [-Wparentheses]
 failed ************ (Pred::************
                     ^
C:/Users/biocbuild/bbs-3.13-bioc/R/library/BH/include/boost/mpl/assert.hpp:199:21: warning: unnecessary parentheses in declaration of 'assert_not_arg' [-Wparentheses]
 failed ************ (boost::mpl::not_<Pred>::************
                     ^
In file included from ../inst/include/cytolib/CytoFrame.hpp:16,
                 from ../inst/include/cytolib/MemCytoFrame.hpp:12,
                 from ../inst/include/cytolib/gate.hpp:12,
                 from ../inst/include/cytolib/POPINDICES.hpp:14,
                 from ../inst/include/cytolib/nodeProperties.hpp:13,
                 from nodeProperties.cpp:3:
../inst/include/cytolib/compensation.hpp: In constructor 'cytolib::compensation::compensation(const string&)':
../inst/include/cytolib/compensation.hpp:58:20: warning: comparison of integer expressions of different signedness: 'std::vector<std::__cxx11::basic_string<char>, std::allocator<std::__cxx11::basic_string<char> > >::size_type' {aka 'unsigned int'} and 'int' [-Wsign-compare]
   if(valVec.size() != 1+n+n*n){
      ~~~~~~~~~~~~~~^~~~~~~~~~
../inst/include/cytolib/compensation.hpp:62:21: warning: comparison of integer expressions of different signedness: 'std::vector<std::__cxx11::basic_string<char>, std::allocator<std::__cxx11::basic_string<char> > >::size_type' {aka 'unsigned int'} and 'int' [-Wsign-compare]
    if(valVec.size() == 1+n+2*n*n){
       ~~~~~~~~~~~~~~^~~~~~~~~~~~
../inst/include/cytolib/compensation.hpp:68:33: warning: comparison of integer expressions of different signedness: 'int' and 'std::vector<std::__cxx11::basic_string<char>, std::allocator<std::__cxx11::basic_string<char> > >::size_type' {aka 'unsigned int'} [-Wsign-compare]
     for(int i = 1+n, j = 1+n; i < valVec_fixed.size(); i++, j+=2)
                               ~~^~~~~~~~~~~~~~~~~~~~~
"C:/rtools40/mingw32/bin/"g++  -std=gnu++11 -I"C:/Users/BIOCBU~1/BBS-3~1.13-/R/include" -DNDEBUG -DROUT -I../inst/include -DRCPP_PARALLEL_USE_TBB=1 -fpermissive -DBOOST_NO_AUTO_PTR  -I'C:/Users/biocbuild/bbs-3.13-bioc/R/library/Rcpp/include' -I'C:/Users/biocbuild/bbs-3.13-bioc/R/library/BH/include' -I'C:/Users/biocbuild/bbs-3.13-bioc/R/library/RProtoBufLib/include' -I'C:/Users/biocbuild/bbs-3.13-bioc/R/library/Rhdf5lib/include' -I'C:/Users/biocbuild/bbs-3.13-bioc/R/library/RcppArmadillo/include' -I'C:/Users/biocbuild/bbs-3.13-bioc/R/library/RcppParallel/include'   -I"c:/extsoft/include"     -O2 -Wall  -mfpmath=sse -msse2 -mstackrealign  -c spline.cpp -o spline.o
"C:/rtools40/mingw32/bin/"g++  -std=gnu++11 -I"C:/Users/BIOCBU~1/BBS-3~1.13-/R/include" -DNDEBUG -DROUT -I../inst/include -DRCPP_PARALLEL_USE_TBB=1 -fpermissive -DBOOST_NO_AUTO_PTR  -I'C:/Users/biocbuild/bbs-3.13-bioc/R/library/Rcpp/include' -I'C:/Users/biocbuild/bbs-3.13-bioc/R/library/BH/include' -I'C:/Users/biocbuild/bbs-3.13-bioc/R/library/RProtoBufLib/include' -I'C:/Users/biocbuild/bbs-3.13-bioc/R/library/Rhdf5lib/include' -I'C:/Users/biocbuild/bbs-3.13-bioc/R/library/RcppArmadillo/include' -I'C:/Users/biocbuild/bbs-3.13-bioc/R/library/RcppParallel/include'   -I"c:/extsoft/include"     -O2 -Wall  -mfpmath=sse -msse2 -mstackrealign  -c trans_group.cpp -o trans_group.o
In file included from C:/Users/biocbuild/bbs-3.13-bioc/R/library/BH/include/boost/mpl/aux_/na_assert.hpp:23,
                 from C:/Users/biocbuild/bbs-3.13-bioc/R/library/BH/include/boost/mpl/arg.hpp:25,
                 from C:/Users/biocbuild/bbs-3.13-bioc/R/library/BH/include/boost/mpl/placeholders.hpp:24,
                 from C:/Users/biocbuild/bbs-3.13-bioc/R/library/BH/include/boost/iterator/iterator_categories.hpp:16,
                 from C:/Users/biocbuild/bbs-3.13-bioc/R/library/BH/include/boost/iterator/iterator_facade.hpp:13,
                 from C:/Users/biocbuild/bbs-3.13-bioc/R/library/BH/include/boost/range/iterator_range_core.hpp:27,
                 from C:/Users/biocbuild/bbs-3.13-bioc/R/library/BH/include/boost/range/iterator_range.hpp:13,
                 from C:/Users/biocbuild/bbs-3.13-bioc/R/library/BH/include/boost/range/as_literal.hpp:18,
                 from C:/Users/biocbuild/bbs-3.13-bioc/R/library/BH/include/boost/algorithm/string/trim.hpp:19,
                 from C:/Users/biocbuild/bbs-3.13-bioc/R/library/BH/include/boost/algorithm/string.hpp:19,
                 from ../inst/include/cytolib/transformation.hpp:18,
                 from ../inst/include/cytolib/trans_group.hpp:13,
                 from trans_group.cpp:3:
C:/Users/biocbuild/bbs-3.13-bioc/R/library/BH/include/boost/mpl/assert.hpp:194:21: warning: unnecessary parentheses in declaration of 'assert_arg' [-Wparentheses]
 failed ************ (Pred::************
                     ^
C:/Users/biocbuild/bbs-3.13-bioc/R/library/BH/include/boost/mpl/assert.hpp:199:21: warning: unnecessary parentheses in declaration of 'assert_not_arg' [-Wparentheses]
 failed ************ (boost::mpl::not_<Pred>::************
                     ^
"C:/rtools40/mingw32/bin/"g++  -std=gnu++11 -I"C:/Users/BIOCBU~1/BBS-3~1.13-/R/include" -DNDEBUG -DROUT -I../inst/include -DRCPP_PARALLEL_USE_TBB=1 -fpermissive -DBOOST_NO_AUTO_PTR  -I'C:/Users/biocbuild/bbs-3.13-bioc/R/library/Rcpp/include' -I'C:/Users/biocbuild/bbs-3.13-bioc/R/library/BH/include' -I'C:/Users/biocbuild/bbs-3.13-bioc/R/library/RProtoBufLib/include' -I'C:/Users/biocbuild/bbs-3.13-bioc/R/library/Rhdf5lib/include' -I'C:/Users/biocbuild/bbs-3.13-bioc/R/library/RcppArmadillo/include' -I'C:/Users/biocbuild/bbs-3.13-bioc/R/library/RcppParallel/include'   -I"c:/extsoft/include"     -O2 -Wall  -mfpmath=sse -msse2 -mstackrealign  -c transformation.cpp -o transformation.o
In file included from C:/Users/biocbuild/bbs-3.13-bioc/R/library/BH/include/boost/mpl/aux_/na_assert.hpp:23,
                 from C:/Users/biocbuild/bbs-3.13-bioc/R/library/BH/include/boost/mpl/arg.hpp:25,
                 from C:/Users/biocbuild/bbs-3.13-bioc/R/library/BH/include/boost/mpl/placeholders.hpp:24,
                 from C:/Users/biocbuild/bbs-3.13-bioc/R/library/BH/include/boost/iterator/iterator_categories.hpp:16,
                 from C:/Users/biocbuild/bbs-3.13-bioc/R/library/BH/include/boost/iterator/iterator_facade.hpp:13,
                 from C:/Users/biocbuild/bbs-3.13-bioc/R/library/BH/include/boost/range/iterator_range_core.hpp:27,
                 from C:/Users/biocbuild/bbs-3.13-bioc/R/library/BH/include/boost/range/iterator_range.hpp:13,
                 from C:/Users/biocbuild/bbs-3.13-bioc/R/library/BH/include/boost/range/as_literal.hpp:18,
                 from C:/Users/biocbuild/bbs-3.13-bioc/R/library/BH/include/boost/algorithm/string/trim.hpp:19,
                 from C:/Users/biocbuild/bbs-3.13-bioc/R/library/BH/include/boost/algorithm/string.hpp:19,
                 from ../inst/include/cytolib/transformation.hpp:18,
                 from transformation.cpp:3:
C:/Users/biocbuild/bbs-3.13-bioc/R/library/BH/include/boost/mpl/assert.hpp:194:21: warning: unnecessary parentheses in declaration of 'assert_arg' [-Wparentheses]
 failed ************ (Pred::************
                     ^
C:/Users/biocbuild/bbs-3.13-bioc/R/library/BH/include/boost/mpl/assert.hpp:199:21: warning: unnecessary parentheses in declaration of 'assert_not_arg' [-Wparentheses]
 failed ************ (boost::mpl::not_<Pred>::************
                     ^
mkdir -p "C:/Users/biocbuild/bbs-3.13-bioc/meat/cytolib.buildbin-libdir/00LOCK-cytolib/00new/cytolib/lib/i386"
"C:/rtools40/mingw32/bin/"ar rs "C:/Users/biocbuild/bbs-3.13-bioc/meat/cytolib.buildbin-libdir/00LOCK-cytolib/00new/cytolib/lib/i386/libcytolib.a" CytoFrame.o CytoFrameView.o CytoVFS.o GatingHierarchy.o GatingSet.o H5CytoFrame.o MemCytoFrame.o POPINDICES.o calibrationTable.o compensation.o dummy.o ellipse2points.o gate.o global.o in_polygon.o nodeProperties.o spline.o trans_group.o transformation.o boost/libs/filesystem/src/portability.o boost/libs/filesystem/src/unique_path.o boost/libs/filesystem/src/operations.o boost/libs/filesystem/src/path.o boost/libs/filesystem/src/directory.o boost/libs/filesystem/src/exception.o boost/libs/filesystem/src/windows_file_codecvt.o boost/libs/filesystem/src/utf8_codecvt_facet.o boost/libs/filesystem/src/codecvt_error_category.o boost/libs/filesystem/src/path_traits.o boost/libs/system/src/error_code.o
C:\rtools40\mingw32\bin\ar.exe: creating C:/Users/biocbuild/bbs-3.13-bioc/meat/cytolib.buildbin-libdir/00LOCK-cytolib/00new/cytolib/lib/i386/libcytolib.a
C:/rtools40/mingw32/bin/g++ -shared -s -static-libgcc -o cytolib.dll tmp.def CytoFrame.o CytoFrameView.o CytoVFS.o GatingHierarchy.o GatingSet.o H5CytoFrame.o MemCytoFrame.o POPINDICES.o calibrationTable.o compensation.o dummy.o ellipse2points.o gate.o global.o in_polygon.o nodeProperties.o spline.o trans_group.o transformation.o boost/libs/filesystem/src/portability.o boost/libs/filesystem/src/unique_path.o boost/libs/filesystem/src/operations.o boost/libs/filesystem/src/path.o boost/libs/filesystem/src/directory.o boost/libs/filesystem/src/exception.o boost/libs/filesystem/src/windows_file_codecvt.o boost/libs/filesystem/src/utf8_codecvt_facet.o boost/libs/filesystem/src/codecvt_error_category.o boost/libs/filesystem/src/path_traits.o boost/libs/system/src/error_code.o -LC:/Users/BIOCBU~1/BBS-3~1.13-/R/bin/i386 -lRlapack -LC:/Users/BIOCBU~1/BBS-3~1.13-/R/bin/i386 -lRblas -lgfortran -lm -lquadmath C:/Users/biocbuild/bbs-3.13-bioc/R/library/RProtoBufLib/lib/i386/GatingSet.pb.o -LC:/Users/biocbuild/bbs-3.13-bioc/R/library/RProtoBufLib/lib/i386 -lprotobuf -LC:/Users/BIOCBU~1/BBS-3~1.13-/R/library/Rhdf5lib/lib/i386 -lhdf5_cpp -lhdf5 -lcurl -lssh2 -lssl -lcrypto -lwldap32 -lws2_32 -lcrypt32 -lszip -lz -lpsapi -LC:/Users/biocbuild/bbs-3.13-bioc/R/library/RcppParallel/lib/i386 -ltbb -ltbbmalloc -lws2_32 -Lc:/extsoft/lib/i386 -Lc:/extsoft/lib -LC:/Users/BIOCBU~1/BBS-3~1.13-/R/bin/i386 -lR
installing to C:/Users/biocbuild/bbs-3.13-bioc/meat/cytolib.buildbin-libdir/00LOCK-cytolib/00new/cytolib/libs/i386
** R
** inst
** byte-compile and prepare package for lazy loading
** help
*** installing help indices
  converting help for package 'cytolib'
    finding HTML links ... done
    cytolib_LdFlags                         html  
** building package indices
** installing vignettes
** testing if installed package can be loaded from temporary location
** testing if installed package can be loaded from final location
** testing if installed package keeps a record of temporary installation path

install for x64

* installing *source* package 'cytolib' ...
** preparing to configure package 'cytolib' ...
*** configured file: 'cytolibConfig.h.in' => 'inst/include/cytolib/cytolibConfig.h'
*** configured file: 'src/Makevars.in' => 'src/Makevars'
** finished configure for package 'cytolib'
** libs
"C:/rtools40/mingw64/bin/"g++  -std=gnu++11 -I"C:/Users/BIOCBU~1/BBS-3~1.13-/R/include" -DNDEBUG -DROUT -I../inst/include -DRCPP_PARALLEL_USE_TBB=1 -fpermissive -DBOOST_NO_AUTO_PTR  -I'C:/Users/biocbuild/bbs-3.13-bioc/R/library/Rcpp/include' -I'C:/Users/biocbuild/bbs-3.13-bioc/R/library/BH/include' -I'C:/Users/biocbuild/bbs-3.13-bioc/R/library/RProtoBufLib/include' -I'C:/Users/biocbuild/bbs-3.13-bioc/R/library/Rhdf5lib/include' -I'C:/Users/biocbuild/bbs-3.13-bioc/R/library/RcppArmadillo/include' -I'C:/Users/biocbuild/bbs-3.13-bioc/R/library/RcppParallel/include'   -I"C:/extsoft/include"     -O2 -Wall  -mfpmath=sse -msse2 -mstackrealign  -c boost/libs/system/src/error_code.cpp -o boost/libs/system/src/error_code.o
"C:/rtools40/mingw64/bin/"g++  -std=gnu++11 -I"C:/Users/BIOCBU~1/BBS-3~1.13-/R/include" -DNDEBUG -DROUT -I../inst/include -DRCPP_PARALLEL_USE_TBB=1 -fpermissive -DBOOST_NO_AUTO_PTR  -I'C:/Users/biocbuild/bbs-3.13-bioc/R/library/Rcpp/include' -I'C:/Users/biocbuild/bbs-3.13-bioc/R/library/BH/include' -I'C:/Users/biocbuild/bbs-3.13-bioc/R/library/RProtoBufLib/include' -I'C:/Users/biocbuild/bbs-3.13-bioc/R/library/Rhdf5lib/include' -I'C:/Users/biocbuild/bbs-3.13-bioc/R/library/RcppArmadillo/include' -I'C:/Users/biocbuild/bbs-3.13-bioc/R/library/RcppParallel/include'   -I"C:/extsoft/include"     -O2 -Wall  -mfpmath=sse -msse2 -mstackrealign  -c boost/libs/filesystem/src/portability.cpp -o boost/libs/filesystem/src/portability.o
In file included from C:/Users/biocbuild/bbs-3.13-bioc/R/library/BH/include/boost/mpl/aux_/na_assert.hpp:23,
                 from C:/Users/biocbuild/bbs-3.13-bioc/R/library/BH/include/boost/mpl/arg.hpp:25,
                 from C:/Users/biocbuild/bbs-3.13-bioc/R/library/BH/include/boost/mpl/placeholders.hpp:24,
                 from C:/Users/biocbuild/bbs-3.13-bioc/R/library/BH/include/boost/iterator/iterator_categories.hpp:16,
                 from C:/Users/biocbuild/bbs-3.13-bioc/R/library/BH/include/boost/iterator/iterator_facade.hpp:13,
                 from C:/Users/biocbuild/bbs-3.13-bioc/R/library/BH/include/boost/filesystem/path.hpp:29,
                 from boost/libs/filesystem/src/portability.cpp:14:
C:/Users/biocbuild/bbs-3.13-bioc/R/library/BH/include/boost/mpl/assert.hpp:194:21: warning: unnecessary parentheses in declaration of 'assert_arg' [-Wparentheses]
 failed ************ (Pred::************
                     ^
C:/Users/biocbuild/bbs-3.13-bioc/R/library/BH/include/boost/mpl/assert.hpp:199:21: warning: unnecessary parentheses in declaration of 'assert_not_arg' [-Wparentheses]
 failed ************ (boost::mpl::not_<Pred>::************
                     ^
"C:/rtools40/mingw64/bin/"g++  -std=gnu++11 -I"C:/Users/BIOCBU~1/BBS-3~1.13-/R/include" -DNDEBUG -DROUT -I../inst/include -DRCPP_PARALLEL_USE_TBB=1 -fpermissive -DBOOST_NO_AUTO_PTR  -I'C:/Users/biocbuild/bbs-3.13-bioc/R/library/Rcpp/include' -I'C:/Users/biocbuild/bbs-3.13-bioc/R/library/BH/include' -I'C:/Users/biocbuild/bbs-3.13-bioc/R/library/RProtoBufLib/include' -I'C:/Users/biocbuild/bbs-3.13-bioc/R/library/Rhdf5lib/include' -I'C:/Users/biocbuild/bbs-3.13-bioc/R/library/RcppArmadillo/include' -I'C:/Users/biocbuild/bbs-3.13-bioc/R/library/RcppParallel/include'   -I"C:/extsoft/include"     -O2 -Wall  -mfpmath=sse -msse2 -mstackrealign  -c boost/libs/filesystem/src/unique_path.cpp -o boost/libs/filesystem/src/unique_path.o
In file included from C:/Users/biocbuild/bbs-3.13-bioc/R/library/BH/include/boost/mpl/aux_/na_assert.hpp:23,
                 from C:/Users/biocbuild/bbs-3.13-bioc/R/library/BH/include/boost/mpl/arg.hpp:25,
                 from C:/Users/biocbuild/bbs-3.13-bioc/R/library/BH/include/boost/mpl/placeholders.hpp:24,
                 from C:/Users/biocbuild/bbs-3.13-bioc/R/library/BH/include/boost/iterator/iterator_categories.hpp:16,
                 from C:/Users/biocbuild/bbs-3.13-bioc/R/library/BH/include/boost/iterator/iterator_facade.hpp:13,
                 from C:/Users/biocbuild/bbs-3.13-bioc/R/library/BH/include/boost/filesystem/path.hpp:29,
                 from C:/Users/biocbuild/bbs-3.13-bioc/R/library/BH/include/boost/filesystem/operations.hpp:26,
                 from boost/libs/filesystem/src/unique_path.cpp:76:
C:/Users/biocbuild/bbs-3.13-bioc/R/library/BH/include/boost/mpl/assert.hpp:194:21: warning: unnecessary parentheses in declaration of 'assert_arg' [-Wparentheses]
 failed ************ (Pred::************
                     ^
C:/Users/biocbuild/bbs-3.13-bioc/R/library/BH/include/boost/mpl/assert.hpp:199:21: warning: unnecessary parentheses in declaration of 'assert_not_arg' [-Wparentheses]
 failed ************ (boost::mpl::not_<Pred>::************
                     ^
"C:/rtools40/mingw64/bin/"g++  -std=gnu++11 -I"C:/Users/BIOCBU~1/BBS-3~1.13-/R/include" -DNDEBUG -DROUT -I../inst/include -DRCPP_PARALLEL_USE_TBB=1 -fpermissive -DBOOST_NO_AUTO_PTR  -I'C:/Users/biocbuild/bbs-3.13-bioc/R/library/Rcpp/include' -I'C:/Users/biocbuild/bbs-3.13-bioc/R/library/BH/include' -I'C:/Users/biocbuild/bbs-3.13-bioc/R/library/RProtoBufLib/include' -I'C:/Users/biocbuild/bbs-3.13-bioc/R/library/Rhdf5lib/include' -I'C:/Users/biocbuild/bbs-3.13-bioc/R/library/RcppArmadillo/include' -I'C:/Users/biocbuild/bbs-3.13-bioc/R/library/RcppParallel/include'   -I"C:/extsoft/include"     -O2 -Wall  -mfpmath=sse -msse2 -mstackrealign  -c boost/libs/filesystem/src/operations.cpp -o boost/libs/filesystem/src/operations.o
In file included from C:/Users/biocbuild/bbs-3.13-bioc/R/library/BH/include/boost/mpl/aux_/na_assert.hpp:23,
                 from C:/Users/biocbuild/bbs-3.13-bioc/R/library/BH/include/boost/mpl/arg.hpp:25,
                 from C:/Users/biocbuild/bbs-3.13-bioc/R/library/BH/include/boost/mpl/placeholders.hpp:24,
                 from C:/Users/biocbuild/bbs-3.13-bioc/R/library/BH/include/boost/iterator/iterator_categories.hpp:16,
                 from C:/Users/biocbuild/bbs-3.13-bioc/R/library/BH/include/boost/iterator/iterator_facade.hpp:13,
                 from C:/Users/biocbuild/bbs-3.13-bioc/R/library/BH/include/boost/filesystem/path.hpp:29,
                 from C:/Users/biocbuild/bbs-3.13-bioc/R/library/BH/include/boost/filesystem/operations.hpp:26,
                 from boost/libs/filesystem/src/operations.cpp:17:
C:/Users/biocbuild/bbs-3.13-bioc/R/library/BH/include/boost/mpl/assert.hpp:194:21: warning: unnecessary parentheses in declaration of 'assert_arg' [-Wparentheses]
 failed ************ (Pred::************
                     ^
C:/Users/biocbuild/bbs-3.13-bioc/R/library/BH/include/boost/mpl/assert.hpp:199:21: warning: unnecessary parentheses in declaration of 'assert_not_arg' [-Wparentheses]
 failed ************ (boost::mpl::not_<Pred>::************
                     ^
"C:/rtools40/mingw64/bin/"g++  -std=gnu++11 -I"C:/Users/BIOCBU~1/BBS-3~1.13-/R/include" -DNDEBUG -DROUT -I../inst/include -DRCPP_PARALLEL_USE_TBB=1 -fpermissive -DBOOST_NO_AUTO_PTR  -I'C:/Users/biocbuild/bbs-3.13-bioc/R/library/Rcpp/include' -I'C:/Users/biocbuild/bbs-3.13-bioc/R/library/BH/include' -I'C:/Users/biocbuild/bbs-3.13-bioc/R/library/RProtoBufLib/include' -I'C:/Users/biocbuild/bbs-3.13-bioc/R/library/Rhdf5lib/include' -I'C:/Users/biocbuild/bbs-3.13-bioc/R/library/RcppArmadillo/include' -I'C:/Users/biocbuild/bbs-3.13-bioc/R/library/RcppParallel/include'   -I"C:/extsoft/include"     -O2 -Wall  -mfpmath=sse -msse2 -mstackrealign  -c boost/libs/filesystem/src/path.cpp -o boost/libs/filesystem/src/path.o
In file included from C:/Users/biocbuild/bbs-3.13-bioc/R/library/BH/include/boost/mpl/aux_/na_assert.hpp:23,
                 from C:/Users/biocbuild/bbs-3.13-bioc/R/library/BH/include/boost/mpl/arg.hpp:25,
                 from C:/Users/biocbuild/bbs-3.13-bioc/R/library/BH/include/boost/mpl/placeholders.hpp:24,
                 from C:/Users/biocbuild/bbs-3.13-bioc/R/library/BH/include/boost/iterator/iterator_categories.hpp:16,
                 from C:/Users/biocbuild/bbs-3.13-bioc/R/library/BH/include/boost/iterator/iterator_facade.hpp:13,
                 from C:/Users/biocbuild/bbs-3.13-bioc/R/library/BH/include/boost/filesystem/path.hpp:29,
                 from boost/libs/filesystem/src/path.cpp:19:
C:/Users/biocbuild/bbs-3.13-bioc/R/library/BH/include/boost/mpl/assert.hpp:194:21: warning: unnecessary parentheses in declaration of 'assert_arg' [-Wparentheses]
 failed ************ (Pred::************
                     ^
C:/Users/biocbuild/bbs-3.13-bioc/R/library/BH/include/boost/mpl/assert.hpp:199:21: warning: unnecessary parentheses in declaration of 'assert_not_arg' [-Wparentheses]
 failed ************ (boost::mpl::not_<Pred>::************
                     ^
"C:/rtools40/mingw64/bin/"g++  -std=gnu++11 -I"C:/Users/BIOCBU~1/BBS-3~1.13-/R/include" -DNDEBUG -DROUT -I../inst/include -DRCPP_PARALLEL_USE_TBB=1 -fpermissive -DBOOST_NO_AUTO_PTR  -I'C:/Users/biocbuild/bbs-3.13-bioc/R/library/Rcpp/include' -I'C:/Users/biocbuild/bbs-3.13-bioc/R/library/BH/include' -I'C:/Users/biocbuild/bbs-3.13-bioc/R/library/RProtoBufLib/include' -I'C:/Users/biocbuild/bbs-3.13-bioc/R/library/Rhdf5lib/include' -I'C:/Users/biocbuild/bbs-3.13-bioc/R/library/RcppArmadillo/include' -I'C:/Users/biocbuild/bbs-3.13-bioc/R/library/RcppParallel/include'   -I"C:/extsoft/include"     -O2 -Wall  -mfpmath=sse -msse2 -mstackrealign  -c boost/libs/filesystem/src/directory.cpp -o boost/libs/filesystem/src/directory.o
In file included from C:/Users/biocbuild/bbs-3.13-bioc/R/library/BH/include/boost/mpl/aux_/na_assert.hpp:23,
                 from C:/Users/biocbuild/bbs-3.13-bioc/R/library/BH/include/boost/mpl/arg.hpp:25,
                 from C:/Users/biocbuild/bbs-3.13-bioc/R/library/BH/include/boost/mpl/placeholders.hpp:24,
                 from C:/Users/biocbuild/bbs-3.13-bioc/R/library/BH/include/boost/iterator/iterator_categories.hpp:16,
                 from C:/Users/biocbuild/bbs-3.13-bioc/R/library/BH/include/boost/iterator/iterator_facade.hpp:13,
                 from C:/Users/biocbuild/bbs-3.13-bioc/R/library/BH/include/boost/filesystem/path.hpp:29,
                 from C:/Users/biocbuild/bbs-3.13-bioc/R/library/BH/include/boost/filesystem/directory.hpp:26,
                 from boost/libs/filesystem/src/directory.cpp:16:
C:/Users/biocbuild/bbs-3.13-bioc/R/library/BH/include/boost/mpl/assert.hpp:194:21: warning: unnecessary parentheses in declaration of 'assert_arg' [-Wparentheses]
 failed ************ (Pred::************
                     ^
C:/Users/biocbuild/bbs-3.13-bioc/R/library/BH/include/boost/mpl/assert.hpp:199:21: warning: unnecessary parentheses in declaration of 'assert_not_arg' [-Wparentheses]
 failed ************ (boost::mpl::not_<Pred>::************
                     ^
"C:/rtools40/mingw64/bin/"g++  -std=gnu++11 -I"C:/Users/BIOCBU~1/BBS-3~1.13-/R/include" -DNDEBUG -DROUT -I../inst/include -DRCPP_PARALLEL_USE_TBB=1 -fpermissive -DBOOST_NO_AUTO_PTR  -I'C:/Users/biocbuild/bbs-3.13-bioc/R/library/Rcpp/include' -I'C:/Users/biocbuild/bbs-3.13-bioc/R/library/BH/include' -I'C:/Users/biocbuild/bbs-3.13-bioc/R/library/RProtoBufLib/include' -I'C:/Users/biocbuild/bbs-3.13-bioc/R/library/Rhdf5lib/include' -I'C:/Users/biocbuild/bbs-3.13-bioc/R/library/RcppArmadillo/include' -I'C:/Users/biocbuild/bbs-3.13-bioc/R/library/RcppParallel/include'   -I"C:/extsoft/include"     -O2 -Wall  -mfpmath=sse -msse2 -mstackrealign  -c boost/libs/filesystem/src/exception.cpp -o boost/libs/filesystem/src/exception.o
In file included from C:/Users/biocbuild/bbs-3.13-bioc/R/library/BH/include/boost/mpl/aux_/na_assert.hpp:23,
                 from C:/Users/biocbuild/bbs-3.13-bioc/R/library/BH/include/boost/mpl/arg.hpp:25,
                 from C:/Users/biocbuild/bbs-3.13-bioc/R/library/BH/include/boost/mpl/placeholders.hpp:24,
                 from C:/Users/biocbuild/bbs-3.13-bioc/R/library/BH/include/boost/iterator/iterator_categories.hpp:16,
                 from C:/Users/biocbuild/bbs-3.13-bioc/R/library/BH/include/boost/iterator/iterator_facade.hpp:13,
                 from C:/Users/biocbuild/bbs-3.13-bioc/R/library/BH/include/boost/filesystem/path.hpp:29,
                 from boost/libs/filesystem/src/exception.cpp:15:
C:/Users/biocbuild/bbs-3.13-bioc/R/library/BH/include/boost/mpl/assert.hpp:194:21: warning: unnecessary parentheses in declaration of 'assert_arg' [-Wparentheses]
 failed ************ (Pred::************
                     ^
C:/Users/biocbuild/bbs-3.13-bioc/R/library/BH/include/boost/mpl/assert.hpp:199:21: warning: unnecessary parentheses in declaration of 'assert_not_arg' [-Wparentheses]
 failed ************ (boost::mpl::not_<Pred>::************
                     ^
"C:/rtools40/mingw64/bin/"g++  -std=gnu++11 -I"C:/Users/BIOCBU~1/BBS-3~1.13-/R/include" -DNDEBUG -DROUT -I../inst/include -DRCPP_PARALLEL_USE_TBB=1 -fpermissive -DBOOST_NO_AUTO_PTR  -I'C:/Users/biocbuild/bbs-3.13-bioc/R/library/Rcpp/include' -I'C:/Users/biocbuild/bbs-3.13-bioc/R/library/BH/include' -I'C:/Users/biocbuild/bbs-3.13-bioc/R/library/RProtoBufLib/include' -I'C:/Users/biocbuild/bbs-3.13-bioc/R/library/Rhdf5lib/include' -I'C:/Users/biocbuild/bbs-3.13-bioc/R/library/RcppArmadillo/include' -I'C:/Users/biocbuild/bbs-3.13-bioc/R/library/RcppParallel/include'   -I"C:/extsoft/include"     -O2 -Wall  -mfpmath=sse -msse2 -mstackrealign  -c boost/libs/filesystem/src/windows_file_codecvt.cpp -o boost/libs/filesystem/src/windows_file_codecvt.o
"C:/rtools40/mingw64/bin/"g++  -std=gnu++11 -I"C:/Users/BIOCBU~1/BBS-3~1.13-/R/include" -DNDEBUG -DROUT -I../inst/include -DRCPP_PARALLEL_USE_TBB=1 -fpermissive -DBOOST_NO_AUTO_PTR  -I'C:/Users/biocbuild/bbs-3.13-bioc/R/library/Rcpp/include' -I'C:/Users/biocbuild/bbs-3.13-bioc/R/library/BH/include' -I'C:/Users/biocbuild/bbs-3.13-bioc/R/library/RProtoBufLib/include' -I'C:/Users/biocbuild/bbs-3.13-bioc/R/library/Rhdf5lib/include' -I'C:/Users/biocbuild/bbs-3.13-bioc/R/library/RcppArmadillo/include' -I'C:/Users/biocbuild/bbs-3.13-bioc/R/library/RcppParallel/include'   -I"C:/extsoft/include"     -O2 -Wall  -mfpmath=sse -msse2 -mstackrealign  -c boost/libs/filesystem/src/utf8_codecvt_facet.cpp -o boost/libs/filesystem/src/utf8_codecvt_facet.o
"C:/rtools40/mingw64/bin/"g++  -std=gnu++11 -I"C:/Users/BIOCBU~1/BBS-3~1.13-/R/include" -DNDEBUG -DROUT -I../inst/include -DRCPP_PARALLEL_USE_TBB=1 -fpermissive -DBOOST_NO_AUTO_PTR  -I'C:/Users/biocbuild/bbs-3.13-bioc/R/library/Rcpp/include' -I'C:/Users/biocbuild/bbs-3.13-bioc/R/library/BH/include' -I'C:/Users/biocbuild/bbs-3.13-bioc/R/library/RProtoBufLib/include' -I'C:/Users/biocbuild/bbs-3.13-bioc/R/library/Rhdf5lib/include' -I'C:/Users/biocbuild/bbs-3.13-bioc/R/library/RcppArmadillo/include' -I'C:/Users/biocbuild/bbs-3.13-bioc/R/library/RcppParallel/include'   -I"C:/extsoft/include"     -O2 -Wall  -mfpmath=sse -msse2 -mstackrealign  -c boost/libs/filesystem/src/codecvt_error_category.cpp -o boost/libs/filesystem/src/codecvt_error_category.o
"C:/rtools40/mingw64/bin/"g++  -std=gnu++11 -I"C:/Users/BIOCBU~1/BBS-3~1.13-/R/include" -DNDEBUG -DROUT -I../inst/include -DRCPP_PARALLEL_USE_TBB=1 -fpermissive -DBOOST_NO_AUTO_PTR  -I'C:/Users/biocbuild/bbs-3.13-bioc/R/library/Rcpp/include' -I'C:/Users/biocbuild/bbs-3.13-bioc/R/library/BH/include' -I'C:/Users/biocbuild/bbs-3.13-bioc/R/library/RProtoBufLib/include' -I'C:/Users/biocbuild/bbs-3.13-bioc/R/library/Rhdf5lib/include' -I'C:/Users/biocbuild/bbs-3.13-bioc/R/library/RcppArmadillo/include' -I'C:/Users/biocbuild/bbs-3.13-bioc/R/library/RcppParallel/include'   -I"C:/extsoft/include"     -O2 -Wall  -mfpmath=sse -msse2 -mstackrealign  -c boost/libs/filesystem/src/path_traits.cpp -o boost/libs/filesystem/src/path_traits.o
"C:/rtools40/mingw64/bin/"g++  -std=gnu++11 -I"C:/Users/BIOCBU~1/BBS-3~1.13-/R/include" -DNDEBUG -DROUT -I../inst/include -DRCPP_PARALLEL_USE_TBB=1 -fpermissive -DBOOST_NO_AUTO_PTR  -I'C:/Users/biocbuild/bbs-3.13-bioc/R/library/Rcpp/include' -I'C:/Users/biocbuild/bbs-3.13-bioc/R/library/BH/include' -I'C:/Users/biocbuild/bbs-3.13-bioc/R/library/RProtoBufLib/include' -I'C:/Users/biocbuild/bbs-3.13-bioc/R/library/Rhdf5lib/include' -I'C:/Users/biocbuild/bbs-3.13-bioc/R/library/RcppArmadillo/include' -I'C:/Users/biocbuild/bbs-3.13-bioc/R/library/RcppParallel/include'   -I"C:/extsoft/include"     -O2 -Wall  -mfpmath=sse -msse2 -mstackrealign  -c CytoFrame.cpp -o CytoFrame.o
In file included from C:/Users/biocbuild/bbs-3.13-bioc/R/library/BH/include/boost/mpl/aux_/na_assert.hpp:23,
                 from C:/Users/biocbuild/bbs-3.13-bioc/R/library/BH/include/boost/mpl/arg.hpp:25,
                 from C:/Users/biocbuild/bbs-3.13-bioc/R/library/BH/include/boost/mpl/placeholders.hpp:24,
                 from C:/Users/biocbuild/bbs-3.13-bioc/R/library/BH/include/boost/iterator/iterator_categories.hpp:16,
                 from C:/Users/biocbuild/bbs-3.13-bioc/R/library/BH/include/boost/iterator/iterator_facade.hpp:13,
                 from C:/Users/biocbuild/bbs-3.13-bioc/R/library/BH/include/boost/range/iterator_range_core.hpp:27,
                 from C:/Users/biocbuild/bbs-3.13-bioc/R/library/BH/include/boost/range/iterator_range.hpp:13,
                 from C:/Users/biocbuild/bbs-3.13-bioc/R/library/BH/include/boost/range/as_literal.hpp:18,
                 from C:/Users/biocbuild/bbs-3.13-bioc/R/library/BH/include/boost/algorithm/string/trim.hpp:19,
                 from C:/Users/biocbuild/bbs-3.13-bioc/R/library/BH/include/boost/algorithm/string.hpp:19,
                 from ../inst/include/cytolib/transformation.hpp:18,
                 from ../inst/include/cytolib/compensation.hpp:15,
                 from ../inst/include/cytolib/CytoFrame.hpp:16,
                 from CytoFrame.cpp:3:
C:/Users/biocbuild/bbs-3.13-bioc/R/library/BH/include/boost/mpl/assert.hpp:194:21: warning: unnecessary parentheses in declaration of 'assert_arg' [-Wparentheses]
 failed ************ (Pred::************
                     ^
C:/Users/biocbuild/bbs-3.13-bioc/R/library/BH/include/boost/mpl/assert.hpp:199:21: warning: unnecessary parentheses in declaration of 'assert_not_arg' [-Wparentheses]
 failed ************ (boost::mpl::not_<Pred>::************
                     ^
In file included from ../inst/include/cytolib/CytoFrame.hpp:16,
                 from CytoFrame.cpp:3:
../inst/include/cytolib/compensation.hpp: In constructor 'cytolib::compensation::compensation(const string&)':
../inst/include/cytolib/compensation.hpp:58:20: warning: comparison of integer expressions of different signedness: 'std::vector<std::__cxx11::basic_string<char>, std::allocator<std::__cxx11::basic_string<char> > >::size_type' {aka 'long long unsigned int'} and 'int' [-Wsign-compare]
   if(valVec.size() != 1+n+n*n){
      ~~~~~~~~~~~~~~^~~~~~~~~~
../inst/include/cytolib/compensation.hpp:62:21: warning: comparison of integer expressions of different signedness: 'std::vector<std::__cxx11::basic_string<char>, std::allocator<std::__cxx11::basic_string<char> > >::size_type' {aka 'long long unsigned int'} and 'int' [-Wsign-compare]
    if(valVec.size() == 1+n+2*n*n){
       ~~~~~~~~~~~~~~^~~~~~~~~~~~
../inst/include/cytolib/compensation.hpp:68:33: warning: comparison of integer expressions of different signedness: 'int' and 'std::vector<std::__cxx11::basic_string<char>, std::allocator<std::__cxx11::basic_string<char> > >::size_type' {aka 'long long unsigned int'} [-Wsign-compare]
     for(int i = 1+n, j = 1+n; i < valVec_fixed.size(); i++, j+=2)
                               ~~^~~~~~~~~~~~~~~~~~~~~
"C:/rtools40/mingw64/bin/"g++  -std=gnu++11 -I"C:/Users/BIOCBU~1/BBS-3~1.13-/R/include" -DNDEBUG -DROUT -I../inst/include -DRCPP_PARALLEL_USE_TBB=1 -fpermissive -DBOOST_NO_AUTO_PTR  -I'C:/Users/biocbuild/bbs-3.13-bioc/R/library/Rcpp/include' -I'C:/Users/biocbuild/bbs-3.13-bioc/R/library/BH/include' -I'C:/Users/biocbuild/bbs-3.13-bioc/R/library/RProtoBufLib/include' -I'C:/Users/biocbuild/bbs-3.13-bioc/R/library/Rhdf5lib/include' -I'C:/Users/biocbuild/bbs-3.13-bioc/R/library/RcppArmadillo/include' -I'C:/Users/biocbuild/bbs-3.13-bioc/R/library/RcppParallel/include'   -I"C:/extsoft/include"     -O2 -Wall  -mfpmath=sse -msse2 -mstackrealign  -c CytoFrameView.cpp -o CytoFrameView.o
In file included from C:/Users/biocbuild/bbs-3.13-bioc/R/library/BH/include/boost/mpl/aux_/na_assert.hpp:23,
                 from C:/Users/biocbuild/bbs-3.13-bioc/R/library/BH/include/boost/mpl/arg.hpp:25,
                 from C:/Users/biocbuild/bbs-3.13-bioc/R/library/BH/include/boost/mpl/placeholders.hpp:24,
                 from C:/Users/biocbuild/bbs-3.13-bioc/R/library/BH/include/boost/iterator/iterator_categories.hpp:16,
                 from C:/Users/biocbuild/bbs-3.13-bioc/R/library/BH/include/boost/iterator/iterator_facade.hpp:13,
                 from C:/Users/biocbuild/bbs-3.13-bioc/R/library/BH/include/boost/range/iterator_range_core.hpp:27,
                 from C:/Users/biocbuild/bbs-3.13-bioc/R/library/BH/include/boost/range/iterator_range.hpp:13,
                 from C:/Users/biocbuild/bbs-3.13-bioc/R/library/BH/include/boost/range/as_literal.hpp:18,
                 from C:/Users/biocbuild/bbs-3.13-bioc/R/library/BH/include/boost/algorithm/string/trim.hpp:19,
                 from C:/Users/biocbuild/bbs-3.13-bioc/R/library/BH/include/boost/algorithm/string.hpp:19,
                 from ../inst/include/cytolib/transformation.hpp:18,
                 from ../inst/include/cytolib/compensation.hpp:15,
                 from ../inst/include/cytolib/CytoFrame.hpp:16,
                 from ../inst/include/cytolib/MemCytoFrame.hpp:12,
                 from ../inst/include/cytolib/CytoFrameView.hpp:12,
                 from CytoFrameView.cpp:3:
C:/Users/biocbuild/bbs-3.13-bioc/R/library/BH/include/boost/mpl/assert.hpp:194:21: warning: unnecessary parentheses in declaration of 'assert_arg' [-Wparentheses]
 failed ************ (Pred::************
                     ^
C:/Users/biocbuild/bbs-3.13-bioc/R/library/BH/include/boost/mpl/assert.hpp:199:21: warning: unnecessary parentheses in declaration of 'assert_not_arg' [-Wparentheses]
 failed ************ (boost::mpl::not_<Pred>::************
                     ^
In file included from ../inst/include/cytolib/CytoFrame.hpp:16,
                 from ../inst/include/cytolib/MemCytoFrame.hpp:12,
                 from ../inst/include/cytolib/CytoFrameView.hpp:12,
                 from CytoFrameView.cpp:3:
../inst/include/cytolib/compensation.hpp: In constructor 'cytolib::compensation::compensation(const string&)':
../inst/include/cytolib/compensation.hpp:58:20: warning: comparison of integer expressions of different signedness: 'std::vector<std::__cxx11::basic_string<char>, std::allocator<std::__cxx11::basic_string<char> > >::size_type' {aka 'long long unsigned int'} and 'int' [-Wsign-compare]
   if(valVec.size() != 1+n+n*n){
      ~~~~~~~~~~~~~~^~~~~~~~~~
../inst/include/cytolib/compensation.hpp:62:21: warning: comparison of integer expressions of different signedness: 'std::vector<std::__cxx11::basic_string<char>, std::allocator<std::__cxx11::basic_string<char> > >::size_type' {aka 'long long unsigned int'} and 'int' [-Wsign-compare]
    if(valVec.size() == 1+n+2*n*n){
       ~~~~~~~~~~~~~~^~~~~~~~~~~~
../inst/include/cytolib/compensation.hpp:68:33: warning: comparison of integer expressions of different signedness: 'int' and 'std::vector<std::__cxx11::basic_string<char>, std::allocator<std::__cxx11::basic_string<char> > >::size_type' {aka 'long long unsigned int'} [-Wsign-compare]
     for(int i = 1+n, j = 1+n; i < valVec_fixed.size(); i++, j+=2)
                               ~~^~~~~~~~~~~~~~~~~~~~~
"C:/rtools40/mingw64/bin/"g++  -std=gnu++11 -I"C:/Users/BIOCBU~1/BBS-3~1.13-/R/include" -DNDEBUG -DROUT -I../inst/include -DRCPP_PARALLEL_USE_TBB=1 -fpermissive -DBOOST_NO_AUTO_PTR  -I'C:/Users/biocbuild/bbs-3.13-bioc/R/library/Rcpp/include' -I'C:/Users/biocbuild/bbs-3.13-bioc/R/library/BH/include' -I'C:/Users/biocbuild/bbs-3.13-bioc/R/library/RProtoBufLib/include' -I'C:/Users/biocbuild/bbs-3.13-bioc/R/library/Rhdf5lib/include' -I'C:/Users/biocbuild/bbs-3.13-bioc/R/library/RcppArmadillo/include' -I'C:/Users/biocbuild/bbs-3.13-bioc/R/library/RcppParallel/include'   -I"C:/extsoft/include"     -O2 -Wall  -mfpmath=sse -msse2 -mstackrealign  -c CytoVFS.cpp -o CytoVFS.o
In file included from C:/Users/biocbuild/bbs-3.13-bioc/R/library/BH/include/boost/mpl/aux_/na_assert.hpp:23,
                 from C:/Users/biocbuild/bbs-3.13-bioc/R/library/BH/include/boost/mpl/arg.hpp:25,
                 from C:/Users/biocbuild/bbs-3.13-bioc/R/library/BH/include/boost/mpl/placeholders.hpp:24,
                 from C:/Users/biocbuild/bbs-3.13-bioc/R/library/BH/include/boost/iterator/iterator_categories.hpp:16,
                 from C:/Users/biocbuild/bbs-3.13-bioc/R/library/BH/include/boost/iterator/iterator_facade.hpp:13,
                 from C:/Users/biocbuild/bbs-3.13-bioc/R/library/BH/include/boost/filesystem/path.hpp:29,
                 from C:/Users/biocbuild/bbs-3.13-bioc/R/library/BH/include/boost/filesystem.hpp:16,
                 from ../inst/include/cytolib/CytoVFS.hpp:17,
                 from CytoVFS.cpp:8:
C:/Users/biocbuild/bbs-3.13-bioc/R/library/BH/include/boost/mpl/assert.hpp:194:21: warning: unnecessary parentheses in declaration of 'assert_arg' [-Wparentheses]
 failed ************ (Pred::************
                     ^
C:/Users/biocbuild/bbs-3.13-bioc/R/library/BH/include/boost/mpl/assert.hpp:199:21: warning: unnecessary parentheses in declaration of 'assert_not_arg' [-Wparentheses]
 failed ************ (boost::mpl::not_<Pred>::************
                     ^
"C:/rtools40/mingw64/bin/"g++  -std=gnu++11 -I"C:/Users/BIOCBU~1/BBS-3~1.13-/R/include" -DNDEBUG -DROUT -I../inst/include -DRCPP_PARALLEL_USE_TBB=1 -fpermissive -DBOOST_NO_AUTO_PTR  -I'C:/Users/biocbuild/bbs-3.13-bioc/R/library/Rcpp/include' -I'C:/Users/biocbuild/bbs-3.13-bioc/R/library/BH/include' -I'C:/Users/biocbuild/bbs-3.13-bioc/R/library/RProtoBufLib/include' -I'C:/Users/biocbuild/bbs-3.13-bioc/R/library/Rhdf5lib/include' -I'C:/Users/biocbuild/bbs-3.13-bioc/R/library/RcppArmadillo/include' -I'C:/Users/biocbuild/bbs-3.13-bioc/R/library/RcppParallel/include'   -I"C:/extsoft/include"     -O2 -Wall  -mfpmath=sse -msse2 -mstackrealign  -c GatingHierarchy.cpp -o GatingHierarchy.o
In file included from C:/Users/biocbuild/bbs-3.13-bioc/R/library/BH/include/boost/mpl/aux_/na_assert.hpp:23,
                 from C:/Users/biocbuild/bbs-3.13-bioc/R/library/BH/include/boost/mpl/arg.hpp:25,
                 from C:/Users/biocbuild/bbs-3.13-bioc/R/library/BH/include/boost/mpl/placeholders.hpp:24,
                 from C:/Users/biocbuild/bbs-3.13-bioc/R/library/BH/include/boost/iterator/iterator_categories.hpp:16,
                 from C:/Users/biocbuild/bbs-3.13-bioc/R/library/BH/include/boost/iterator/iterator_facade.hpp:13,
                 from C:/Users/biocbuild/bbs-3.13-bioc/R/library/BH/include/boost/range/iterator_range_core.hpp:27,
                 from C:/Users/biocbuild/bbs-3.13-bioc/R/library/BH/include/boost/range/iterator_range.hpp:13,
                 from C:/Users/biocbuild/bbs-3.13-bioc/R/library/BH/include/boost/range/as_literal.hpp:18,
                 from C:/Users/biocbuild/bbs-3.13-bioc/R/library/BH/include/boost/algorithm/string/trim.hpp:19,
                 from C:/Users/biocbuild/bbs-3.13-bioc/R/library/BH/include/boost/algorithm/string.hpp:19,
                 from ../inst/include/cytolib/transformation.hpp:18,
                 from ../inst/include/cytolib/compensation.hpp:15,
                 from ../inst/include/cytolib/CytoFrame.hpp:16,
                 from ../inst/include/cytolib/MemCytoFrame.hpp:12,
                 from ../inst/include/cytolib/gate.hpp:12,
                 from ../inst/include/cytolib/POPINDICES.hpp:14,
                 from ../inst/include/cytolib/nodeProperties.hpp:13,
                 from ../inst/include/cytolib/populationTree.hpp:13,
                 from ../inst/include/cytolib/GatingHierarchy.hpp:17,
                 from GatingHierarchy.cpp:3:
C:/Users/biocbuild/bbs-3.13-bioc/R/library/BH/include/boost/mpl/assert.hpp:194:21: warning: unnecessary parentheses in declaration of 'assert_arg' [-Wparentheses]
 failed ************ (Pred::************
                     ^
C:/Users/biocbuild/bbs-3.13-bioc/R/library/BH/include/boost/mpl/assert.hpp:199:21: warning: unnecessary parentheses in declaration of 'assert_not_arg' [-Wparentheses]
 failed ************ (boost::mpl::not_<Pred>::************
                     ^
In file included from ../inst/include/cytolib/CytoFrame.hpp:16,
                 from ../inst/include/cytolib/MemCytoFrame.hpp:12,
                 from ../inst/include/cytolib/gate.hpp:12,
                 from ../inst/include/cytolib/POPINDICES.hpp:14,
                 from ../inst/include/cytolib/nodeProperties.hpp:13,
                 from ../inst/include/cytolib/populationTree.hpp:13,
                 from ../inst/include/cytolib/GatingHierarchy.hpp:17,
                 from GatingHierarchy.cpp:3:
../inst/include/cytolib/compensation.hpp: In constructor 'cytolib::compensation::compensation(const string&)':
../inst/include/cytolib/compensation.hpp:58:20: warning: comparison of integer expressions of different signedness: 'std::vector<std::__cxx11::basic_string<char>, std::allocator<std::__cxx11::basic_string<char> > >::size_type' {aka 'long long unsigned int'} and 'int' [-Wsign-compare]
   if(valVec.size() != 1+n+n*n){
      ~~~~~~~~~~~~~~^~~~~~~~~~
../inst/include/cytolib/compensation.hpp:62:21: warning: comparison of integer expressions of different signedness: 'std::vector<std::__cxx11::basic_string<char>, std::allocator<std::__cxx11::basic_string<char> > >::size_type' {aka 'long long unsigned int'} and 'int' [-Wsign-compare]
    if(valVec.size() == 1+n+2*n*n){
       ~~~~~~~~~~~~~~^~~~~~~~~~~~
../inst/include/cytolib/compensation.hpp:68:33: warning: comparison of integer expressions of different signedness: 'int' and 'std::vector<std::__cxx11::basic_string<char>, std::allocator<std::__cxx11::basic_string<char> > >::size_type' {aka 'long long unsigned int'} [-Wsign-compare]
     for(int i = 1+n, j = 1+n; i < valVec_fixed.size(); i++, j+=2)
                               ~~^~~~~~~~~~~~~~~~~~~~~
In file included from C:/Users/biocbuild/bbs-3.13-bioc/R/library/BH/include/boost/graph/adjacency_iterator.hpp:13,
                 from C:/Users/biocbuild/bbs-3.13-bioc/R/library/BH/include/boost/graph/detail/adjacency_list.hpp:37,
                 from C:/Users/biocbuild/bbs-3.13-bioc/R/library/BH/include/boost/graph/adjacency_list.hpp:255,
                 from ../inst/include/cytolib/populationTree.hpp:14,
                 from ../inst/include/cytolib/GatingHierarchy.hpp:17,
                 from GatingHierarchy.cpp:3:
C:/Users/biocbuild/bbs-3.13-bioc/R/library/BH/include/boost/detail/iterator.hpp: At global scope:
C:/Users/biocbuild/bbs-3.13-bioc/R/library/BH/include/boost/detail/iterator.hpp:13:37: note: #pragma message: This header is deprecated. Use <iterator> instead.
 BOOST_HEADER_DEPRECATED("<iterator>")
                                     ^
"C:/rtools40/mingw64/bin/"g++  -std=gnu++11 -I"C:/Users/BIOCBU~1/BBS-3~1.13-/R/include" -DNDEBUG -DROUT -I../inst/include -DRCPP_PARALLEL_USE_TBB=1 -fpermissive -DBOOST_NO_AUTO_PTR  -I'C:/Users/biocbuild/bbs-3.13-bioc/R/library/Rcpp/include' -I'C:/Users/biocbuild/bbs-3.13-bioc/R/library/BH/include' -I'C:/Users/biocbuild/bbs-3.13-bioc/R/library/RProtoBufLib/include' -I'C:/Users/biocbuild/bbs-3.13-bioc/R/library/Rhdf5lib/include' -I'C:/Users/biocbuild/bbs-3.13-bioc/R/library/RcppArmadillo/include' -I'C:/Users/biocbuild/bbs-3.13-bioc/R/library/RcppParallel/include'   -I"C:/extsoft/include"     -O2 -Wall  -mfpmath=sse -msse2 -mstackrealign  -c GatingSet.cpp -o GatingSet.o
In file included from C:/Users/biocbuild/bbs-3.13-bioc/R/library/BH/include/boost/mpl/aux_/na_assert.hpp:23,
                 from C:/Users/biocbuild/bbs-3.13-bioc/R/library/BH/include/boost/mpl/arg.hpp:25,
                 from C:/Users/biocbuild/bbs-3.13-bioc/R/library/BH/include/boost/mpl/placeholders.hpp:24,
                 from C:/Users/biocbuild/bbs-3.13-bioc/R/library/BH/include/boost/iterator/iterator_categories.hpp:16,
                 from C:/Users/biocbuild/bbs-3.13-bioc/R/library/BH/include/boost/iterator/iterator_facade.hpp:13,
                 from C:/Users/biocbuild/bbs-3.13-bioc/R/library/BH/include/boost/range/iterator_range_core.hpp:27,
                 from C:/Users/biocbuild/bbs-3.13-bioc/R/library/BH/include/boost/range/iterator_range.hpp:13,
                 from C:/Users/biocbuild/bbs-3.13-bioc/R/library/BH/include/boost/range/as_literal.hpp:18,
                 from C:/Users/biocbuild/bbs-3.13-bioc/R/library/BH/include/boost/algorithm/string/trim.hpp:19,
                 from C:/Users/biocbuild/bbs-3.13-bioc/R/library/BH/include/boost/algorithm/string.hpp:19,
                 from ../inst/include/cytolib/transformation.hpp:18,
                 from ../inst/include/cytolib/compensation.hpp:15,
                 from ../inst/include/cytolib/CytoFrame.hpp:16,
                 from ../inst/include/cytolib/MemCytoFrame.hpp:12,
                 from ../inst/include/cytolib/gate.hpp:12,
                 from ../inst/include/cytolib/POPINDICES.hpp:14,
                 from ../inst/include/cytolib/nodeProperties.hpp:13,
                 from ../inst/include/cytolib/populationTree.hpp:13,
                 from ../inst/include/cytolib/GatingHierarchy.hpp:17,
                 from ../inst/include/cytolib/GatingSet.hpp:14,
                 from GatingSet.cpp:3:
C:/Users/biocbuild/bbs-3.13-bioc/R/library/BH/include/boost/mpl/assert.hpp:194:21: warning: unnecessary parentheses in declaration of 'assert_arg' [-Wparentheses]
 failed ************ (Pred::************
                     ^
C:/Users/biocbuild/bbs-3.13-bioc/R/library/BH/include/boost/mpl/assert.hpp:199:21: warning: unnecessary parentheses in declaration of 'assert_not_arg' [-Wparentheses]
 failed ************ (boost::mpl::not_<Pred>::************
                     ^
In file included from ../inst/include/cytolib/CytoFrame.hpp:16,
                 from ../inst/include/cytolib/MemCytoFrame.hpp:12,
                 from ../inst/include/cytolib/gate.hpp:12,
                 from ../inst/include/cytolib/POPINDICES.hpp:14,
                 from ../inst/include/cytolib/nodeProperties.hpp:13,
                 from ../inst/include/cytolib/populationTree.hpp:13,
                 from ../inst/include/cytolib/GatingHierarchy.hpp:17,
                 from ../inst/include/cytolib/GatingSet.hpp:14,
                 from GatingSet.cpp:3:
../inst/include/cytolib/compensation.hpp: In constructor 'cytolib::compensation::compensation(const string&)':
../inst/include/cytolib/compensation.hpp:58:20: warning: comparison of integer expressions of different signedness: 'std::vector<std::__cxx11::basic_string<char>, std::allocator<std::__cxx11::basic_string<char> > >::size_type' {aka 'long long unsigned int'} and 'int' [-Wsign-compare]
   if(valVec.size() != 1+n+n*n){
      ~~~~~~~~~~~~~~^~~~~~~~~~
../inst/include/cytolib/compensation.hpp:62:21: warning: comparison of integer expressions of different signedness: 'std::vector<std::__cxx11::basic_string<char>, std::allocator<std::__cxx11::basic_string<char> > >::size_type' {aka 'long long unsigned int'} and 'int' [-Wsign-compare]
    if(valVec.size() == 1+n+2*n*n){
       ~~~~~~~~~~~~~~^~~~~~~~~~~~
../inst/include/cytolib/compensation.hpp:68:33: warning: comparison of integer expressions of different signedness: 'int' and 'std::vector<std::__cxx11::basic_string<char>, std::allocator<std::__cxx11::basic_string<char> > >::size_type' {aka 'long long unsigned int'} [-Wsign-compare]
     for(int i = 1+n, j = 1+n; i < valVec_fixed.size(); i++, j+=2)
                               ~~^~~~~~~~~~~~~~~~~~~~~
In file included from C:/Users/biocbuild/bbs-3.13-bioc/R/library/BH/include/boost/graph/adjacency_iterator.hpp:13,
                 from C:/Users/biocbuild/bbs-3.13-bioc/R/library/BH/include/boost/graph/detail/adjacency_list.hpp:37,
                 from C:/Users/biocbuild/bbs-3.13-bioc/R/library/BH/include/boost/graph/adjacency_list.hpp:255,
                 from ../inst/include/cytolib/populationTree.hpp:14,
                 from ../inst/include/cytolib/GatingHierarchy.hpp:17,
                 from ../inst/include/cytolib/GatingSet.hpp:14,
                 from GatingSet.cpp:3:
C:/Users/biocbuild/bbs-3.13-bioc/R/library/BH/include/boost/detail/iterator.hpp: At global scope:
C:/Users/biocbuild/bbs-3.13-bioc/R/library/BH/include/boost/detail/iterator.hpp:13:37: note: #pragma message: This header is deprecated. Use <iterator> instead.
 BOOST_HEADER_DEPRECATED("<iterator>")
                                     ^
In file included from ../inst/include/cytolib/compensation.hpp:19,
                 from ../inst/include/cytolib/CytoFrame.hpp:16,
                 from ../inst/include/cytolib/MemCytoFrame.hpp:12,
                 from ../inst/include/cytolib/gate.hpp:12,
                 from ../inst/include/cytolib/POPINDICES.hpp:14,
                 from ../inst/include/cytolib/nodeProperties.hpp:13,
                 from ../inst/include/cytolib/populationTree.hpp:13,
                 from ../inst/include/cytolib/GatingHierarchy.hpp:17,
                 from ../inst/include/cytolib/GatingSet.hpp:14,
                 from GatingSet.cpp:3:
../inst/include/cytolib/global.hpp: In constructor 'cytolib::GatingSet::GatingSet(std::__cxx11::string, bool, bool, std::vector<std::__cxx11::basic_string<char>, std::allocator<std::__cxx11::basic_string<char> > >, bool, cytolib::CytoCtx)':
../inst/include/cytolib/global.hpp:29:3: warning: 'fmt' may be used uninitialized in this function [-Wmaybe-uninitialized]
   switch(fmt)
   ^~~~~~
GatingSet.cpp:30:14: note: 'fmt' was declared here
   FileFormat fmt;
              ^~~
"C:/rtools40/mingw64/bin/"g++  -std=gnu++11 -I"C:/Users/BIOCBU~1/BBS-3~1.13-/R/include" -DNDEBUG -DROUT -I../inst/include -DRCPP_PARALLEL_USE_TBB=1 -fpermissive -DBOOST_NO_AUTO_PTR  -I'C:/Users/biocbuild/bbs-3.13-bioc/R/library/Rcpp/include' -I'C:/Users/biocbuild/bbs-3.13-bioc/R/library/BH/include' -I'C:/Users/biocbuild/bbs-3.13-bioc/R/library/RProtoBufLib/include' -I'C:/Users/biocbuild/bbs-3.13-bioc/R/library/Rhdf5lib/include' -I'C:/Users/biocbuild/bbs-3.13-bioc/R/library/RcppArmadillo/include' -I'C:/Users/biocbuild/bbs-3.13-bioc/R/library/RcppParallel/include'   -I"C:/extsoft/include"     -O2 -Wall  -mfpmath=sse -msse2 -mstackrealign  -c H5CytoFrame.cpp -o H5CytoFrame.o
In file included from C:/Users/biocbuild/bbs-3.13-bioc/R/library/BH/include/boost/mpl/aux_/na_assert.hpp:23,
                 from C:/Users/biocbuild/bbs-3.13-bioc/R/library/BH/include/boost/mpl/arg.hpp:25,
                 from C:/Users/biocbuild/bbs-3.13-bioc/R/library/BH/include/boost/mpl/placeholders.hpp:24,
                 from C:/Users/biocbuild/bbs-3.13-bioc/R/library/BH/include/boost/iterator/iterator_categories.hpp:16,
                 from C:/Users/biocbuild/bbs-3.13-bioc/R/library/BH/include/boost/iterator/iterator_facade.hpp:13,
                 from C:/Users/biocbuild/bbs-3.13-bioc/R/library/BH/include/boost/range/iterator_range_core.hpp:27,
                 from C:/Users/biocbuild/bbs-3.13-bioc/R/library/BH/include/boost/range/iterator_range.hpp:13,
                 from C:/Users/biocbuild/bbs-3.13-bioc/R/library/BH/include/boost/range/as_literal.hpp:18,
                 from C:/Users/biocbuild/bbs-3.13-bioc/R/library/BH/include/boost/algorithm/string/trim.hpp:19,
                 from C:/Users/biocbuild/bbs-3.13-bioc/R/library/BH/include/boost/algorithm/string.hpp:19,
                 from ../inst/include/cytolib/transformation.hpp:18,
                 from ../inst/include/cytolib/compensation.hpp:15,
                 from ../inst/include/cytolib/CytoFrame.hpp:16,
                 from ../inst/include/cytolib/MemCytoFrame.hpp:12,
                 from ../inst/include/cytolib/H5CytoFrame.hpp:12,
                 from H5CytoFrame.cpp:3:
C:/Users/biocbuild/bbs-3.13-bioc/R/library/BH/include/boost/mpl/assert.hpp:194:21: warning: unnecessary parentheses in declaration of 'assert_arg' [-Wparentheses]
 failed ************ (Pred::************
                     ^
C:/Users/biocbuild/bbs-3.13-bioc/R/library/BH/include/boost/mpl/assert.hpp:199:21: warning: unnecessary parentheses in declaration of 'assert_not_arg' [-Wparentheses]
 failed ************ (boost::mpl::not_<Pred>::************
                     ^
In file included from ../inst/include/cytolib/CytoFrame.hpp:16,
                 from ../inst/include/cytolib/MemCytoFrame.hpp:12,
                 from ../inst/include/cytolib/H5CytoFrame.hpp:12,
                 from H5CytoFrame.cpp:3:
../inst/include/cytolib/compensation.hpp: In constructor 'cytolib::compensation::compensation(const string&)':
../inst/include/cytolib/compensation.hpp:58:20: warning: comparison of integer expressions of different signedness: 'std::vector<std::__cxx11::basic_string<char>, std::allocator<std::__cxx11::basic_string<char> > >::size_type' {aka 'long long unsigned int'} and 'int' [-Wsign-compare]
   if(valVec.size() != 1+n+n*n){
      ~~~~~~~~~~~~~~^~~~~~~~~~
../inst/include/cytolib/compensation.hpp:62:21: warning: comparison of integer expressions of different signedness: 'std::vector<std::__cxx11::basic_string<char>, std::allocator<std::__cxx11::basic_string<char> > >::size_type' {aka 'long long unsigned int'} and 'int' [-Wsign-compare]
    if(valVec.size() == 1+n+2*n*n){
       ~~~~~~~~~~~~~~^~~~~~~~~~~~
../inst/include/cytolib/compensation.hpp:68:33: warning: comparison of integer expressions of different signedness: 'int' and 'std::vector<std::__cxx11::basic_string<char>, std::allocator<std::__cxx11::basic_string<char> > >::size_type' {aka 'long long unsigned int'} [-Wsign-compare]
     for(int i = 1+n, j = 1+n; i < valVec_fixed.size(); i++, j+=2)
                               ~~^~~~~~~~~~~~~~~~~~~~~
"C:/rtools40/mingw64/bin/"g++  -std=gnu++11 -I"C:/Users/BIOCBU~1/BBS-3~1.13-/R/include" -DNDEBUG -DROUT -I../inst/include -DRCPP_PARALLEL_USE_TBB=1 -fpermissive -DBOOST_NO_AUTO_PTR  -I'C:/Users/biocbuild/bbs-3.13-bioc/R/library/Rcpp/include' -I'C:/Users/biocbuild/bbs-3.13-bioc/R/library/BH/include' -I'C:/Users/biocbuild/bbs-3.13-bioc/R/library/RProtoBufLib/include' -I'C:/Users/biocbuild/bbs-3.13-bioc/R/library/Rhdf5lib/include' -I'C:/Users/biocbuild/bbs-3.13-bioc/R/library/RcppArmadillo/include' -I'C:/Users/biocbuild/bbs-3.13-bioc/R/library/RcppParallel/include'   -I"C:/extsoft/include"     -O2 -Wall  -mfpmath=sse -msse2 -mstackrealign  -c MemCytoFrame.cpp -o MemCytoFrame.o
MemCytoFrame.cpp:538: warning: ignoring #pragma omp parallel [-Wunknown-pragmas]
      #pragma omp parallel for
 
In file included from C:/Users/biocbuild/bbs-3.13-bioc/R/library/BH/include/boost/mpl/aux_/na_assert.hpp:23,
                 from C:/Users/biocbuild/bbs-3.13-bioc/R/library/BH/include/boost/mpl/arg.hpp:25,
                 from C:/Users/biocbuild/bbs-3.13-bioc/R/library/BH/include/boost/mpl/placeholders.hpp:24,
                 from C:/Users/biocbuild/bbs-3.13-bioc/R/library/BH/include/boost/iterator/iterator_categories.hpp:16,
                 from C:/Users/biocbuild/bbs-3.13-bioc/R/library/BH/include/boost/iterator/iterator_facade.hpp:13,
                 from C:/Users/biocbuild/bbs-3.13-bioc/R/library/BH/include/boost/range/iterator_range_core.hpp:27,
                 from C:/Users/biocbuild/bbs-3.13-bioc/R/library/BH/include/boost/range/iterator_range.hpp:13,
                 from C:/Users/biocbuild/bbs-3.13-bioc/R/library/BH/include/boost/range/as_literal.hpp:18,
                 from C:/Users/biocbuild/bbs-3.13-bioc/R/library/BH/include/boost/algorithm/string/trim.hpp:19,
                 from C:/Users/biocbuild/bbs-3.13-bioc/R/library/BH/include/boost/algorithm/string.hpp:19,
                 from ../inst/include/cytolib/transformation.hpp:18,
                 from ../inst/include/cytolib/compensation.hpp:15,
                 from ../inst/include/cytolib/CytoFrame.hpp:16,
                 from ../inst/include/cytolib/MemCytoFrame.hpp:12,
                 from MemCytoFrame.cpp:3:
C:/Users/biocbuild/bbs-3.13-bioc/R/library/BH/include/boost/mpl/assert.hpp:194:21: warning: unnecessary parentheses in declaration of 'assert_arg' [-Wparentheses]
 failed ************ (Pred::************
                     ^
C:/Users/biocbuild/bbs-3.13-bioc/R/library/BH/include/boost/mpl/assert.hpp:199:21: warning: unnecessary parentheses in declaration of 'assert_not_arg' [-Wparentheses]
 failed ************ (boost::mpl::not_<Pred>::************
                     ^
In file included from ../inst/include/cytolib/CytoFrame.hpp:16,
                 from ../inst/include/cytolib/MemCytoFrame.hpp:12,
                 from MemCytoFrame.cpp:3:
../inst/include/cytolib/compensation.hpp: In constructor 'cytolib::compensation::compensation(const string&)':
../inst/include/cytolib/compensation.hpp:58:20: warning: comparison of integer expressions of different signedness: 'std::vector<std::__cxx11::basic_string<char>, std::allocator<std::__cxx11::basic_string<char> > >::size_type' {aka 'long long unsigned int'} and 'int' [-Wsign-compare]
   if(valVec.size() != 1+n+n*n){
      ~~~~~~~~~~~~~~^~~~~~~~~~
../inst/include/cytolib/compensation.hpp:62:21: warning: comparison of integer expressions of different signedness: 'std::vector<std::__cxx11::basic_string<char>, std::allocator<std::__cxx11::basic_string<char> > >::size_type' {aka 'long long unsigned int'} and 'int' [-Wsign-compare]
    if(valVec.size() == 1+n+2*n*n){
       ~~~~~~~~~~~~~~^~~~~~~~~~~~
../inst/include/cytolib/compensation.hpp:68:33: warning: comparison of integer expressions of different signedness: 'int' and 'std::vector<std::__cxx11::basic_string<char>, std::allocator<std::__cxx11::basic_string<char> > >::size_type' {aka 'long long unsigned int'} [-Wsign-compare]
     for(int i = 1+n, j = 1+n; i < valVec_fixed.size(); i++, j+=2)
                               ~~^~~~~~~~~~~~~~~~~~~~~
"C:/rtools40/mingw64/bin/"g++  -std=gnu++11 -I"C:/Users/BIOCBU~1/BBS-3~1.13-/R/include" -DNDEBUG -DROUT -I../inst/include -DRCPP_PARALLEL_USE_TBB=1 -fpermissive -DBOOST_NO_AUTO_PTR  -I'C:/Users/biocbuild/bbs-3.13-bioc/R/library/Rcpp/include' -I'C:/Users/biocbuild/bbs-3.13-bioc/R/library/BH/include' -I'C:/Users/biocbuild/bbs-3.13-bioc/R/library/RProtoBufLib/include' -I'C:/Users/biocbuild/bbs-3.13-bioc/R/library/Rhdf5lib/include' -I'C:/Users/biocbuild/bbs-3.13-bioc/R/library/RcppArmadillo/include' -I'C:/Users/biocbuild/bbs-3.13-bioc/R/library/RcppParallel/include'   -I"C:/extsoft/include"     -O2 -Wall  -mfpmath=sse -msse2 -mstackrealign  -c POPINDICES.cpp -o POPINDICES.o
In file included from C:/Users/biocbuild/bbs-3.13-bioc/R/library/BH/include/boost/mpl/aux_/na_assert.hpp:23,
                 from C:/Users/biocbuild/bbs-3.13-bioc/R/library/BH/include/boost/mpl/arg.hpp:25,
                 from C:/Users/biocbuild/bbs-3.13-bioc/R/library/BH/include/boost/mpl/placeholders.hpp:24,
                 from C:/Users/biocbuild/bbs-3.13-bioc/R/library/BH/include/boost/iterator/iterator_categories.hpp:16,
                 from C:/Users/biocbuild/bbs-3.13-bioc/R/library/BH/include/boost/iterator/iterator_facade.hpp:13,
                 from C:/Users/biocbuild/bbs-3.13-bioc/R/library/BH/include/boost/range/iterator_range_core.hpp:27,
                 from C:/Users/biocbuild/bbs-3.13-bioc/R/library/BH/include/boost/range/iterator_range.hpp:13,
                 from C:/Users/biocbuild/bbs-3.13-bioc/R/library/BH/include/boost/range/as_literal.hpp:18,
                 from C:/Users/biocbuild/bbs-3.13-bioc/R/library/BH/include/boost/algorithm/string/trim.hpp:19,
                 from C:/Users/biocbuild/bbs-3.13-bioc/R/library/BH/include/boost/algorithm/string.hpp:19,
                 from ../inst/include/cytolib/transformation.hpp:18,
                 from ../inst/include/cytolib/compensation.hpp:15,
                 from ../inst/include/cytolib/CytoFrame.hpp:16,
                 from ../inst/include/cytolib/MemCytoFrame.hpp:12,
                 from ../inst/include/cytolib/gate.hpp:12,
                 from ../inst/include/cytolib/POPINDICES.hpp:14,
                 from POPINDICES.cpp:3:
C:/Users/biocbuild/bbs-3.13-bioc/R/library/BH/include/boost/mpl/assert.hpp:194:21: warning: unnecessary parentheses in declaration of 'assert_arg' [-Wparentheses]
 failed ************ (Pred::************
                     ^
C:/Users/biocbuild/bbs-3.13-bioc/R/library/BH/include/boost/mpl/assert.hpp:199:21: warning: unnecessary parentheses in declaration of 'assert_not_arg' [-Wparentheses]
 failed ************ (boost::mpl::not_<Pred>::************
                     ^
In file included from ../inst/include/cytolib/CytoFrame.hpp:16,
                 from ../inst/include/cytolib/MemCytoFrame.hpp:12,
                 from ../inst/include/cytolib/gate.hpp:12,
                 from ../inst/include/cytolib/POPINDICES.hpp:14,
                 from POPINDICES.cpp:3:
../inst/include/cytolib/compensation.hpp: In constructor 'cytolib::compensation::compensation(const string&)':
../inst/include/cytolib/compensation.hpp:58:20: warning: comparison of integer expressions of different signedness: 'std::vector<std::__cxx11::basic_string<char>, std::allocator<std::__cxx11::basic_string<char> > >::size_type' {aka 'long long unsigned int'} and 'int' [-Wsign-compare]
   if(valVec.size() != 1+n+n*n){
      ~~~~~~~~~~~~~~^~~~~~~~~~
../inst/include/cytolib/compensation.hpp:62:21: warning: comparison of integer expressions of different signedness: 'std::vector<std::__cxx11::basic_string<char>, std::allocator<std::__cxx11::basic_string<char> > >::size_type' {aka 'long long unsigned int'} and 'int' [-Wsign-compare]
    if(valVec.size() == 1+n+2*n*n){
       ~~~~~~~~~~~~~~^~~~~~~~~~~~
../inst/include/cytolib/compensation.hpp:68:33: warning: comparison of integer expressions of different signedness: 'int' and 'std::vector<std::__cxx11::basic_string<char>, std::allocator<std::__cxx11::basic_string<char> > >::size_type' {aka 'long long unsigned int'} [-Wsign-compare]
     for(int i = 1+n, j = 1+n; i < valVec_fixed.size(); i++, j+=2)
                               ~~^~~~~~~~~~~~~~~~~~~~~
"C:/rtools40/mingw64/bin/"g++  -std=gnu++11 -I"C:/Users/BIOCBU~1/BBS-3~1.13-/R/include" -DNDEBUG -DROUT -I../inst/include -DRCPP_PARALLEL_USE_TBB=1 -fpermissive -DBOOST_NO_AUTO_PTR  -I'C:/Users/biocbuild/bbs-3.13-bioc/R/library/Rcpp/include' -I'C:/Users/biocbuild/bbs-3.13-bioc/R/library/BH/include' -I'C:/Users/biocbuild/bbs-3.13-bioc/R/library/RProtoBufLib/include' -I'C:/Users/biocbuild/bbs-3.13-bioc/R/library/Rhdf5lib/include' -I'C:/Users/biocbuild/bbs-3.13-bioc/R/library/RcppArmadillo/include' -I'C:/Users/biocbuild/bbs-3.13-bioc/R/library/RcppParallel/include'   -I"C:/extsoft/include"     -O2 -Wall  -mfpmath=sse -msse2 -mstackrealign  -c calibrationTable.cpp -o calibrationTable.o
In file included from C:/Users/biocbuild/bbs-3.13-bioc/R/library/BH/include/boost/foreach.hpp:76,
                 from calibrationTable.cpp:5:
C:/Users/biocbuild/bbs-3.13-bioc/R/library/BH/include/boost/mpl/assert.hpp:194:21: warning: unnecessary parentheses in declaration of 'assert_arg' [-Wparentheses]
 failed ************ (Pred::************
                     ^
C:/Users/biocbuild/bbs-3.13-bioc/R/library/BH/include/boost/mpl/assert.hpp:199:21: warning: unnecessary parentheses in declaration of 'assert_not_arg' [-Wparentheses]
 failed ************ (boost::mpl::not_<Pred>::************
                     ^
"C:/rtools40/mingw64/bin/"g++  -std=gnu++11 -I"C:/Users/BIOCBU~1/BBS-3~1.13-/R/include" -DNDEBUG -DROUT -I../inst/include -DRCPP_PARALLEL_USE_TBB=1 -fpermissive -DBOOST_NO_AUTO_PTR  -I'C:/Users/biocbuild/bbs-3.13-bioc/R/library/Rcpp/include' -I'C:/Users/biocbuild/bbs-3.13-bioc/R/library/BH/include' -I'C:/Users/biocbuild/bbs-3.13-bioc/R/library/RProtoBufLib/include' -I'C:/Users/biocbuild/bbs-3.13-bioc/R/library/Rhdf5lib/include' -I'C:/Users/biocbuild/bbs-3.13-bioc/R/library/RcppArmadillo/include' -I'C:/Users/biocbuild/bbs-3.13-bioc/R/library/RcppParallel/include'   -I"C:/extsoft/include"     -O2 -Wall  -mfpmath=sse -msse2 -mstackrealign  -c compensation.cpp -o compensation.o
In file included from C:/Users/biocbuild/bbs-3.13-bioc/R/library/BH/include/boost/mpl/aux_/na_assert.hpp:23,
                 from C:/Users/biocbuild/bbs-3.13-bioc/R/library/BH/include/boost/mpl/arg.hpp:25,
                 from C:/Users/biocbuild/bbs-3.13-bioc/R/library/BH/include/boost/mpl/placeholders.hpp:24,
                 from C:/Users/biocbuild/bbs-3.13-bioc/R/library/BH/include/boost/iterator/iterator_categories.hpp:16,
                 from C:/Users/biocbuild/bbs-3.13-bioc/R/library/BH/include/boost/iterator/iterator_facade.hpp:13,
                 from C:/Users/biocbuild/bbs-3.13-bioc/R/library/BH/include/boost/range/iterator_range_core.hpp:27,
                 from C:/Users/biocbuild/bbs-3.13-bioc/R/library/BH/include/boost/range/iterator_range.hpp:13,
                 from C:/Users/biocbuild/bbs-3.13-bioc/R/library/BH/include/boost/range/as_literal.hpp:18,
                 from C:/Users/biocbuild/bbs-3.13-bioc/R/library/BH/include/boost/algorithm/string/trim.hpp:19,
                 from C:/Users/biocbuild/bbs-3.13-bioc/R/library/BH/include/boost/algorithm/string.hpp:19,
                 from ../inst/include/cytolib/transformation.hpp:18,
                 from ../inst/include/cytolib/compensation.hpp:15,
                 from compensation.cpp:3:
C:/Users/biocbuild/bbs-3.13-bioc/R/library/BH/include/boost/mpl/assert.hpp:194:21: warning: unnecessary parentheses in declaration of 'assert_arg' [-Wparentheses]
 failed ************ (Pred::************
                     ^
C:/Users/biocbuild/bbs-3.13-bioc/R/library/BH/include/boost/mpl/assert.hpp:199:21: warning: unnecessary parentheses in declaration of 'assert_not_arg' [-Wparentheses]
 failed ************ (boost::mpl::not_<Pred>::************
                     ^
In file included from compensation.cpp:3:
../inst/include/cytolib/compensation.hpp: In constructor 'cytolib::compensation::compensation(const string&)':
../inst/include/cytolib/compensation.hpp:58:20: warning: comparison of integer expressions of different signedness: 'std::vector<std::__cxx11::basic_string<char>, std::allocator<std::__cxx11::basic_string<char> > >::size_type' {aka 'long long unsigned int'} and 'int' [-Wsign-compare]
   if(valVec.size() != 1+n+n*n){
      ~~~~~~~~~~~~~~^~~~~~~~~~
../inst/include/cytolib/compensation.hpp:62:21: warning: comparison of integer expressions of different signedness: 'std::vector<std::__cxx11::basic_string<char>, std::allocator<std::__cxx11::basic_string<char> > >::size_type' {aka 'long long unsigned int'} and 'int' [-Wsign-compare]
    if(valVec.size() == 1+n+2*n*n){
       ~~~~~~~~~~~~~~^~~~~~~~~~~~
../inst/include/cytolib/compensation.hpp:68:33: warning: comparison of integer expressions of different signedness: 'int' and 'std::vector<std::__cxx11::basic_string<char>, std::allocator<std::__cxx11::basic_string<char> > >::size_type' {aka 'long long unsigned int'} [-Wsign-compare]
     for(int i = 1+n, j = 1+n; i < valVec_fixed.size(); i++, j+=2)
                               ~~^~~~~~~~~~~~~~~~~~~~~
"C:/rtools40/mingw64/bin/"g++  -std=gnu++11 -I"C:/Users/BIOCBU~1/BBS-3~1.13-/R/include" -DNDEBUG -DROUT -I../inst/include -DRCPP_PARALLEL_USE_TBB=1 -fpermissive -DBOOST_NO_AUTO_PTR  -I'C:/Users/biocbuild/bbs-3.13-bioc/R/library/Rcpp/include' -I'C:/Users/biocbuild/bbs-3.13-bioc/R/library/BH/include' -I'C:/Users/biocbuild/bbs-3.13-bioc/R/library/RProtoBufLib/include' -I'C:/Users/biocbuild/bbs-3.13-bioc/R/library/Rhdf5lib/include' -I'C:/Users/biocbuild/bbs-3.13-bioc/R/library/RcppArmadillo/include' -I'C:/Users/biocbuild/bbs-3.13-bioc/R/library/RcppParallel/include'   -I"C:/extsoft/include"     -O2 -Wall  -mfpmath=sse -msse2 -mstackrealign  -c dummy.cpp -o dummy.o
"C:/rtools40/mingw64/bin/"g++  -std=gnu++11 -I"C:/Users/BIOCBU~1/BBS-3~1.13-/R/include" -DNDEBUG -DROUT -I../inst/include -DRCPP_PARALLEL_USE_TBB=1 -fpermissive -DBOOST_NO_AUTO_PTR  -I'C:/Users/biocbuild/bbs-3.13-bioc/R/library/Rcpp/include' -I'C:/Users/biocbuild/bbs-3.13-bioc/R/library/BH/include' -I'C:/Users/biocbuild/bbs-3.13-bioc/R/library/RProtoBufLib/include' -I'C:/Users/biocbuild/bbs-3.13-bioc/R/library/Rhdf5lib/include' -I'C:/Users/biocbuild/bbs-3.13-bioc/R/library/RcppArmadillo/include' -I'C:/Users/biocbuild/bbs-3.13-bioc/R/library/RcppParallel/include'   -I"C:/extsoft/include"     -O2 -Wall  -mfpmath=sse -msse2 -mstackrealign  -c ellipse2points.cpp -o ellipse2points.o
"C:/rtools40/mingw64/bin/"g++  -std=gnu++11 -I"C:/Users/BIOCBU~1/BBS-3~1.13-/R/include" -DNDEBUG -DROUT -I../inst/include -DRCPP_PARALLEL_USE_TBB=1 -fpermissive -DBOOST_NO_AUTO_PTR  -I'C:/Users/biocbuild/bbs-3.13-bioc/R/library/Rcpp/include' -I'C:/Users/biocbuild/bbs-3.13-bioc/R/library/BH/include' -I'C:/Users/biocbuild/bbs-3.13-bioc/R/library/RProtoBufLib/include' -I'C:/Users/biocbuild/bbs-3.13-bioc/R/library/Rhdf5lib/include' -I'C:/Users/biocbuild/bbs-3.13-bioc/R/library/RcppArmadillo/include' -I'C:/Users/biocbuild/bbs-3.13-bioc/R/library/RcppParallel/include'   -I"C:/extsoft/include"     -O2 -Wall  -mfpmath=sse -msse2 -mstackrealign  -c gate.cpp -o gate.o
In file included from C:/Users/biocbuild/bbs-3.13-bioc/R/library/BH/include/boost/mpl/aux_/na_assert.hpp:23,
                 from C:/Users/biocbuild/bbs-3.13-bioc/R/library/BH/include/boost/mpl/arg.hpp:25,
                 from C:/Users/biocbuild/bbs-3.13-bioc/R/library/BH/include/boost/mpl/placeholders.hpp:24,
                 from C:/Users/biocbuild/bbs-3.13-bioc/R/library/BH/include/boost/iterator/iterator_categories.hpp:16,
                 from C:/Users/biocbuild/bbs-3.13-bioc/R/library/BH/include/boost/iterator/iterator_facade.hpp:13,
                 from C:/Users/biocbuild/bbs-3.13-bioc/R/library/BH/include/boost/range/iterator_range_core.hpp:27,
                 from C:/Users/biocbuild/bbs-3.13-bioc/R/library/BH/include/boost/range/iterator_range.hpp:13,
                 from C:/Users/biocbuild/bbs-3.13-bioc/R/library/BH/include/boost/range/as_literal.hpp:18,
                 from C:/Users/biocbuild/bbs-3.13-bioc/R/library/BH/include/boost/algorithm/string/trim.hpp:19,
                 from C:/Users/biocbuild/bbs-3.13-bioc/R/library/BH/include/boost/algorithm/string.hpp:19,
                 from ../inst/include/cytolib/transformation.hpp:18,
                 from ../inst/include/cytolib/compensation.hpp:15,
                 from ../inst/include/cytolib/CytoFrame.hpp:16,
                 from ../inst/include/cytolib/MemCytoFrame.hpp:12,
                 from ../inst/include/cytolib/gate.hpp:12,
                 from gate.cpp:3:
C:/Users/biocbuild/bbs-3.13-bioc/R/library/BH/include/boost/mpl/assert.hpp:194:21: warning: unnecessary parentheses in declaration of 'assert_arg' [-Wparentheses]
 failed ************ (Pred::************
                     ^
C:/Users/biocbuild/bbs-3.13-bioc/R/library/BH/include/boost/mpl/assert.hpp:199:21: warning: unnecessary parentheses in declaration of 'assert_not_arg' [-Wparentheses]
 failed ************ (boost::mpl::not_<Pred>::************
                     ^
In file included from ../inst/include/cytolib/CytoFrame.hpp:16,
                 from ../inst/include/cytolib/MemCytoFrame.hpp:12,
                 from ../inst/include/cytolib/gate.hpp:12,
                 from gate.cpp:3:
../inst/include/cytolib/compensation.hpp: In constructor 'cytolib::compensation::compensation(const string&)':
../inst/include/cytolib/compensation.hpp:58:20: warning: comparison of integer expressions of different signedness: 'std::vector<std::__cxx11::basic_string<char>, std::allocator<std::__cxx11::basic_string<char> > >::size_type' {aka 'long long unsigned int'} and 'int' [-Wsign-compare]
   if(valVec.size() != 1+n+n*n){
      ~~~~~~~~~~~~~~^~~~~~~~~~
../inst/include/cytolib/compensation.hpp:62:21: warning: comparison of integer expressions of different signedness: 'std::vector<std::__cxx11::basic_string<char>, std::allocator<std::__cxx11::basic_string<char> > >::size_type' {aka 'long long unsigned int'} and 'int' [-Wsign-compare]
    if(valVec.size() == 1+n+2*n*n){
       ~~~~~~~~~~~~~~^~~~~~~~~~~~
../inst/include/cytolib/compensation.hpp:68:33: warning: comparison of integer expressions of different signedness: 'int' and 'std::vector<std::__cxx11::basic_string<char>, std::allocator<std::__cxx11::basic_string<char> > >::size_type' {aka 'long long unsigned int'} [-Wsign-compare]
     for(int i = 1+n, j = 1+n; i < valVec_fixed.size(); i++, j+=2)
                               ~~^~~~~~~~~~~~~~~~~~~~~
"C:/rtools40/mingw64/bin/"g++  -std=gnu++11 -I"C:/Users/BIOCBU~1/BBS-3~1.13-/R/include" -DNDEBUG -DROUT -I../inst/include -DRCPP_PARALLEL_USE_TBB=1 -fpermissive -DBOOST_NO_AUTO_PTR  -I'C:/Users/biocbuild/bbs-3.13-bioc/R/library/Rcpp/include' -I'C:/Users/biocbuild/bbs-3.13-bioc/R/library/BH/include' -I'C:/Users/biocbuild/bbs-3.13-bioc/R/library/RProtoBufLib/include' -I'C:/Users/biocbuild/bbs-3.13-bioc/R/library/Rhdf5lib/include' -I'C:/Users/biocbuild/bbs-3.13-bioc/R/library/RcppArmadillo/include' -I'C:/Users/biocbuild/bbs-3.13-bioc/R/library/RcppParallel/include'   -I"C:/extsoft/include"     -O2 -Wall  -mfpmath=sse -msse2 -mstackrealign  -c global.cpp -o global.o
In file included from C:/Users/biocbuild/bbs-3.13-bioc/R/library/BH/include/boost/mpl/aux_/na_assert.hpp:23,
                 from C:/Users/biocbuild/bbs-3.13-bioc/R/library/BH/include/boost/mpl/arg.hpp:25,
                 from C:/Users/biocbuild/bbs-3.13-bioc/R/library/BH/include/boost/mpl/placeholders.hpp:24,
                 from C:/Users/biocbuild/bbs-3.13-bioc/R/library/BH/include/boost/iterator/iterator_categories.hpp:16,
                 from C:/Users/biocbuild/bbs-3.13-bioc/R/library/BH/include/boost/iterator/iterator_facade.hpp:13,
                 from C:/Users/biocbuild/bbs-3.13-bioc/R/library/BH/include/boost/filesystem/path.hpp:29,
                 from C:/Users/biocbuild/bbs-3.13-bioc/R/library/BH/include/boost/filesystem.hpp:16,
                 from ../inst/include/cytolib/CytoVFS.hpp:17,
                 from ../inst/include/cytolib/global.hpp:21,
                 from global.cpp:3:
C:/Users/biocbuild/bbs-3.13-bioc/R/library/BH/include/boost/mpl/assert.hpp:194:21: warning: unnecessary parentheses in declaration of 'assert_arg' [-Wparentheses]
 failed ************ (Pred::************
                     ^
C:/Users/biocbuild/bbs-3.13-bioc/R/library/BH/include/boost/mpl/assert.hpp:199:21: warning: unnecessary parentheses in declaration of 'assert_not_arg' [-Wparentheses]
 failed ************ (boost::mpl::not_<Pred>::************
                     ^
global.cpp: In function 'std::__cxx11::string cytolib::s3_to_http(std::__cxx11::string)':
global.cpp:46:20: warning: comparison of integer expressions of different signedness: 'int' and 'std::vector<std::__cxx11::basic_string<char> >::size_type' {aka 'long long unsigned int'} [-Wsign-compare]
   for(int i = 1; i < tokens.size(); i++)
                  ~~^~~~~~~~~~~~~~~
"C:/rtools40/mingw64/bin/"g++  -std=gnu++11 -I"C:/Users/BIOCBU~1/BBS-3~1.13-/R/include" -DNDEBUG -DROUT -I../inst/include -DRCPP_PARALLEL_USE_TBB=1 -fpermissive -DBOOST_NO_AUTO_PTR  -I'C:/Users/biocbuild/bbs-3.13-bioc/R/library/Rcpp/include' -I'C:/Users/biocbuild/bbs-3.13-bioc/R/library/BH/include' -I'C:/Users/biocbuild/bbs-3.13-bioc/R/library/RProtoBufLib/include' -I'C:/Users/biocbuild/bbs-3.13-bioc/R/library/Rhdf5lib/include' -I'C:/Users/biocbuild/bbs-3.13-bioc/R/library/RcppArmadillo/include' -I'C:/Users/biocbuild/bbs-3.13-bioc/R/library/RcppParallel/include'   -I"C:/extsoft/include"     -O2 -Wall  -mfpmath=sse -msse2 -mstackrealign  -c in_polygon.cpp -o in_polygon.o
"C:/rtools40/mingw64/bin/"g++  -std=gnu++11 -I"C:/Users/BIOCBU~1/BBS-3~1.13-/R/include" -DNDEBUG -DROUT -I../inst/include -DRCPP_PARALLEL_USE_TBB=1 -fpermissive -DBOOST_NO_AUTO_PTR  -I'C:/Users/biocbuild/bbs-3.13-bioc/R/library/Rcpp/include' -I'C:/Users/biocbuild/bbs-3.13-bioc/R/library/BH/include' -I'C:/Users/biocbuild/bbs-3.13-bioc/R/library/RProtoBufLib/include' -I'C:/Users/biocbuild/bbs-3.13-bioc/R/library/Rhdf5lib/include' -I'C:/Users/biocbuild/bbs-3.13-bioc/R/library/RcppArmadillo/include' -I'C:/Users/biocbuild/bbs-3.13-bioc/R/library/RcppParallel/include'   -I"C:/extsoft/include"     -O2 -Wall  -mfpmath=sse -msse2 -mstackrealign  -c nodeProperties.cpp -o nodeProperties.o
In file included from C:/Users/biocbuild/bbs-3.13-bioc/R/library/BH/include/boost/mpl/aux_/na_assert.hpp:23,
                 from C:/Users/biocbuild/bbs-3.13-bioc/R/library/BH/include/boost/mpl/arg.hpp:25,
                 from C:/Users/biocbuild/bbs-3.13-bioc/R/library/BH/include/boost/mpl/placeholders.hpp:24,
                 from C:/Users/biocbuild/bbs-3.13-bioc/R/library/BH/include/boost/iterator/iterator_categories.hpp:16,
                 from C:/Users/biocbuild/bbs-3.13-bioc/R/library/BH/include/boost/iterator/iterator_facade.hpp:13,
                 from C:/Users/biocbuild/bbs-3.13-bioc/R/library/BH/include/boost/range/iterator_range_core.hpp:27,
                 from C:/Users/biocbuild/bbs-3.13-bioc/R/library/BH/include/boost/range/iterator_range.hpp:13,
                 from C:/Users/biocbuild/bbs-3.13-bioc/R/library/BH/include/boost/range/as_literal.hpp:18,
                 from C:/Users/biocbuild/bbs-3.13-bioc/R/library/BH/include/boost/algorithm/string/trim.hpp:19,
                 from C:/Users/biocbuild/bbs-3.13-bioc/R/library/BH/include/boost/algorithm/string.hpp:19,
                 from ../inst/include/cytolib/transformation.hpp:18,
                 from ../inst/include/cytolib/compensation.hpp:15,
                 from ../inst/include/cytolib/CytoFrame.hpp:16,
                 from ../inst/include/cytolib/MemCytoFrame.hpp:12,
                 from ../inst/include/cytolib/gate.hpp:12,
                 from ../inst/include/cytolib/POPINDICES.hpp:14,
                 from ../inst/include/cytolib/nodeProperties.hpp:13,
                 from nodeProperties.cpp:3:
C:/Users/biocbuild/bbs-3.13-bioc/R/library/BH/include/boost/mpl/assert.hpp:194:21: warning: unnecessary parentheses in declaration of 'assert_arg' [-Wparentheses]
 failed ************ (Pred::************
                     ^
C:/Users/biocbuild/bbs-3.13-bioc/R/library/BH/include/boost/mpl/assert.hpp:199:21: warning: unnecessary parentheses in declaration of 'assert_not_arg' [-Wparentheses]
 failed ************ (boost::mpl::not_<Pred>::************
                     ^
In file included from ../inst/include/cytolib/CytoFrame.hpp:16,
                 from ../inst/include/cytolib/MemCytoFrame.hpp:12,
                 from ../inst/include/cytolib/gate.hpp:12,
                 from ../inst/include/cytolib/POPINDICES.hpp:14,
                 from ../inst/include/cytolib/nodeProperties.hpp:13,
                 from nodeProperties.cpp:3:
../inst/include/cytolib/compensation.hpp: In constructor 'cytolib::compensation::compensation(const string&)':
../inst/include/cytolib/compensation.hpp:58:20: warning: comparison of integer expressions of different signedness: 'std::vector<std::__cxx11::basic_string<char>, std::allocator<std::__cxx11::basic_string<char> > >::size_type' {aka 'long long unsigned int'} and 'int' [-Wsign-compare]
   if(valVec.size() != 1+n+n*n){
      ~~~~~~~~~~~~~~^~~~~~~~~~
../inst/include/cytolib/compensation.hpp:62:21: warning: comparison of integer expressions of different signedness: 'std::vector<std::__cxx11::basic_string<char>, std::allocator<std::__cxx11::basic_string<char> > >::size_type' {aka 'long long unsigned int'} and 'int' [-Wsign-compare]
    if(valVec.size() == 1+n+2*n*n){
       ~~~~~~~~~~~~~~^~~~~~~~~~~~
../inst/include/cytolib/compensation.hpp:68:33: warning: comparison of integer expressions of different signedness: 'int' and 'std::vector<std::__cxx11::basic_string<char>, std::allocator<std::__cxx11::basic_string<char> > >::size_type' {aka 'long long unsigned int'} [-Wsign-compare]
     for(int i = 1+n, j = 1+n; i < valVec_fixed.size(); i++, j+=2)
                               ~~^~~~~~~~~~~~~~~~~~~~~
"C:/rtools40/mingw64/bin/"g++  -std=gnu++11 -I"C:/Users/BIOCBU~1/BBS-3~1.13-/R/include" -DNDEBUG -DROUT -I../inst/include -DRCPP_PARALLEL_USE_TBB=1 -fpermissive -DBOOST_NO_AUTO_PTR  -I'C:/Users/biocbuild/bbs-3.13-bioc/R/library/Rcpp/include' -I'C:/Users/biocbuild/bbs-3.13-bioc/R/library/BH/include' -I'C:/Users/biocbuild/bbs-3.13-bioc/R/library/RProtoBufLib/include' -I'C:/Users/biocbuild/bbs-3.13-bioc/R/library/Rhdf5lib/include' -I'C:/Users/biocbuild/bbs-3.13-bioc/R/library/RcppArmadillo/include' -I'C:/Users/biocbuild/bbs-3.13-bioc/R/library/RcppParallel/include'   -I"C:/extsoft/include"     -O2 -Wall  -mfpmath=sse -msse2 -mstackrealign  -c spline.cpp -o spline.o
"C:/rtools40/mingw64/bin/"g++  -std=gnu++11 -I"C:/Users/BIOCBU~1/BBS-3~1.13-/R/include" -DNDEBUG -DROUT -I../inst/include -DRCPP_PARALLEL_USE_TBB=1 -fpermissive -DBOOST_NO_AUTO_PTR  -I'C:/Users/biocbuild/bbs-3.13-bioc/R/library/Rcpp/include' -I'C:/Users/biocbuild/bbs-3.13-bioc/R/library/BH/include' -I'C:/Users/biocbuild/bbs-3.13-bioc/R/library/RProtoBufLib/include' -I'C:/Users/biocbuild/bbs-3.13-bioc/R/library/Rhdf5lib/include' -I'C:/Users/biocbuild/bbs-3.13-bioc/R/library/RcppArmadillo/include' -I'C:/Users/biocbuild/bbs-3.13-bioc/R/library/RcppParallel/include'   -I"C:/extsoft/include"     -O2 -Wall  -mfpmath=sse -msse2 -mstackrealign  -c trans_group.cpp -o trans_group.o
In file included from C:/Users/biocbuild/bbs-3.13-bioc/R/library/BH/include/boost/mpl/aux_/na_assert.hpp:23,
                 from C:/Users/biocbuild/bbs-3.13-bioc/R/library/BH/include/boost/mpl/arg.hpp:25,
                 from C:/Users/biocbuild/bbs-3.13-bioc/R/library/BH/include/boost/mpl/placeholders.hpp:24,
                 from C:/Users/biocbuild/bbs-3.13-bioc/R/library/BH/include/boost/iterator/iterator_categories.hpp:16,
                 from C:/Users/biocbuild/bbs-3.13-bioc/R/library/BH/include/boost/iterator/iterator_facade.hpp:13,
                 from C:/Users/biocbuild/bbs-3.13-bioc/R/library/BH/include/boost/range/iterator_range_core.hpp:27,
                 from C:/Users/biocbuild/bbs-3.13-bioc/R/library/BH/include/boost/range/iterator_range.hpp:13,
                 from C:/Users/biocbuild/bbs-3.13-bioc/R/library/BH/include/boost/range/as_literal.hpp:18,
                 from C:/Users/biocbuild/bbs-3.13-bioc/R/library/BH/include/boost/algorithm/string/trim.hpp:19,
                 from C:/Users/biocbuild/bbs-3.13-bioc/R/library/BH/include/boost/algorithm/string.hpp:19,
                 from ../inst/include/cytolib/transformation.hpp:18,
                 from ../inst/include/cytolib/trans_group.hpp:13,
                 from trans_group.cpp:3:
C:/Users/biocbuild/bbs-3.13-bioc/R/library/BH/include/boost/mpl/assert.hpp:194:21: warning: unnecessary parentheses in declaration of 'assert_arg' [-Wparentheses]
 failed ************ (Pred::************
                     ^
C:/Users/biocbuild/bbs-3.13-bioc/R/library/BH/include/boost/mpl/assert.hpp:199:21: warning: unnecessary parentheses in declaration of 'assert_not_arg' [-Wparentheses]
 failed ************ (boost::mpl::not_<Pred>::************
                     ^
"C:/rtools40/mingw64/bin/"g++  -std=gnu++11 -I"C:/Users/BIOCBU~1/BBS-3~1.13-/R/include" -DNDEBUG -DROUT -I../inst/include -DRCPP_PARALLEL_USE_TBB=1 -fpermissive -DBOOST_NO_AUTO_PTR  -I'C:/Users/biocbuild/bbs-3.13-bioc/R/library/Rcpp/include' -I'C:/Users/biocbuild/bbs-3.13-bioc/R/library/BH/include' -I'C:/Users/biocbuild/bbs-3.13-bioc/R/library/RProtoBufLib/include' -I'C:/Users/biocbuild/bbs-3.13-bioc/R/library/Rhdf5lib/include' -I'C:/Users/biocbuild/bbs-3.13-bioc/R/library/RcppArmadillo/include' -I'C:/Users/biocbuild/bbs-3.13-bioc/R/library/RcppParallel/include'   -I"C:/extsoft/include"     -O2 -Wall  -mfpmath=sse -msse2 -mstackrealign  -c transformation.cpp -o transformation.o
In file included from C:/Users/biocbuild/bbs-3.13-bioc/R/library/BH/include/boost/mpl/aux_/na_assert.hpp:23,
                 from C:/Users/biocbuild/bbs-3.13-bioc/R/library/BH/include/boost/mpl/arg.hpp:25,
                 from C:/Users/biocbuild/bbs-3.13-bioc/R/library/BH/include/boost/mpl/placeholders.hpp:24,
                 from C:/Users/biocbuild/bbs-3.13-bioc/R/library/BH/include/boost/iterator/iterator_categories.hpp:16,
                 from C:/Users/biocbuild/bbs-3.13-bioc/R/library/BH/include/boost/iterator/iterator_facade.hpp:13,
                 from C:/Users/biocbuild/bbs-3.13-bioc/R/library/BH/include/boost/range/iterator_range_core.hpp:27,
                 from C:/Users/biocbuild/bbs-3.13-bioc/R/library/BH/include/boost/range/iterator_range.hpp:13,
                 from C:/Users/biocbuild/bbs-3.13-bioc/R/library/BH/include/boost/range/as_literal.hpp:18,
                 from C:/Users/biocbuild/bbs-3.13-bioc/R/library/BH/include/boost/algorithm/string/trim.hpp:19,
                 from C:/Users/biocbuild/bbs-3.13-bioc/R/library/BH/include/boost/algorithm/string.hpp:19,
                 from ../inst/include/cytolib/transformation.hpp:18,
                 from transformation.cpp:3:
C:/Users/biocbuild/bbs-3.13-bioc/R/library/BH/include/boost/mpl/assert.hpp:194:21: warning: unnecessary parentheses in declaration of 'assert_arg' [-Wparentheses]
 failed ************ (Pred::************
                     ^
C:/Users/biocbuild/bbs-3.13-bioc/R/library/BH/include/boost/mpl/assert.hpp:199:21: warning: unnecessary parentheses in declaration of 'assert_not_arg' [-Wparentheses]
 failed ************ (boost::mpl::not_<Pred>::************
                     ^
mkdir -p "C:/Users/biocbuild/bbs-3.13-bioc/meat/cytolib.buildbin-libdir/cytolib/lib/x64"
"C:/rtools40/mingw64/bin/"ar rs "C:/Users/biocbuild/bbs-3.13-bioc/meat/cytolib.buildbin-libdir/cytolib/lib/x64/libcytolib.a" CytoFrame.o CytoFrameView.o CytoVFS.o GatingHierarchy.o GatingSet.o H5CytoFrame.o MemCytoFrame.o POPINDICES.o calibrationTable.o compensation.o dummy.o ellipse2points.o gate.o global.o in_polygon.o nodeProperties.o spline.o trans_group.o transformation.o boost/libs/filesystem/src/portability.o boost/libs/filesystem/src/unique_path.o boost/libs/filesystem/src/operations.o boost/libs/filesystem/src/path.o boost/libs/filesystem/src/directory.o boost/libs/filesystem/src/exception.o boost/libs/filesystem/src/windows_file_codecvt.o boost/libs/filesystem/src/utf8_codecvt_facet.o boost/libs/filesystem/src/codecvt_error_category.o boost/libs/filesystem/src/path_traits.o boost/libs/system/src/error_code.o
C:\rtools40\mingw64\bin\ar.exe: creating C:/Users/biocbuild/bbs-3.13-bioc/meat/cytolib.buildbin-libdir/cytolib/lib/x64/libcytolib.a
C:/rtools40/mingw64/bin/g++ -shared -s -static-libgcc -o cytolib.dll tmp.def CytoFrame.o CytoFrameView.o CytoVFS.o GatingHierarchy.o GatingSet.o H5CytoFrame.o MemCytoFrame.o POPINDICES.o calibrationTable.o compensation.o dummy.o ellipse2points.o gate.o global.o in_polygon.o nodeProperties.o spline.o trans_group.o transformation.o boost/libs/filesystem/src/portability.o boost/libs/filesystem/src/unique_path.o boost/libs/filesystem/src/operations.o boost/libs/filesystem/src/path.o boost/libs/filesystem/src/directory.o boost/libs/filesystem/src/exception.o boost/libs/filesystem/src/windows_file_codecvt.o boost/libs/filesystem/src/utf8_codecvt_facet.o boost/libs/filesystem/src/codecvt_error_category.o boost/libs/filesystem/src/path_traits.o boost/libs/system/src/error_code.o -LC:/Users/BIOCBU~1/BBS-3~1.13-/R/bin/x64 -lRlapack -LC:/Users/BIOCBU~1/BBS-3~1.13-/R/bin/x64 -lRblas -lgfortran -lm -lquadmath C:/Users/biocbuild/bbs-3.13-bioc/R/library/RProtoBufLib/lib/x64/GatingSet.pb.o -LC:/Users/biocbuild/bbs-3.13-bioc/R/library/RProtoBufLib/lib/x64 -lprotobuf -LC:/Users/BIOCBU~1/BBS-3~1.13-/R/library/Rhdf5lib/lib/x64 -lhdf5_cpp -lhdf5 -lcurl -lssh2 -lssl -lcrypto -lwldap32 -lws2_32 -lcrypt32 -lszip -lz -lpsapi -LC:/Users/biocbuild/bbs-3.13-bioc/R/library/RcppParallel/lib/x64 -ltbb -ltbbmalloc -lws2_32 -LC:/extsoft/lib/x64 -LC:/extsoft/lib -LC:/Users/BIOCBU~1/BBS-3~1.13-/R/bin/x64 -lR
installing to C:/Users/biocbuild/bbs-3.13-bioc/meat/cytolib.buildbin-libdir/cytolib/libs/x64
** testing if installed package can be loaded
* MD5 sums
packaged installation of 'cytolib' as cytolib_2.4.0.zip
* DONE (cytolib)