Back to Multiple platform build/check report for BioC 3.13
AB[C]DEFGHIJKLMNOPQRSTUVWXYZ

This page was generated on 2021-10-13 15:05:49 -0400 (Wed, 13 Oct 2021).

INSTALL results for cytolib on machv2

To the developers/maintainers of the cytolib package:
- Please allow up to 24 hours (and sometimes 48 hours) for your latest push to git@git.bioconductor.org:packages/cytolib.git to
reflect on this report. See How and When does the builder pull? When will my changes propagate? here for more information.
- Make sure to use the following settings in order to reproduce any error or warning you see on this page.

raw results

Package 433/2041HostnameOS / ArchINSTALLBUILDCHECKBUILD BIN
cytolib 2.4.0  (landing page)
Mike Jiang
Snapshot Date: 2021-10-12 04:50:13 -0400 (Tue, 12 Oct 2021)
git_url: https://git.bioconductor.org/packages/cytolib
git_branch: RELEASE_3_13
git_last_commit: 652ea2c
git_last_commit_date: 2021-05-19 12:29:37 -0400 (Wed, 19 May 2021)
nebbiolo1Linux (Ubuntu 20.04.2 LTS) / x86_64  OK    OK    OK  UNNEEDED, same version is already published
tokay2Windows Server 2012 R2 Standard / x64  OK    OK    OK    OK  UNNEEDED, same version is already published
machv2macOS 10.14.6 Mojave / x86_64  OK    OK    OK    OK  UNNEEDED, same version is already published

Summary

Package: cytolib
Version: 2.4.0
Command: /Library/Frameworks/R.framework/Versions/Current/Resources/bin/R CMD INSTALL cytolib
StartedAt: 2021-10-12 08:23:14 -0400 (Tue, 12 Oct 2021)
EndedAt: 2021-10-12 08:26:01 -0400 (Tue, 12 Oct 2021)
EllapsedTime: 167.2 seconds
RetCode: 0
Status:   OK  

Command output

##############################################################################
##############################################################################
###
### Running command:
###
###   /Library/Frameworks/R.framework/Versions/Current/Resources/bin/R CMD INSTALL cytolib
###
##############################################################################
##############################################################################


* installing to library ‘/Library/Frameworks/R.framework/Versions/4.1/Resources/library’
* installing *source* package ‘cytolib’ ...
** using staged installation
checking for a sed that does not truncate output... /usr/bin/sed
checking for g++... g++
checking whether the C++ compiler works... yes
checking for C++ compiler default output file name... a.out
checking for suffix of executables... 
checking whether we are cross compiling... no
checking for suffix of object files... o
checking whether we are using the GNU C++ compiler... yes
checking whether g++ accepts -g... yes
checking how to run the C++ preprocessor... g++ -E
checking whether we are using the GNU C++ compiler... (cached) yes
checking whether g++ accepts -g... (cached) yes
configure: Parsing cytolib version info ...
configure: CYTOLIB_VERSION=2.4.0
configure: creating ./config.status
config.status: creating inst/include/cytolib/cytolibConfig.h
config.status: creating src/Makevars
** libs
clang++ -mmacosx-version-min=10.13 -std=gnu++11 -I"/Library/Frameworks/R.framework/Resources/include" -DNDEBUG -DROUT -I../inst/include -DBOOST_NO_AUTO_PTR -I'/Library/Frameworks/R.framework/Versions/4.1/Resources/library/Rcpp/include' -I'/Library/Frameworks/R.framework/Versions/4.1/Resources/library/BH/include' -I'/Library/Frameworks/R.framework/Versions/4.1/Resources/library/RProtoBufLib/include' -I'/Library/Frameworks/R.framework/Versions/4.1/Resources/library/Rhdf5lib/include' -I'/Library/Frameworks/R.framework/Versions/4.1/Resources/library/RcppArmadillo/include' -I'/Library/Frameworks/R.framework/Versions/4.1/Resources/library/RcppParallel/include' -I/usr/local/include   -fPIC  -Wall -g -O2  -c dummy.cpp -o dummy.o
clang++ -mmacosx-version-min=10.13 -std=gnu++11 -I"/Library/Frameworks/R.framework/Resources/include" -DNDEBUG -DROUT -I../inst/include -DBOOST_NO_AUTO_PTR -I'/Library/Frameworks/R.framework/Versions/4.1/Resources/library/Rcpp/include' -I'/Library/Frameworks/R.framework/Versions/4.1/Resources/library/BH/include' -I'/Library/Frameworks/R.framework/Versions/4.1/Resources/library/RProtoBufLib/include' -I'/Library/Frameworks/R.framework/Versions/4.1/Resources/library/Rhdf5lib/include' -I'/Library/Frameworks/R.framework/Versions/4.1/Resources/library/RcppArmadillo/include' -I'/Library/Frameworks/R.framework/Versions/4.1/Resources/library/RcppParallel/include' -I/usr/local/include   -fPIC  -Wall -g -O2  -c boost/libs/system/src/error_code.cpp -o boost/libs/system/src/error_code.o
clang++ -mmacosx-version-min=10.13 -std=gnu++11 -I"/Library/Frameworks/R.framework/Resources/include" -DNDEBUG -DROUT -I../inst/include -DBOOST_NO_AUTO_PTR -I'/Library/Frameworks/R.framework/Versions/4.1/Resources/library/Rcpp/include' -I'/Library/Frameworks/R.framework/Versions/4.1/Resources/library/BH/include' -I'/Library/Frameworks/R.framework/Versions/4.1/Resources/library/RProtoBufLib/include' -I'/Library/Frameworks/R.framework/Versions/4.1/Resources/library/Rhdf5lib/include' -I'/Library/Frameworks/R.framework/Versions/4.1/Resources/library/RcppArmadillo/include' -I'/Library/Frameworks/R.framework/Versions/4.1/Resources/library/RcppParallel/include' -I/usr/local/include   -fPIC  -Wall -g -O2  -c boost/libs/filesystem/src/codecvt_error_category.cpp -o boost/libs/filesystem/src/codecvt_error_category.o
clang++ -mmacosx-version-min=10.13 -std=gnu++11 -I"/Library/Frameworks/R.framework/Resources/include" -DNDEBUG -DROUT -I../inst/include -DBOOST_NO_AUTO_PTR -I'/Library/Frameworks/R.framework/Versions/4.1/Resources/library/Rcpp/include' -I'/Library/Frameworks/R.framework/Versions/4.1/Resources/library/BH/include' -I'/Library/Frameworks/R.framework/Versions/4.1/Resources/library/RProtoBufLib/include' -I'/Library/Frameworks/R.framework/Versions/4.1/Resources/library/Rhdf5lib/include' -I'/Library/Frameworks/R.framework/Versions/4.1/Resources/library/RcppArmadillo/include' -I'/Library/Frameworks/R.framework/Versions/4.1/Resources/library/RcppParallel/include' -I/usr/local/include   -fPIC  -Wall -g -O2  -c boost/libs/filesystem/src/directory.cpp -o boost/libs/filesystem/src/directory.o
clang++ -mmacosx-version-min=10.13 -std=gnu++11 -I"/Library/Frameworks/R.framework/Resources/include" -DNDEBUG -DROUT -I../inst/include -DBOOST_NO_AUTO_PTR -I'/Library/Frameworks/R.framework/Versions/4.1/Resources/library/Rcpp/include' -I'/Library/Frameworks/R.framework/Versions/4.1/Resources/library/BH/include' -I'/Library/Frameworks/R.framework/Versions/4.1/Resources/library/RProtoBufLib/include' -I'/Library/Frameworks/R.framework/Versions/4.1/Resources/library/Rhdf5lib/include' -I'/Library/Frameworks/R.framework/Versions/4.1/Resources/library/RcppArmadillo/include' -I'/Library/Frameworks/R.framework/Versions/4.1/Resources/library/RcppParallel/include' -I/usr/local/include   -fPIC  -Wall -g -O2  -c boost/libs/filesystem/src/exception.cpp -o boost/libs/filesystem/src/exception.o
clang++ -mmacosx-version-min=10.13 -std=gnu++11 -I"/Library/Frameworks/R.framework/Resources/include" -DNDEBUG -DROUT -I../inst/include -DBOOST_NO_AUTO_PTR -I'/Library/Frameworks/R.framework/Versions/4.1/Resources/library/Rcpp/include' -I'/Library/Frameworks/R.framework/Versions/4.1/Resources/library/BH/include' -I'/Library/Frameworks/R.framework/Versions/4.1/Resources/library/RProtoBufLib/include' -I'/Library/Frameworks/R.framework/Versions/4.1/Resources/library/Rhdf5lib/include' -I'/Library/Frameworks/R.framework/Versions/4.1/Resources/library/RcppArmadillo/include' -I'/Library/Frameworks/R.framework/Versions/4.1/Resources/library/RcppParallel/include' -I/usr/local/include   -fPIC  -Wall -g -O2  -c boost/libs/filesystem/src/operations.cpp -o boost/libs/filesystem/src/operations.o
clang++ -mmacosx-version-min=10.13 -std=gnu++11 -I"/Library/Frameworks/R.framework/Resources/include" -DNDEBUG -DROUT -I../inst/include -DBOOST_NO_AUTO_PTR -I'/Library/Frameworks/R.framework/Versions/4.1/Resources/library/Rcpp/include' -I'/Library/Frameworks/R.framework/Versions/4.1/Resources/library/BH/include' -I'/Library/Frameworks/R.framework/Versions/4.1/Resources/library/RProtoBufLib/include' -I'/Library/Frameworks/R.framework/Versions/4.1/Resources/library/Rhdf5lib/include' -I'/Library/Frameworks/R.framework/Versions/4.1/Resources/library/RcppArmadillo/include' -I'/Library/Frameworks/R.framework/Versions/4.1/Resources/library/RcppParallel/include' -I/usr/local/include   -fPIC  -Wall -g -O2  -c boost/libs/filesystem/src/path.cpp -o boost/libs/filesystem/src/path.o
clang++ -mmacosx-version-min=10.13 -std=gnu++11 -I"/Library/Frameworks/R.framework/Resources/include" -DNDEBUG -DROUT -I../inst/include -DBOOST_NO_AUTO_PTR -I'/Library/Frameworks/R.framework/Versions/4.1/Resources/library/Rcpp/include' -I'/Library/Frameworks/R.framework/Versions/4.1/Resources/library/BH/include' -I'/Library/Frameworks/R.framework/Versions/4.1/Resources/library/RProtoBufLib/include' -I'/Library/Frameworks/R.framework/Versions/4.1/Resources/library/Rhdf5lib/include' -I'/Library/Frameworks/R.framework/Versions/4.1/Resources/library/RcppArmadillo/include' -I'/Library/Frameworks/R.framework/Versions/4.1/Resources/library/RcppParallel/include' -I/usr/local/include   -fPIC  -Wall -g -O2  -c boost/libs/filesystem/src/path_traits.cpp -o boost/libs/filesystem/src/path_traits.o
clang++ -mmacosx-version-min=10.13 -std=gnu++11 -I"/Library/Frameworks/R.framework/Resources/include" -DNDEBUG -DROUT -I../inst/include -DBOOST_NO_AUTO_PTR -I'/Library/Frameworks/R.framework/Versions/4.1/Resources/library/Rcpp/include' -I'/Library/Frameworks/R.framework/Versions/4.1/Resources/library/BH/include' -I'/Library/Frameworks/R.framework/Versions/4.1/Resources/library/RProtoBufLib/include' -I'/Library/Frameworks/R.framework/Versions/4.1/Resources/library/Rhdf5lib/include' -I'/Library/Frameworks/R.framework/Versions/4.1/Resources/library/RcppArmadillo/include' -I'/Library/Frameworks/R.framework/Versions/4.1/Resources/library/RcppParallel/include' -I/usr/local/include   -fPIC  -Wall -g -O2  -c boost/libs/filesystem/src/portability.cpp -o boost/libs/filesystem/src/portability.o
clang++ -mmacosx-version-min=10.13 -std=gnu++11 -I"/Library/Frameworks/R.framework/Resources/include" -DNDEBUG -DROUT -I../inst/include -DBOOST_NO_AUTO_PTR -I'/Library/Frameworks/R.framework/Versions/4.1/Resources/library/Rcpp/include' -I'/Library/Frameworks/R.framework/Versions/4.1/Resources/library/BH/include' -I'/Library/Frameworks/R.framework/Versions/4.1/Resources/library/RProtoBufLib/include' -I'/Library/Frameworks/R.framework/Versions/4.1/Resources/library/Rhdf5lib/include' -I'/Library/Frameworks/R.framework/Versions/4.1/Resources/library/RcppArmadillo/include' -I'/Library/Frameworks/R.framework/Versions/4.1/Resources/library/RcppParallel/include' -I/usr/local/include   -fPIC  -Wall -g -O2  -c boost/libs/filesystem/src/unique_path.cpp -o boost/libs/filesystem/src/unique_path.o
clang++ -mmacosx-version-min=10.13 -std=gnu++11 -I"/Library/Frameworks/R.framework/Resources/include" -DNDEBUG -DROUT -I../inst/include -DBOOST_NO_AUTO_PTR -I'/Library/Frameworks/R.framework/Versions/4.1/Resources/library/Rcpp/include' -I'/Library/Frameworks/R.framework/Versions/4.1/Resources/library/BH/include' -I'/Library/Frameworks/R.framework/Versions/4.1/Resources/library/RProtoBufLib/include' -I'/Library/Frameworks/R.framework/Versions/4.1/Resources/library/Rhdf5lib/include' -I'/Library/Frameworks/R.framework/Versions/4.1/Resources/library/RcppArmadillo/include' -I'/Library/Frameworks/R.framework/Versions/4.1/Resources/library/RcppParallel/include' -I/usr/local/include   -fPIC  -Wall -g -O2  -c boost/libs/filesystem/src/utf8_codecvt_facet.cpp -o boost/libs/filesystem/src/utf8_codecvt_facet.o
clang++ -mmacosx-version-min=10.13 -std=gnu++11 -I"/Library/Frameworks/R.framework/Resources/include" -DNDEBUG -DROUT -I../inst/include -DBOOST_NO_AUTO_PTR -I'/Library/Frameworks/R.framework/Versions/4.1/Resources/library/Rcpp/include' -I'/Library/Frameworks/R.framework/Versions/4.1/Resources/library/BH/include' -I'/Library/Frameworks/R.framework/Versions/4.1/Resources/library/RProtoBufLib/include' -I'/Library/Frameworks/R.framework/Versions/4.1/Resources/library/Rhdf5lib/include' -I'/Library/Frameworks/R.framework/Versions/4.1/Resources/library/RcppArmadillo/include' -I'/Library/Frameworks/R.framework/Versions/4.1/Resources/library/RcppParallel/include' -I/usr/local/include   -fPIC  -Wall -g -O2  -c boost/libs/filesystem/src/windows_file_codecvt.cpp -o boost/libs/filesystem/src/windows_file_codecvt.o
clang++ -mmacosx-version-min=10.13 -std=gnu++11 -I"/Library/Frameworks/R.framework/Resources/include" -DNDEBUG -DROUT -I../inst/include -DBOOST_NO_AUTO_PTR -I'/Library/Frameworks/R.framework/Versions/4.1/Resources/library/Rcpp/include' -I'/Library/Frameworks/R.framework/Versions/4.1/Resources/library/BH/include' -I'/Library/Frameworks/R.framework/Versions/4.1/Resources/library/RProtoBufLib/include' -I'/Library/Frameworks/R.framework/Versions/4.1/Resources/library/Rhdf5lib/include' -I'/Library/Frameworks/R.framework/Versions/4.1/Resources/library/RcppArmadillo/include' -I'/Library/Frameworks/R.framework/Versions/4.1/Resources/library/RcppParallel/include' -I/usr/local/include   -fPIC  -Wall -g -O2  -c CytoFrame.cpp -o CytoFrame.o
clang++ -mmacosx-version-min=10.13 -std=gnu++11 -I"/Library/Frameworks/R.framework/Resources/include" -DNDEBUG -DROUT -I../inst/include -DBOOST_NO_AUTO_PTR -I'/Library/Frameworks/R.framework/Versions/4.1/Resources/library/Rcpp/include' -I'/Library/Frameworks/R.framework/Versions/4.1/Resources/library/BH/include' -I'/Library/Frameworks/R.framework/Versions/4.1/Resources/library/RProtoBufLib/include' -I'/Library/Frameworks/R.framework/Versions/4.1/Resources/library/Rhdf5lib/include' -I'/Library/Frameworks/R.framework/Versions/4.1/Resources/library/RcppArmadillo/include' -I'/Library/Frameworks/R.framework/Versions/4.1/Resources/library/RcppParallel/include' -I/usr/local/include   -fPIC  -Wall -g -O2  -c CytoFrameView.cpp -o CytoFrameView.o
clang++ -mmacosx-version-min=10.13 -std=gnu++11 -I"/Library/Frameworks/R.framework/Resources/include" -DNDEBUG -DROUT -I../inst/include -DBOOST_NO_AUTO_PTR -I'/Library/Frameworks/R.framework/Versions/4.1/Resources/library/Rcpp/include' -I'/Library/Frameworks/R.framework/Versions/4.1/Resources/library/BH/include' -I'/Library/Frameworks/R.framework/Versions/4.1/Resources/library/RProtoBufLib/include' -I'/Library/Frameworks/R.framework/Versions/4.1/Resources/library/Rhdf5lib/include' -I'/Library/Frameworks/R.framework/Versions/4.1/Resources/library/RcppArmadillo/include' -I'/Library/Frameworks/R.framework/Versions/4.1/Resources/library/RcppParallel/include' -I/usr/local/include   -fPIC  -Wall -g -O2  -c CytoVFS.cpp -o CytoVFS.o
CytoVFS.cpp:12:13: warning: unused variable 'have_tiledb' [-Wunused-const-variable]
        const bool have_tiledb = false;
                   ^
1 warning generated.
clang++ -mmacosx-version-min=10.13 -std=gnu++11 -I"/Library/Frameworks/R.framework/Resources/include" -DNDEBUG -DROUT -I../inst/include -DBOOST_NO_AUTO_PTR -I'/Library/Frameworks/R.framework/Versions/4.1/Resources/library/Rcpp/include' -I'/Library/Frameworks/R.framework/Versions/4.1/Resources/library/BH/include' -I'/Library/Frameworks/R.framework/Versions/4.1/Resources/library/RProtoBufLib/include' -I'/Library/Frameworks/R.framework/Versions/4.1/Resources/library/Rhdf5lib/include' -I'/Library/Frameworks/R.framework/Versions/4.1/Resources/library/RcppArmadillo/include' -I'/Library/Frameworks/R.framework/Versions/4.1/Resources/library/RcppParallel/include' -I/usr/local/include   -fPIC  -Wall -g -O2  -c GatingHierarchy.cpp -o GatingHierarchy.o
In file included from GatingHierarchy.cpp:3:
In file included from ../inst/include/cytolib/GatingHierarchy.hpp:17:
In file included from ../inst/include/cytolib/populationTree.hpp:14:
In file included from /Library/Frameworks/R.framework/Versions/4.1/Resources/library/BH/include/boost/graph/adjacency_list.hpp:255:
In file included from /Library/Frameworks/R.framework/Versions/4.1/Resources/library/BH/include/boost/graph/detail/adjacency_list.hpp:37:
In file included from /Library/Frameworks/R.framework/Versions/4.1/Resources/library/BH/include/boost/graph/adjacency_iterator.hpp:13:
/Library/Frameworks/R.framework/Versions/4.1/Resources/library/BH/include/boost/detail/iterator.hpp:13:1: warning: This header is deprecated. Use <iterator> instead. [-W#pragma-messages]
BOOST_HEADER_DEPRECATED("<iterator>")
^
/Library/Frameworks/R.framework/Versions/4.1/Resources/library/BH/include/boost/config/header_deprecated.hpp:23:37: note: expanded from macro 'BOOST_HEADER_DEPRECATED'
# define BOOST_HEADER_DEPRECATED(a) BOOST_PRAGMA_MESSAGE("This header is deprecated. Use " a " instead.")
                                    ^
/Library/Frameworks/R.framework/Versions/4.1/Resources/library/BH/include/boost/config/pragma_message.hpp:24:34: note: expanded from macro 'BOOST_PRAGMA_MESSAGE'
# define BOOST_PRAGMA_MESSAGE(x) _Pragma(BOOST_STRINGIZE(message(x)))
                                 ^
<scratch space>:108:2: note: expanded from here
 message("This header is deprecated. Use " "<iterator>" " instead.")
 ^
1 warning generated.
clang++ -mmacosx-version-min=10.13 -std=gnu++11 -I"/Library/Frameworks/R.framework/Resources/include" -DNDEBUG -DROUT -I../inst/include -DBOOST_NO_AUTO_PTR -I'/Library/Frameworks/R.framework/Versions/4.1/Resources/library/Rcpp/include' -I'/Library/Frameworks/R.framework/Versions/4.1/Resources/library/BH/include' -I'/Library/Frameworks/R.framework/Versions/4.1/Resources/library/RProtoBufLib/include' -I'/Library/Frameworks/R.framework/Versions/4.1/Resources/library/Rhdf5lib/include' -I'/Library/Frameworks/R.framework/Versions/4.1/Resources/library/RcppArmadillo/include' -I'/Library/Frameworks/R.framework/Versions/4.1/Resources/library/RcppParallel/include' -I/usr/local/include   -fPIC  -Wall -g -O2  -c GatingSet.cpp -o GatingSet.o
In file included from GatingSet.cpp:3:
In file included from ../inst/include/cytolib/GatingSet.hpp:14:
In file included from ../inst/include/cytolib/GatingHierarchy.hpp:17:
In file included from ../inst/include/cytolib/populationTree.hpp:14:
In file included from /Library/Frameworks/R.framework/Versions/4.1/Resources/library/BH/include/boost/graph/adjacency_list.hpp:255:
In file included from /Library/Frameworks/R.framework/Versions/4.1/Resources/library/BH/include/boost/graph/detail/adjacency_list.hpp:37:
In file included from /Library/Frameworks/R.framework/Versions/4.1/Resources/library/BH/include/boost/graph/adjacency_iterator.hpp:13:
/Library/Frameworks/R.framework/Versions/4.1/Resources/library/BH/include/boost/detail/iterator.hpp:13:1: warning: This header is deprecated. Use <iterator> instead. [-W#pragma-messages]
BOOST_HEADER_DEPRECATED("<iterator>")
^
/Library/Frameworks/R.framework/Versions/4.1/Resources/library/BH/include/boost/config/header_deprecated.hpp:23:37: note: expanded from macro 'BOOST_HEADER_DEPRECATED'
# define BOOST_HEADER_DEPRECATED(a) BOOST_PRAGMA_MESSAGE("This header is deprecated. Use " a " instead.")
                                    ^
/Library/Frameworks/R.framework/Versions/4.1/Resources/library/BH/include/boost/config/pragma_message.hpp:24:34: note: expanded from macro 'BOOST_PRAGMA_MESSAGE'
# define BOOST_PRAGMA_MESSAGE(x) _Pragma(BOOST_STRINGIZE(message(x)))
                                 ^
<scratch space>:108:2: note: expanded from here
 message("This header is deprecated. Use " "<iterator>" " instead.")
 ^
GatingSet.cpp:182:37: warning: variable 'fmt' is uninitialized when used here [-Wuninitialized]
                                        auto cf_ext = "." + fmt_to_str(fmt);
                                                                       ^~~
GatingSet.cpp:30:3: note: variable 'fmt' is declared here
                FileFormat fmt;
                ^
2 warnings generated.
clang++ -mmacosx-version-min=10.13 -std=gnu++11 -I"/Library/Frameworks/R.framework/Resources/include" -DNDEBUG -DROUT -I../inst/include -DBOOST_NO_AUTO_PTR -I'/Library/Frameworks/R.framework/Versions/4.1/Resources/library/Rcpp/include' -I'/Library/Frameworks/R.framework/Versions/4.1/Resources/library/BH/include' -I'/Library/Frameworks/R.framework/Versions/4.1/Resources/library/RProtoBufLib/include' -I'/Library/Frameworks/R.framework/Versions/4.1/Resources/library/Rhdf5lib/include' -I'/Library/Frameworks/R.framework/Versions/4.1/Resources/library/RcppArmadillo/include' -I'/Library/Frameworks/R.framework/Versions/4.1/Resources/library/RcppParallel/include' -I/usr/local/include   -fPIC  -Wall -g -O2  -c H5CytoFrame.cpp -o H5CytoFrame.o
clang++ -mmacosx-version-min=10.13 -std=gnu++11 -I"/Library/Frameworks/R.framework/Resources/include" -DNDEBUG -DROUT -I../inst/include -DBOOST_NO_AUTO_PTR -I'/Library/Frameworks/R.framework/Versions/4.1/Resources/library/Rcpp/include' -I'/Library/Frameworks/R.framework/Versions/4.1/Resources/library/BH/include' -I'/Library/Frameworks/R.framework/Versions/4.1/Resources/library/RProtoBufLib/include' -I'/Library/Frameworks/R.framework/Versions/4.1/Resources/library/Rhdf5lib/include' -I'/Library/Frameworks/R.framework/Versions/4.1/Resources/library/RcppArmadillo/include' -I'/Library/Frameworks/R.framework/Versions/4.1/Resources/library/RcppParallel/include' -I/usr/local/include   -fPIC  -Wall -g -O2  -c MemCytoFrame.cpp -o MemCytoFrame.o
clang++ -mmacosx-version-min=10.13 -std=gnu++11 -I"/Library/Frameworks/R.framework/Resources/include" -DNDEBUG -DROUT -I../inst/include -DBOOST_NO_AUTO_PTR -I'/Library/Frameworks/R.framework/Versions/4.1/Resources/library/Rcpp/include' -I'/Library/Frameworks/R.framework/Versions/4.1/Resources/library/BH/include' -I'/Library/Frameworks/R.framework/Versions/4.1/Resources/library/RProtoBufLib/include' -I'/Library/Frameworks/R.framework/Versions/4.1/Resources/library/Rhdf5lib/include' -I'/Library/Frameworks/R.framework/Versions/4.1/Resources/library/RcppArmadillo/include' -I'/Library/Frameworks/R.framework/Versions/4.1/Resources/library/RcppParallel/include' -I/usr/local/include   -fPIC  -Wall -g -O2  -c POPINDICES.cpp -o POPINDICES.o
clang++ -mmacosx-version-min=10.13 -std=gnu++11 -I"/Library/Frameworks/R.framework/Resources/include" -DNDEBUG -DROUT -I../inst/include -DBOOST_NO_AUTO_PTR -I'/Library/Frameworks/R.framework/Versions/4.1/Resources/library/Rcpp/include' -I'/Library/Frameworks/R.framework/Versions/4.1/Resources/library/BH/include' -I'/Library/Frameworks/R.framework/Versions/4.1/Resources/library/RProtoBufLib/include' -I'/Library/Frameworks/R.framework/Versions/4.1/Resources/library/Rhdf5lib/include' -I'/Library/Frameworks/R.framework/Versions/4.1/Resources/library/RcppArmadillo/include' -I'/Library/Frameworks/R.framework/Versions/4.1/Resources/library/RcppParallel/include' -I/usr/local/include   -fPIC  -Wall -g -O2  -c calibrationTable.cpp -o calibrationTable.o
clang++ -mmacosx-version-min=10.13 -std=gnu++11 -I"/Library/Frameworks/R.framework/Resources/include" -DNDEBUG -DROUT -I../inst/include -DBOOST_NO_AUTO_PTR -I'/Library/Frameworks/R.framework/Versions/4.1/Resources/library/Rcpp/include' -I'/Library/Frameworks/R.framework/Versions/4.1/Resources/library/BH/include' -I'/Library/Frameworks/R.framework/Versions/4.1/Resources/library/RProtoBufLib/include' -I'/Library/Frameworks/R.framework/Versions/4.1/Resources/library/Rhdf5lib/include' -I'/Library/Frameworks/R.framework/Versions/4.1/Resources/library/RcppArmadillo/include' -I'/Library/Frameworks/R.framework/Versions/4.1/Resources/library/RcppParallel/include' -I/usr/local/include   -fPIC  -Wall -g -O2  -c compensation.cpp -o compensation.o
clang++ -mmacosx-version-min=10.13 -std=gnu++11 -I"/Library/Frameworks/R.framework/Resources/include" -DNDEBUG -DROUT -I../inst/include -DBOOST_NO_AUTO_PTR -I'/Library/Frameworks/R.framework/Versions/4.1/Resources/library/Rcpp/include' -I'/Library/Frameworks/R.framework/Versions/4.1/Resources/library/BH/include' -I'/Library/Frameworks/R.framework/Versions/4.1/Resources/library/RProtoBufLib/include' -I'/Library/Frameworks/R.framework/Versions/4.1/Resources/library/Rhdf5lib/include' -I'/Library/Frameworks/R.framework/Versions/4.1/Resources/library/RcppArmadillo/include' -I'/Library/Frameworks/R.framework/Versions/4.1/Resources/library/RcppParallel/include' -I/usr/local/include   -fPIC  -Wall -g -O2  -c ellipse2points.cpp -o ellipse2points.o
clang++ -mmacosx-version-min=10.13 -std=gnu++11 -I"/Library/Frameworks/R.framework/Resources/include" -DNDEBUG -DROUT -I../inst/include -DBOOST_NO_AUTO_PTR -I'/Library/Frameworks/R.framework/Versions/4.1/Resources/library/Rcpp/include' -I'/Library/Frameworks/R.framework/Versions/4.1/Resources/library/BH/include' -I'/Library/Frameworks/R.framework/Versions/4.1/Resources/library/RProtoBufLib/include' -I'/Library/Frameworks/R.framework/Versions/4.1/Resources/library/Rhdf5lib/include' -I'/Library/Frameworks/R.framework/Versions/4.1/Resources/library/RcppArmadillo/include' -I'/Library/Frameworks/R.framework/Versions/4.1/Resources/library/RcppParallel/include' -I/usr/local/include   -fPIC  -Wall -g -O2  -c gate.cpp -o gate.o
clang++ -mmacosx-version-min=10.13 -std=gnu++11 -I"/Library/Frameworks/R.framework/Resources/include" -DNDEBUG -DROUT -I../inst/include -DBOOST_NO_AUTO_PTR -I'/Library/Frameworks/R.framework/Versions/4.1/Resources/library/Rcpp/include' -I'/Library/Frameworks/R.framework/Versions/4.1/Resources/library/BH/include' -I'/Library/Frameworks/R.framework/Versions/4.1/Resources/library/RProtoBufLib/include' -I'/Library/Frameworks/R.framework/Versions/4.1/Resources/library/Rhdf5lib/include' -I'/Library/Frameworks/R.framework/Versions/4.1/Resources/library/RcppArmadillo/include' -I'/Library/Frameworks/R.framework/Versions/4.1/Resources/library/RcppParallel/include' -I/usr/local/include   -fPIC  -Wall -g -O2  -c global.cpp -o global.o
clang++ -mmacosx-version-min=10.13 -std=gnu++11 -I"/Library/Frameworks/R.framework/Resources/include" -DNDEBUG -DROUT -I../inst/include -DBOOST_NO_AUTO_PTR -I'/Library/Frameworks/R.framework/Versions/4.1/Resources/library/Rcpp/include' -I'/Library/Frameworks/R.framework/Versions/4.1/Resources/library/BH/include' -I'/Library/Frameworks/R.framework/Versions/4.1/Resources/library/RProtoBufLib/include' -I'/Library/Frameworks/R.framework/Versions/4.1/Resources/library/Rhdf5lib/include' -I'/Library/Frameworks/R.framework/Versions/4.1/Resources/library/RcppArmadillo/include' -I'/Library/Frameworks/R.framework/Versions/4.1/Resources/library/RcppParallel/include' -I/usr/local/include   -fPIC  -Wall -g -O2  -c in_polygon.cpp -o in_polygon.o
clang++ -mmacosx-version-min=10.13 -std=gnu++11 -I"/Library/Frameworks/R.framework/Resources/include" -DNDEBUG -DROUT -I../inst/include -DBOOST_NO_AUTO_PTR -I'/Library/Frameworks/R.framework/Versions/4.1/Resources/library/Rcpp/include' -I'/Library/Frameworks/R.framework/Versions/4.1/Resources/library/BH/include' -I'/Library/Frameworks/R.framework/Versions/4.1/Resources/library/RProtoBufLib/include' -I'/Library/Frameworks/R.framework/Versions/4.1/Resources/library/Rhdf5lib/include' -I'/Library/Frameworks/R.framework/Versions/4.1/Resources/library/RcppArmadillo/include' -I'/Library/Frameworks/R.framework/Versions/4.1/Resources/library/RcppParallel/include' -I/usr/local/include   -fPIC  -Wall -g -O2  -c nodeProperties.cpp -o nodeProperties.o
clang++ -mmacosx-version-min=10.13 -std=gnu++11 -I"/Library/Frameworks/R.framework/Resources/include" -DNDEBUG -DROUT -I../inst/include -DBOOST_NO_AUTO_PTR -I'/Library/Frameworks/R.framework/Versions/4.1/Resources/library/Rcpp/include' -I'/Library/Frameworks/R.framework/Versions/4.1/Resources/library/BH/include' -I'/Library/Frameworks/R.framework/Versions/4.1/Resources/library/RProtoBufLib/include' -I'/Library/Frameworks/R.framework/Versions/4.1/Resources/library/Rhdf5lib/include' -I'/Library/Frameworks/R.framework/Versions/4.1/Resources/library/RcppArmadillo/include' -I'/Library/Frameworks/R.framework/Versions/4.1/Resources/library/RcppParallel/include' -I/usr/local/include   -fPIC  -Wall -g -O2  -c spline.cpp -o spline.o
clang++ -mmacosx-version-min=10.13 -std=gnu++11 -I"/Library/Frameworks/R.framework/Resources/include" -DNDEBUG -DROUT -I../inst/include -DBOOST_NO_AUTO_PTR -I'/Library/Frameworks/R.framework/Versions/4.1/Resources/library/Rcpp/include' -I'/Library/Frameworks/R.framework/Versions/4.1/Resources/library/BH/include' -I'/Library/Frameworks/R.framework/Versions/4.1/Resources/library/RProtoBufLib/include' -I'/Library/Frameworks/R.framework/Versions/4.1/Resources/library/Rhdf5lib/include' -I'/Library/Frameworks/R.framework/Versions/4.1/Resources/library/RcppArmadillo/include' -I'/Library/Frameworks/R.framework/Versions/4.1/Resources/library/RcppParallel/include' -I/usr/local/include   -fPIC  -Wall -g -O2  -c trans_group.cpp -o trans_group.o
clang++ -mmacosx-version-min=10.13 -std=gnu++11 -I"/Library/Frameworks/R.framework/Resources/include" -DNDEBUG -DROUT -I../inst/include -DBOOST_NO_AUTO_PTR -I'/Library/Frameworks/R.framework/Versions/4.1/Resources/library/Rcpp/include' -I'/Library/Frameworks/R.framework/Versions/4.1/Resources/library/BH/include' -I'/Library/Frameworks/R.framework/Versions/4.1/Resources/library/RProtoBufLib/include' -I'/Library/Frameworks/R.framework/Versions/4.1/Resources/library/Rhdf5lib/include' -I'/Library/Frameworks/R.framework/Versions/4.1/Resources/library/RcppArmadillo/include' -I'/Library/Frameworks/R.framework/Versions/4.1/Resources/library/RcppParallel/include' -I/usr/local/include   -fPIC  -Wall -g -O2  -c transformation.cpp -o transformation.o
mkdir -p "/Library/Frameworks/R.framework/Versions/4.1/Resources/library/00LOCK-cytolib/00new/cytolib/lib"
ar rs "/Library/Frameworks/R.framework/Versions/4.1/Resources/library/00LOCK-cytolib/00new/cytolib/lib/libcytolib.a" CytoFrame.o CytoFrameView.o CytoVFS.o GatingHierarchy.o GatingSet.o H5CytoFrame.o MemCytoFrame.o POPINDICES.o calibrationTable.o compensation.o dummy.o ellipse2points.o gate.o global.o in_polygon.o nodeProperties.o spline.o trans_group.o transformation.o boost/libs/filesystem/src/codecvt_error_category.o boost/libs/filesystem/src/directory.o boost/libs/filesystem/src/exception.o boost/libs/filesystem/src/operations.o boost/libs/filesystem/src/path.o boost/libs/filesystem/src/path_traits.o boost/libs/filesystem/src/portability.o boost/libs/filesystem/src/unique_path.o boost/libs/filesystem/src/utf8_codecvt_facet.o boost/libs/filesystem/src/windows_file_codecvt.o boost/libs/system/src/error_code.o
ar: creating archive /Library/Frameworks/R.framework/Versions/4.1/Resources/library/00LOCK-cytolib/00new/cytolib/lib/libcytolib.a
/Library/Developer/CommandLineTools/usr/bin/ranlib: file: /Library/Frameworks/R.framework/Versions/4.1/Resources/library/00LOCK-cytolib/00new/cytolib/lib/libcytolib.a(windows_file_codecvt.o) has no symbols
clang++ -mmacosx-version-min=10.13 -std=gnu++11 -dynamiclib -Wl,-headerpad_max_install_names -undefined dynamic_lookup -single_module -multiply_defined suppress -L/Library/Frameworks/R.framework/Resources/lib -L/usr/local/lib -o cytolib.so dummy.o -F/Library/Frameworks/R.framework/.. -framework R -Wl,-framework -Wl,CoreFoundation
installing to /Library/Frameworks/R.framework/Versions/4.1/Resources/library/00LOCK-cytolib/00new/cytolib/libs
** R
** inst
** byte-compile and prepare package for lazy loading
** help
*** installing help indices
** building package indices
** installing vignettes
** testing if installed package can be loaded from temporary location
** checking absolute paths in shared objects and dynamic libraries
** testing if installed package can be loaded from final location
** testing if installed package keeps a record of temporary installation path
* DONE (cytolib)