Name | Last modified | Size | Description | |
---|---|---|---|---|
Parent Directory | - | |||
install-summary.dcf | 10-Jul-2024 06:40 | 264 | ||
checksrc-summary.dcf | 10-Jul-2024 06:40 | 439 | ||
buildsrc-summary.dcf | 10-Jul-2024 06:40 | 444 | ||
buildbin-summary.dcf | 10-Jul-2024 06:40 | 503 | ||
buildsrc-out.txt | 10-Jul-2024 06:40 | 861 | ||
checksrc-out.txt | 10-Jul-2024 06:40 | 4.0K | ||
install-out.txt | 10-Jul-2024 06:40 | 4.8K | ||
buildbin-out.txt | 10-Jul-2024 06:40 | 4.9K | ||