Name | Last modified | Size | Description | |
---|---|---|---|---|
Parent Directory | - | |||
install-summary.dcf | 10-Jul-2024 06:39 | 255 | ||
install-out.txt | 10-Jul-2024 06:39 | 4.6K | ||
checksrc-summary.dcf | 10-Jul-2024 06:39 | 406 | ||
checksrc-out.txt | 10-Jul-2024 06:39 | 3.4K | ||
buildsrc-summary.dcf | 10-Jul-2024 06:39 | 411 | ||
buildsrc-out.txt | 10-Jul-2024 06:39 | 828 | ||