Back to Multiple platform build/check report for BioC 3.14
AB[C]DEFGHIJKLMNOPQRSTUVWXYZ

This page was generated on 2021-12-03 13:05:11 -0500 (Fri, 03 Dec 2021).

BUILD BIN results for customCMPdb on tokay2

To the developers/maintainers of the customCMPdb package:
- Please allow up to 24 hours (and sometimes 48 hours) for your latest push to git@git.bioconductor.org:packages/customCMPdb.git to
reflect on this report. See How and When does the builder pull? When will my changes propagate? here for more information.
- Make sure to use the following settings in order to reproduce any error or warning you see on this page.

raw results

Package 432/2083HostnameOS / ArchINSTALLBUILDCHECKBUILD BIN
customCMPdb 1.4.0  (landing page)
Yuzhu Duan
Snapshot Date: 2021-12-02 01:55:06 -0500 (Thu, 02 Dec 2021)
git_url: https://git.bioconductor.org/packages/customCMPdb
git_branch: RELEASE_3_14
git_last_commit: a069660
git_last_commit_date: 2021-10-26 13:03:34 -0500 (Tue, 26 Oct 2021)
nebbiolo2Linux (Ubuntu 20.04.3 LTS) / x86_64  OK    OK    OK  UNNEEDED, same version is already published
tokay2Windows Server 2012 R2 Standard / x64  OK    OK    OK    OK  UNNEEDED, same version is already published
machv2macOS 10.14.6 Mojave / x86_64  OK    OK    OK    OK  UNNEEDED, same version is already published

Summary

Package: customCMPdb
Version: 1.4.0
Command: rm -rf customCMPdb.buildbin-libdir && mkdir customCMPdb.buildbin-libdir && C:\Users\biocbuild\bbs-3.14-bioc\R\bin\R.exe CMD INSTALL --merge-multiarch --build --library=customCMPdb.buildbin-libdir customCMPdb_1.4.0.tar.gz
StartedAt: 2021-12-03 07:07:02 -0500 (Fri, 03 Dec 2021)
EndedAt: 2021-12-03 07:08:24 -0500 (Fri, 03 Dec 2021)
EllapsedTime: 82.9 seconds
RetCode: 0
Status:   OK  
PackageFile: customCMPdb_1.4.0.zip
PackageFileSize: 688.4 KiB

Command output

##############################################################################
##############################################################################
###
### Running command:
###
###   rm -rf customCMPdb.buildbin-libdir && mkdir customCMPdb.buildbin-libdir && C:\Users\biocbuild\bbs-3.14-bioc\R\bin\R.exe CMD INSTALL --merge-multiarch --build --library=customCMPdb.buildbin-libdir customCMPdb_1.4.0.tar.gz
###
##############################################################################
##############################################################################



install for i386

* installing *source* package 'customCMPdb' ...
** using staged installation
** R
** inst
** byte-compile and prepare package for lazy loading
** help
*** installing help indices
  converting help for package 'customCMPdb'
    finding HTML links ... done
    buildCMAPdb                             html  
    buildDrugAgeDB                          html  
    customAnnot                             html  
    customCMPdb-package                     html  
    dbxml2df                                html  
    df2SQLite                               html  
    getSDFwithName                          html  
    processDrugage                          html  
    queryAnnotDB                            html  
** building package indices
** installing vignettes
** testing if installed package can be loaded from temporary location
** testing if installed package can be loaded from final location
** testing if installed package keeps a record of temporary installation path

install for x64

* installing *source* package 'customCMPdb' ...
** testing if installed package can be loaded
* MD5 sums
packaged installation of 'customCMPdb' as customCMPdb_1.4.0.zip
* DONE (customCMPdb)