Index of /checkResults/release/bioc-LATEST/ctgGEM/raw-results

[ICO]NameLast modifiedSizeDescription

[DIR]Parent Directory  -  
[   ]info.dcf21-Mar-2023 00:05 282  
[DIR]kjohnson/12-Jul-2022 00:06 -  
[DIR]lconway/21-Mar-2023 00:05 -  
[DIR]nebbiolo2/21-Mar-2023 00:04 -  
[DIR]palomino4/21-Mar-2023 00:05 -