Back to Multiple platform build/check report for BioC 3.16
AB[C]DEFGHIJKLMNOPQRSTUVWXYZ

This page was generated on 2023-01-31 11:09:13 -0500 (Tue, 31 Jan 2023).

HostnameOSArch (*)R versionInstalled pkgs
nebbiolo2Linux (Ubuntu 20.04.5 LTS)x86_644.2.2 (2022-10-31) -- "Innocent and Trusting" 4511
palomino4Windows Server 2022 Datacenterx644.2.2 (2022-10-31 ucrt) -- "Innocent and Trusting" 4289
lconwaymacOS 12.5.1 Montereyx86_644.2.2 (2022-10-31) -- "Innocent and Trusting" 4318
Click on any hostname to see more info about the system (e.g. compilers)      (*) as reported by 'uname -p', except on Windows and Mac OS X

BUILD results for ctgGEM on lconway


To the developers/maintainers of the ctgGEM package:
- Please allow up to 24 hours (and sometimes 48 hours) for your latest push to git@git.bioconductor.org:packages/ctgGEM.git to
reflect on this report. See How and When does the builder pull? When will my changes propagate? for more information.
- Make sure to use the following settings in order to reproduce any error or warning you see on this page.

raw results

Package 452/2183HostnameOS / ArchINSTALLBUILDCHECKBUILD BIN
ctgGEM 1.10.0  (landing page)
USD Biomedical Engineering
Snapshot Date: 2023-01-30 14:00:05 -0500 (Mon, 30 Jan 2023)
git_url: https://git.bioconductor.org/packages/ctgGEM
git_branch: RELEASE_3_16
git_last_commit: 4e46726
git_last_commit_date: 2022-11-01 11:21:23 -0500 (Tue, 01 Nov 2022)
nebbiolo2Linux (Ubuntu 20.04.5 LTS) / x86_64  ERROR    ERROR  skipped
palomino4Windows Server 2022 Datacenter / x64  ERROR    ERROR  skippedskipped
lconwaymacOS 12.5.1 Monterey / x86_64  ERROR    ERROR  skippedskipped

Summary

Package: ctgGEM
Version: 1.10.0
Command: /Library/Frameworks/R.framework/Resources/bin/R CMD build --keep-empty-dirs --no-resave-data ctgGEM
StartedAt: 2023-01-30 16:18:50 -0500 (Mon, 30 Jan 2023)
EndedAt: 2023-01-30 16:18:52 -0500 (Mon, 30 Jan 2023)
EllapsedTime: 1.2 seconds
RetCode: 1
Status:   ERROR  
PackageFile: None
PackageFileSize: NA

Command output

##############################################################################
##############################################################################
###
### Running command:
###
###   /Library/Frameworks/R.framework/Resources/bin/R CMD build --keep-empty-dirs --no-resave-data ctgGEM
###
##############################################################################
##############################################################################


* checking for file ‘ctgGEM/DESCRIPTION’ ... OK
* preparing ‘ctgGEM’:
* checking DESCRIPTION meta-information ... OK
* installing the package to build vignettes
      -----------------------------------
* installing *source* package ‘ctgGEM’ ...
** using staged installation
** R
Error in .install_package_code_files(".", instdir) : 
files in 'Collate' field missing from '/private/tmp/Rtmpa8dJB3/Rbuild83ee755c6962/ctgGEM/R':
  zzz.R
ERROR: unable to collate and parse R files for package ‘ctgGEM’
* removing ‘/private/tmp/Rtmpa8dJB3/Rinst83ee60add20/ctgGEM’
      -----------------------------------
ERROR: package installation failed