Index of /checkResults/release/bioc-LATEST/crlmm/raw-results/nebbiolo2

[ICO]NameLast modifiedSizeDescription

[DIR]Parent Directory  -  
[TXT]buildsrc-out.txt23-Feb-2024 01:35 891  
[   ]buildsrc-summary.dcf23-Feb-2024 01:35 411  
[TXT]checksrc-out.txt23-Feb-2024 01:35 6.1K 
[   ]checksrc-summary.dcf23-Feb-2024 01:35 412  
[TXT]install-out.txt23-Feb-2024 01:35 2.4K 
[   ]install-summary.dcf23-Feb-2024 01:35 255