Name | Last modified | Size | Description | |
---|---|---|---|---|
Parent Directory | - | |||
buildbin-summary.dcf | 12-Jun-2024 03:42 | 516 | ||
buildbin-out.txt | 12-Jun-2024 03:42 | 4.7K | ||
checksrc-summary.dcf | 12-Jun-2024 03:42 | 442 | ||
checksrc-out.txt | 12-Jun-2024 03:42 | 6.5K | ||
buildsrc-summary.dcf | 12-Jun-2024 03:42 | 422 | ||
buildsrc-out.txt | 12-Jun-2024 03:42 | 901 | ||
install-summary.dcf | 12-Jun-2024 03:42 | 265 | ||
install-out.txt | 12-Jun-2024 03:42 | 2.9K | ||