Back to Multiple platform build/check report for BioC 3.14
AB[C]DEFGHIJKLMNOPQRSTUVWXYZ

This page was generated on 2021-11-26 15:05:14 -0500 (Fri, 26 Nov 2021).

CHECK results for crisprseekplus on tokay2

To the developers/maintainers of the crisprseekplus package:
- Please allow up to 24 hours (and sometimes 48 hours) for your latest push to git@git.bioconductor.org:packages/crisprseekplus.git to
reflect on this report. See How and When does the builder pull? When will my changes propagate? here for more information.
- Make sure to use the following settings in order to reproduce any error or warning you see on this page.

raw results

Package 417/2083HostnameOS / ArchINSTALLBUILDCHECKBUILD BIN
crisprseekplus 1.20.0  (landing page)
Alper Kucukural
Snapshot Date: 2021-11-25 04:15:05 -0500 (Thu, 25 Nov 2021)
git_url: https://git.bioconductor.org/packages/crisprseekplus
git_branch: RELEASE_3_14
git_last_commit: 25d40a3
git_last_commit_date: 2021-10-26 12:30:57 -0500 (Tue, 26 Oct 2021)
nebbiolo2Linux (Ubuntu 20.04.3 LTS) / x86_64  OK    OK    OK  UNNEEDED, same version is already published
tokay2Windows Server 2012 R2 Standard / x64  OK    OK    OK    OK  UNNEEDED, same version is already published
machv2macOS 10.14.6 Mojave / x86_64  OK    OK    OK    OK  UNNEEDED, same version is already published

Summary

Package: crisprseekplus
Version: 1.20.0
Command: C:\Users\biocbuild\bbs-3.14-bioc\R\bin\R.exe CMD check --force-multiarch --install=check:crisprseekplus.install-out.txt --library=C:\Users\biocbuild\bbs-3.14-bioc\R\library --no-vignettes --timings crisprseekplus_1.20.0.tar.gz
StartedAt: 2021-11-25 20:40:51 -0500 (Thu, 25 Nov 2021)
EndedAt: 2021-11-25 20:47:49 -0500 (Thu, 25 Nov 2021)
EllapsedTime: 418.1 seconds
RetCode: 0
Status:   OK  
CheckDir: crisprseekplus.Rcheck
Warnings: 0

Command output

##############################################################################
##############################################################################
###
### Running command:
###
###   C:\Users\biocbuild\bbs-3.14-bioc\R\bin\R.exe CMD check --force-multiarch --install=check:crisprseekplus.install-out.txt --library=C:\Users\biocbuild\bbs-3.14-bioc\R\library --no-vignettes --timings crisprseekplus_1.20.0.tar.gz
###
##############################################################################
##############################################################################


* using log directory 'C:/Users/biocbuild/bbs-3.14-bioc/meat/crisprseekplus.Rcheck'
* using R version 4.1.2 (2021-11-01)
* using platform: x86_64-w64-mingw32 (64-bit)
* using session charset: ISO8859-1
* using option '--no-vignettes'
* checking for file 'crisprseekplus/DESCRIPTION' ... OK
* checking extension type ... Package
* this is package 'crisprseekplus' version '1.20.0'
* checking package namespace information ... OK
* checking package dependencies ... OK
* checking if this is a source package ... OK
* checking if there is a namespace ... OK
* checking for hidden files and directories ... OK
* checking for portable file names ... OK
* checking whether package 'crisprseekplus' can be installed ... OK
* checking installed package size ... OK
* checking package directory ... OK
* checking 'build' directory ... OK
* checking DESCRIPTION meta-information ... OK
* checking top-level files ... OK
* checking for left-over files ... OK
* checking index information ... OK
* checking package subdirectories ... OK
* checking R files for non-ASCII characters ... OK
* checking R files for syntax errors ... OK
* loading checks for arch 'i386'
** checking whether the package can be loaded ... OK
** checking whether the package can be loaded with stated dependencies ... OK
** checking whether the package can be unloaded cleanly ... OK
** checking whether the namespace can be loaded with stated dependencies ... OK
** checking whether the namespace can be unloaded cleanly ... OK
* loading checks for arch 'x64'
** checking whether the package can be loaded ... OK
** checking whether the package can be loaded with stated dependencies ... OK
** checking whether the package can be unloaded cleanly ... OK
** checking whether the namespace can be loaded with stated dependencies ... OK
** checking whether the namespace can be unloaded cleanly ... OK
* checking dependencies in R code ... OK
* checking S3 generic/method consistency ... OK
* checking replacement functions ... OK
* checking foreign function calls ... OK
* checking R code for possible problems ... NOTE
installpack: no visible global function definition for
  'install.packages'
Undefined global functions or variables:
  install.packages
Consider adding
  importFrom("utils", "install.packages")
to your NAMESPACE file.
* checking Rd files ... OK
* checking Rd metadata ... OK
* checking Rd cross-references ... OK
* checking for missing documentation entries ... OK
* checking for code/documentation mismatches ... OK
* checking Rd \usage sections ... OK
* checking Rd contents ... OK
* checking for unstated dependencies in examples ... OK
* checking line endings in Makefiles ... OK
* checking for GNU extensions in Makefiles ... OK
* checking include directives in Makefiles ... OK
* checking files in 'vignettes' ... OK
* checking examples ...
** running examples for arch 'i386' ... OK
** running examples for arch 'x64' ... OK
* checking for unstated dependencies in 'tests' ... OK
* checking tests ...
** running tests for arch 'i386' ...
  Running 'test-ui.R'
 OK
** running tests for arch 'x64' ...
  Running 'test-ui.R'
 OK
* checking for unstated dependencies in vignettes ... OK
* checking package vignettes in 'inst/doc' ... OK
* checking running R code from vignettes ... SKIPPED
* checking re-building of vignette outputs ... SKIPPED
* checking PDF version of manual ... OK
* DONE

Status: 1 NOTE
See
  'C:/Users/biocbuild/bbs-3.14-bioc/meat/crisprseekplus.Rcheck/00check.log'
for details.



Installation output

crisprseekplus.Rcheck/00install.out

##############################################################################
##############################################################################
###
### Running command:
###
###   C:\cygwin\bin\curl.exe -O http://155.52.207.166/BBS/3.14/bioc/src/contrib/crisprseekplus_1.20.0.tar.gz && rm -rf crisprseekplus.buildbin-libdir && mkdir crisprseekplus.buildbin-libdir && C:\Users\biocbuild\bbs-3.14-bioc\R\bin\R.exe CMD INSTALL --merge-multiarch --build --library=crisprseekplus.buildbin-libdir crisprseekplus_1.20.0.tar.gz && C:\Users\biocbuild\bbs-3.14-bioc\R\bin\R.exe CMD INSTALL crisprseekplus_1.20.0.zip && rm crisprseekplus_1.20.0.tar.gz crisprseekplus_1.20.0.zip
###
##############################################################################
##############################################################################


  % Total    % Received % Xferd  Average Speed   Time    Time     Time  Current
                                 Dload  Upload   Total   Spent    Left  Speed

  0     0    0     0    0     0      0      0 --:--:-- --:--:-- --:--:--     0
100  125k  100  125k    0     0   655k      0 --:--:-- --:--:-- --:--:--  658k

install for i386

* installing *source* package 'crisprseekplus' ...
** using staged installation
** R
** inst
** byte-compile and prepare package for lazy loading
** help
*** installing help indices
  converting help for package 'crisprseekplus'
    finding HTML links ... done
    cspServer                               html  
    cspUI                                   html  
    disableDownload                         html  
    fileInputFunc                           html  
    getLoadingMsg                           html  
    getLogo                                 html  
    installpack                             html  
    startcrisprseekplus                     html  
    trueFalseFunc                           html  
** building package indices
** installing vignettes
** testing if installed package can be loaded from temporary location
** testing if installed package can be loaded from final location
** testing if installed package keeps a record of temporary installation path

install for x64

* installing *source* package 'crisprseekplus' ...
** testing if installed package can be loaded
* MD5 sums
packaged installation of 'crisprseekplus' as crisprseekplus_1.20.0.zip
* DONE (crisprseekplus)
* installing to library 'C:/Users/biocbuild/bbs-3.14-bioc/R/library'
package 'crisprseekplus' successfully unpacked and MD5 sums checked

Tests output

crisprseekplus.Rcheck/tests_i386/test-ui.Rout


R version 4.1.2 (2021-11-01) -- "Bird Hippie"
Copyright (C) 2021 The R Foundation for Statistical Computing
Platform: i386-w64-mingw32/i386 (32-bit)

R is free software and comes with ABSOLUTELY NO WARRANTY.
You are welcome to redistribute it under certain conditions.
Type 'license()' or 'licence()' for distribution details.

R is a collaborative project with many contributors.
Type 'contributors()' for more information and
'citation()' on how to cite R or R packages in publications.

Type 'demo()' for some demos, 'help()' for on-line help, or
'help.start()' for an HTML browser interface to help.
Type 'q()' to quit R.

> require(shiny)
Loading required package: shiny
> library(crisprseekplus)
Loading required package: shinyjs

Attaching package: 'shinyjs'

The following object is masked from 'package:shiny':

    runExample

The following objects are masked from 'package:methods':

    removeClass, show

Loading required package: CRISPRseek
Loading required package: BiocGenerics

Attaching package: 'BiocGenerics'

The following objects are masked from 'package:stats':

    IQR, mad, sd, var, xtabs

The following objects are masked from 'package:base':

    Filter, Find, Map, Position, Reduce, anyDuplicated, append,
    as.data.frame, basename, cbind, colnames, dirname, do.call,
    duplicated, eval, evalq, get, grep, grepl, intersect, is.unsorted,
    lapply, mapply, match, mget, order, paste, pmax, pmax.int, pmin,
    pmin.int, rank, rbind, rownames, sapply, setdiff, sort, table,
    tapply, union, unique, unsplit, which.max, which.min

Loading required package: Biostrings
Loading required package: S4Vectors
Loading required package: stats4

Attaching package: 'S4Vectors'

The following objects are masked from 'package:base':

    I, expand.grid, unname

Loading required package: IRanges

Attaching package: 'IRanges'

The following object is masked from 'package:grDevices':

    windows

Loading required package: XVector
Loading required package: GenomeInfoDb

Attaching package: 'Biostrings'

The following object is masked from 'package:base':

    strsplit

> library(shinyjs)
> library(testthat)
> 
> test_that("trueFalseFunction works as expected", {
+     expect_false(trueFalseFunc(2))
+     expect_true(trueFalseFunc(1))
+     expect_silent(trueFalseFunc(3))
+   })
Test passed 
> 
> exampleFile <- system.file("extdata","gRNA.fa", package = "GUIDEseq")
> 
> test_that("tests fileInputFunction responds correctly to
+           a given input file/ receiving no input", {
+     expect_null(fileInputFunc(NULL, NULL))
+     })
Test passed 
> 
> test_that("Tests getLogo displays logo", {
+     expect_silent(goLogo <- getLogo())
+     expect_true(exists("goLogo"))
+     expect_equal(goLogo[[1]][[1]], "img")})
Test passed 
> 
> 
> 
> proc.time()
   user  system elapsed 
  14.01    1.59   15.59 

crisprseekplus.Rcheck/tests_x64/test-ui.Rout


R version 4.1.2 (2021-11-01) -- "Bird Hippie"
Copyright (C) 2021 The R Foundation for Statistical Computing
Platform: x86_64-w64-mingw32/x64 (64-bit)

R is free software and comes with ABSOLUTELY NO WARRANTY.
You are welcome to redistribute it under certain conditions.
Type 'license()' or 'licence()' for distribution details.

R is a collaborative project with many contributors.
Type 'contributors()' for more information and
'citation()' on how to cite R or R packages in publications.

Type 'demo()' for some demos, 'help()' for on-line help, or
'help.start()' for an HTML browser interface to help.
Type 'q()' to quit R.

> require(shiny)
Loading required package: shiny
> library(crisprseekplus)
Loading required package: shinyjs

Attaching package: 'shinyjs'

The following object is masked from 'package:shiny':

    runExample

The following objects are masked from 'package:methods':

    removeClass, show

Loading required package: CRISPRseek
Loading required package: BiocGenerics

Attaching package: 'BiocGenerics'

The following objects are masked from 'package:stats':

    IQR, mad, sd, var, xtabs

The following objects are masked from 'package:base':

    Filter, Find, Map, Position, Reduce, anyDuplicated, append,
    as.data.frame, basename, cbind, colnames, dirname, do.call,
    duplicated, eval, evalq, get, grep, grepl, intersect, is.unsorted,
    lapply, mapply, match, mget, order, paste, pmax, pmax.int, pmin,
    pmin.int, rank, rbind, rownames, sapply, setdiff, sort, table,
    tapply, union, unique, unsplit, which.max, which.min

Loading required package: Biostrings
Loading required package: S4Vectors
Loading required package: stats4

Attaching package: 'S4Vectors'

The following objects are masked from 'package:base':

    I, expand.grid, unname

Loading required package: IRanges

Attaching package: 'IRanges'

The following object is masked from 'package:grDevices':

    windows

Loading required package: XVector
Loading required package: GenomeInfoDb

Attaching package: 'Biostrings'

The following object is masked from 'package:base':

    strsplit

> library(shinyjs)
> library(testthat)
> 
> test_that("trueFalseFunction works as expected", {
+     expect_false(trueFalseFunc(2))
+     expect_true(trueFalseFunc(1))
+     expect_silent(trueFalseFunc(3))
+   })
Test passed 
> 
> exampleFile <- system.file("extdata","gRNA.fa", package = "GUIDEseq")
> 
> test_that("tests fileInputFunction responds correctly to
+           a given input file/ receiving no input", {
+     expect_null(fileInputFunc(NULL, NULL))
+     })
Test passed 
> 
> test_that("Tests getLogo displays logo", {
+     expect_silent(goLogo <- getLogo())
+     expect_true(exists("goLogo"))
+     expect_equal(goLogo[[1]][[1]], "img")})
Test passed 
> 
> 
> 
> proc.time()
   user  system elapsed 
  14.45    0.78   15.21 

Example timings

crisprseekplus.Rcheck/examples_i386/crisprseekplus-Ex.timings

nameusersystemelapsed
cspServer000
cspUI0.20.00.2
disableDownload000
fileInputFunc000
getLoadingMsg000
getLogo000
installpack000
startcrisprseekplus0.020.000.02
trueFalseFunc000

crisprseekplus.Rcheck/examples_x64/crisprseekplus-Ex.timings

nameusersystemelapsed
cspServer000
cspUI0.310.000.31
disableDownload000
fileInputFunc000
getLoadingMsg000
getLogo000
installpack000
startcrisprseekplus000
trueFalseFunc000