Back to Multiple platform build/check report for BioC 3.14
AB[C]DEFGHIJKLMNOPQRSTUVWXYZ

This page was generated on 2021-11-26 15:05:46 -0500 (Fri, 26 Nov 2021).

BUILD BIN results for crisprseekplus on machv2

To the developers/maintainers of the crisprseekplus package:
- Please allow up to 24 hours (and sometimes 48 hours) for your latest push to git@git.bioconductor.org:packages/crisprseekplus.git to
reflect on this report. See How and When does the builder pull? When will my changes propagate? here for more information.
- Make sure to use the following settings in order to reproduce any error or warning you see on this page.

raw results

Package 417/2083HostnameOS / ArchINSTALLBUILDCHECKBUILD BIN
crisprseekplus 1.20.0  (landing page)
Alper Kucukural
Snapshot Date: 2021-11-25 04:15:05 -0500 (Thu, 25 Nov 2021)
git_url: https://git.bioconductor.org/packages/crisprseekplus
git_branch: RELEASE_3_14
git_last_commit: 25d40a3
git_last_commit_date: 2021-10-26 12:30:57 -0500 (Tue, 26 Oct 2021)
nebbiolo2Linux (Ubuntu 20.04.3 LTS) / x86_64  OK    OK    OK  UNNEEDED, same version is already published
tokay2Windows Server 2012 R2 Standard / x64  OK    OK    OK    OK  UNNEEDED, same version is already published
machv2macOS 10.14.6 Mojave / x86_64  OK    OK    OK    OK  UNNEEDED, same version is already published

Summary

Package: crisprseekplus
Version: 1.20.0
Command: rm -rf crisprseekplus.buildbin-libdir && mkdir crisprseekplus.buildbin-libdir && /Users/biocbuild/BBS/utils/build-universal.sh crisprseekplus_1.20.0.tar.gz /Library/Frameworks/R.framework/Resources/bin/R crisprseekplus.buildbin-libdir
StartedAt: 2021-11-25 23:54:44 -0500 (Thu, 25 Nov 2021)
EndedAt: 2021-11-25 23:55:53 -0500 (Thu, 25 Nov 2021)
EllapsedTime: 68.9 seconds
RetCode: 0
Status:   OK  
PackageFile: crisprseekplus_1.20.0.tgz
PackageFileSize: 357.8 KiB

Command output

##############################################################################
##############################################################################
###
### Running command:
###
###   rm -rf crisprseekplus.buildbin-libdir && mkdir crisprseekplus.buildbin-libdir && /Users/biocbuild/BBS/utils/build-universal.sh crisprseekplus_1.20.0.tar.gz /Library/Frameworks/R.framework/Resources/bin/R crisprseekplus.buildbin-libdir
###
##############################################################################
##############################################################################


>>>>>>> 
>>>>>>> INSTALLATION WITH 'R CMD INSTALL --preclean --no-multiarch --library=crisprseekplus.buildbin-libdir crisprseekplus_1.20.0.tar.gz'
>>>>>>> 

* installing *source* package ‘crisprseekplus’ ...
** using staged installation
** R
** inst
** byte-compile and prepare package for lazy loading
** help
*** installing help indices
** building package indices
** installing vignettes
** testing if installed package can be loaded from temporary location
** testing if installed package can be loaded from final location
** testing if installed package keeps a record of temporary installation path
* DONE (crisprseekplus)