Index of /checkResults/release/bioc-LATEST/crisprViz/raw-results/nebbiolo1

[ICO]NameLast modifiedSizeDescription

[DIR]Parent Directory  -  
[TXT]buildsrc-out.txt15-Jun-2024 03:37 876  
[   ]buildsrc-summary.dcf15-Jun-2024 03:37 422  
[TXT]checksrc-out.txt15-Jun-2024 03:37 3.3K 
[   ]checksrc-summary.dcf15-Jun-2024 03:37 420  
[TXT]install-out.txt15-Jun-2024 03:37 966  
[   ]install-summary.dcf15-Jun-2024 03:37 262