Name | Last modified | Size | Description | |
---|---|---|---|---|
Parent Directory | - | |||
install-out.txt | 10-May-2024 00:40 | 1.0K | ||
install-summary.dcf | 10-May-2024 00:40 | 273 | ||
buildsrc-out.txt | 10-May-2024 00:40 | 887 | ||
buildsrc-summary.dcf | 10-May-2024 00:40 | 433 | ||
checksrc-out.txt | 10-May-2024 00:40 | 3.4K | ||
checksrc-summary.dcf | 10-May-2024 00:40 | 457 | ||