Index of /checkResults/release/bioc-LATEST/crisprViz/raw-results/kunpeng2

[ICO]NameLast modifiedSizeDescription

[DIR]Parent Directory  -  
[TXT]buildsrc-out.txt03-Nov-2023 00:40 870  
[   ]buildsrc-summary.dcf03-Nov-2023 00:40 416  
[TXT]checksrc-out.txt03-Nov-2023 00:40 4.1K 
[   ]checksrc-summary.dcf03-Nov-2023 00:40 427  
[TXT]install-out.txt03-Nov-2023 00:40 954  
[   ]install-summary.dcf03-Nov-2023 00:40 256