Index of /checkResults/release/bioc-LATEST/crisprBowtie/raw-results/palomino3

[ICO]NameLast modifiedSizeDescription

[DIR]Parent Directory  -  
[TXT]buildbin-out.txt22-Jun-2024 06:39 1.1K 
[   ]buildbin-summary.dcf22-Jun-2024 06:39 542  
[TXT]buildsrc-out.txt22-Jun-2024 06:39 863  
[   ]buildsrc-summary.dcf22-Jun-2024 06:39 470  
[TXT]checksrc-out.txt22-Jun-2024 06:39 3.2K 
[   ]checksrc-summary.dcf22-Jun-2024 06:39 465  
[TXT]install-out.txt22-Jun-2024 06:39 1.0K 
[   ]install-summary.dcf22-Jun-2024 06:39 277