Name | Last modified | Size | Description | |
---|---|---|---|---|
Parent Directory | - | |||
buildbin-summary.dcf | 24-Jul-2024 22:05 | 557 | ||
buildbin-out.txt | 24-Jul-2024 22:05 | 1.2K | ||
checksrc-summary.dcf | 24-Jul-2024 22:05 | 462 | ||
checksrc-out.txt | 24-Jul-2024 22:05 | 3.3K | ||
buildsrc-summary.dcf | 24-Jul-2024 22:05 | 441 | ||
buildsrc-out.txt | 24-Jul-2024 22:05 | 835 | ||
install-summary.dcf | 24-Jul-2024 22:05 | 278 | ||
install-out.txt | 24-Jul-2024 22:05 | 1.0K | ||