Index of /checkResults/release/bioc-LATEST/crisprBowtie/raw-results/lconway

[ICO]NameLast modifiedSizeDescription

[DIR]Parent Directory  -  
[TXT]buildbin-out.txt31-May-2024 00:35 1.2K 
[   ]buildbin-summary.dcf31-May-2024 00:35 557  
[TXT]buildsrc-out.txt31-May-2024 00:35 835  
[   ]buildsrc-summary.dcf31-May-2024 00:35 440  
[TXT]checksrc-out.txt31-May-2024 00:35 3.3K 
[   ]checksrc-summary.dcf31-May-2024 00:35 462  
[TXT]install-out.txt31-May-2024 00:35 1.0K 
[   ]install-summary.dcf31-May-2024 00:35 278