Index of /checkResults/release/bioc-LATEST/crisprBowtie/raw-results/kjohnson1

[ICO]NameLast modifiedSizeDescription

[DIR]Parent Directory  -  
[TXT]buildbin-out.txt17-Jul-2024 06:42 1.2K 
[   ]buildbin-summary.dcf17-Jul-2024 06:42 557  
[TXT]buildsrc-out.txt17-Jul-2024 06:42 835  
[   ]buildsrc-summary.dcf17-Jul-2024 06:42 440  
[TXT]checksrc-out.txt17-Jul-2024 06:42 3.3K 
[   ]checksrc-summary.dcf17-Jul-2024 06:42 462  
[TXT]install-out.txt17-Jul-2024 06:42 1.0K 
[   ]install-summary.dcf17-Jul-2024 06:42 278