Name | Last modified | Size | Description | |
---|---|---|---|---|
Parent Directory | - | |||
checksrc-out.txt | 10-May-2024 00:40 | 4.8K | ||
install-out.txt | 10-May-2024 00:40 | 970 | ||
buildsrc-out.txt | 10-May-2024 00:40 | 864 | ||
checksrc-summary.dcf | 10-May-2024 00:40 | 434 | ||
buildsrc-summary.dcf | 10-May-2024 00:40 | 416 | ||
install-summary.dcf | 10-May-2024 00:40 | 261 | ||