Index of /checkResults/release/bioc-LATEST/covEB/raw-results
Name
Last modified
Size
Description
Parent Directory
-
info.dcf
19-May-2024 00:34
265
kunpeng2/
10-May-2024 00:40
-
lconway/
19-May-2024 00:37
-
merida1/
05-Mar-2024 01:39
-
nebbiolo1/
19-May-2024 00:35
-
palomino3/
19-May-2024 00:36
-