![]() | Name | Last modified | Size | Description |
---|---|---|---|---|
![]() | Parent Directory | - | ||
![]() | buildsrc-out.txt | 29-Sep-2023 00:35 | 806 | |
![]() | buildsrc-summary.dcf | 29-Sep-2023 00:35 | 416 | |
![]() | checksrc-out.txt | 29-Sep-2023 00:35 | 6.3K | |
![]() | checksrc-summary.dcf | 29-Sep-2023 00:35 | 413 | |
![]() | install-out.txt | 29-Sep-2023 00:35 | 944 | |
![]() | install-summary.dcf | 29-Sep-2023 00:35 | 259 | |