Index of /checkResults/release/bioc-LATEST/convert/raw-results
Name
Last modified
Size
Description
Parent Directory
-
info.dcf
26-Sep-2023 00:37
279
palomino3/
26-Sep-2023 00:36
-
nebbiolo1/
26-Sep-2023 00:35
-
merida1/
26-Sep-2023 00:37
-