Back to Multiple platform build/check report for BioC 3.16
AB[C]DEFGHIJKLMNOPQRSTUVWXYZ

This page was generated on 2023-02-01 11:06:44 -0500 (Wed, 01 Feb 2023).

HostnameOSArch (*)R versionInstalled pkgs
nebbiolo2Linux (Ubuntu 20.04.5 LTS)x86_644.2.2 (2022-10-31) -- "Innocent and Trusting" 4511
palomino4Windows Server 2022 Datacenterx644.2.2 (2022-10-31 ucrt) -- "Innocent and Trusting" 4289
lconwaymacOS 12.5.1 Montereyx86_644.2.2 (2022-10-31) -- "Innocent and Trusting" 4318
Click on any hostname to see more info about the system (e.g. compilers)      (*) as reported by 'uname -p', except on Windows and Mac OS X

CHECK results for convert on palomino4


To the developers/maintainers of the convert package:
- Please allow up to 24 hours (and sometimes 48 hours) for your latest push to git@git.bioconductor.org:packages/convert.git to
reflect on this report. See How and When does the builder pull? When will my changes propagate? for more information.
- Make sure to use the following settings in order to reproduce any error or warning you see on this page.

raw results

Package 410/2183HostnameOS / ArchINSTALLBUILDCHECKBUILD BIN
convert 1.74.0  (landing page)
Yee Hwa (Jean) Yang
Snapshot Date: 2023-01-31 14:00:04 -0500 (Tue, 31 Jan 2023)
git_url: https://git.bioconductor.org/packages/convert
git_branch: RELEASE_3_16
git_last_commit: ef81002
git_last_commit_date: 2022-11-01 10:37:15 -0500 (Tue, 01 Nov 2022)
nebbiolo2Linux (Ubuntu 20.04.5 LTS) / x86_64  OK    OK    OK  UNNEEDED, same version is already published
palomino4Windows Server 2022 Datacenter / x64  OK    OK    OK    OK  UNNEEDED, same version is already published
lconwaymacOS 12.5.1 Monterey / x86_64  OK    OK    OK    OK  UNNEEDED, same version is already published

Summary

Package: convert
Version: 1.74.0
Command: F:\biocbuild\bbs-3.16-bioc\R\bin\R.exe CMD check --no-multiarch --install=check:convert.install-out.txt --library=F:\biocbuild\bbs-3.16-bioc\R\library --no-vignettes --timings convert_1.74.0.tar.gz
StartedAt: 2023-02-01 00:26:15 -0500 (Wed, 01 Feb 2023)
EndedAt: 2023-02-01 00:26:53 -0500 (Wed, 01 Feb 2023)
EllapsedTime: 38.6 seconds
RetCode: 0
Status:   OK  
CheckDir: convert.Rcheck
Warnings: 0

Command output

##############################################################################
##############################################################################
###
### Running command:
###
###   F:\biocbuild\bbs-3.16-bioc\R\bin\R.exe CMD check --no-multiarch --install=check:convert.install-out.txt --library=F:\biocbuild\bbs-3.16-bioc\R\library --no-vignettes --timings convert_1.74.0.tar.gz
###
##############################################################################
##############################################################################


* using log directory 'F:/biocbuild/bbs-3.16-bioc/meat/convert.Rcheck'
* using R version 4.2.2 (2022-10-31 ucrt)
* using platform: x86_64-w64-mingw32 (64-bit)
* using session charset: UTF-8
* using option '--no-vignettes'
* checking for file 'convert/DESCRIPTION' ... OK
* this is package 'convert' version '1.74.0'
* checking package namespace information ... OK
* checking package dependencies ... OK
* checking if this is a source package ... OK
* checking if there is a namespace ... OK
* checking for hidden files and directories ... OK
* checking for portable file names ... OK
* checking whether package 'convert' can be installed ... OK
* checking installed package size ... OK
* checking package directory ... OK
* checking 'build' directory ... OK
* checking DESCRIPTION meta-information ... OK
* checking top-level files ... OK
* checking for left-over files ... OK
* checking index information ... OK
* checking package subdirectories ... OK
* checking R files for non-ASCII characters ... OK
* checking R files for syntax errors ... OK
* checking whether the package can be loaded ... OK
* checking whether the package can be loaded with stated dependencies ... OK
* checking whether the package can be unloaded cleanly ... OK
* checking whether the namespace can be loaded with stated dependencies ... OK
* checking whether the namespace can be unloaded cleanly ... OK
* checking dependencies in R code ... NOTE
Packages in Depends field not imported from:
  'Biobase' 'limma' 'marray' 'methods'
  These packages need to be imported from (in the NAMESPACE file)
  for when this namespace is loaded but not attached.
* checking S3 generic/method consistency ... OK
* checking replacement functions ... OK
* checking foreign function calls ... OK
* checking R code for possible problems ... NOTE
coerce,MAList-ExpressionSet: no visible global function definition for
  'new'
coerce,MAList-ExpressionSet: no visible global function definition for
  'notes<-'
coerce,MAList-marrayNorm: no visible global function definition for
  'new'
coerce,RGList-NChannelSet: no visible global function definition for
  'new'
coerce,RGList-NChannelSet: no visible binding for global variable 'df'
coerce,RGList-marrayRaw: no visible global function definition for
  'new'
coerce,marrayNorm-ExpressionSet: no visible global function definition
  for 'new'
coerce,marrayNorm-ExpressionSet: no visible global function definition
  for 'notes<-'
coerce,marrayNorm-ExpressionSet: no visible global function definition
  for 'maM'
coerce,marrayNorm-ExpressionSet: no visible global function definition
  for 'maLabels'
coerce,marrayNorm-ExpressionSet: no visible global function definition
  for 'maGnames'
coerce,marrayNorm-ExpressionSet: no visible global function definition
  for 'maInfo'
coerce,marrayNorm-ExpressionSet: no visible global function definition
  for 'maTargets'
coerce,marrayNorm-MAList: no visible global function definition for
  'new'
coerce,marrayNorm-MAList: no visible global function definition for
  'getClass'
coerce,marrayRaw-NChannelSet: no visible global function definition for
  'maRf'
coerce,marrayRaw-NChannelSet: no visible global function definition for
  'maGf'
coerce,marrayRaw-NChannelSet: no visible global function definition for
  'maRb'
coerce,marrayRaw-NChannelSet: no visible global function definition for
  'maGb'
coerce,marrayRaw-NChannelSet: no visible binding for global variable
  'assayDataNew'
coerce,marrayRaw-NChannelSet: no visible global function definition for
  'maInfo'
coerce,marrayRaw-NChannelSet: no visible global function definition for
  'maTargets'
coerce,marrayRaw-NChannelSet: no visible global function definition for
  'new'
coerce,marrayRaw-NChannelSet: no visible global function definition for
  'maGnames'
coerce,marrayRaw-NChannelSet: no visible global function definition for
  'phenoData<-'
coerce,marrayRaw-NChannelSet: no visible global function definition for
  'sampleNames'
coerce,marrayRaw-NChannelSet: no visible global function definition for
  'sampleNames<-'
coerce,marrayRaw-NChannelSet: no visible global function definition for
  'maLabels'
coerce,marrayRaw-NChannelSet: no visible global function definition for
  'featureData<-'
coerce,marrayRaw-NChannelSet: no visible global function definition for
  'featureNames<-'
coerce,marrayRaw-RGList: no visible global function definition for
  'new'
Undefined global functions or variables:
  assayDataNew df featureData<- featureNames<- getClass maGb maGf
  maGnames maInfo maLabels maM maRb maRf maTargets new notes<-
  phenoData<- sampleNames sampleNames<-
Consider adding
  importFrom("methods", "getClass", "new")
  importFrom("stats", "df")
to your NAMESPACE file (and ensure that your DESCRIPTION Imports field
contains 'methods').
* checking Rd files ... OK
* checking Rd metadata ... OK
* checking Rd cross-references ... OK
* checking for missing documentation entries ... OK
* checking for code/documentation mismatches ... OK
* checking Rd \usage sections ... OK
* checking Rd contents ... OK
* checking for unstated dependencies in examples ... OK
* checking sizes of PDF files under 'inst/doc' ... OK
* checking files in 'vignettes' ... OK
* checking examples ... OK
* checking for unstated dependencies in vignettes ... OK
* checking package vignettes in 'inst/doc' ... OK
* checking running R code from vignettes ... SKIPPED
* checking re-building of vignette outputs ... SKIPPED
* checking PDF version of manual ... OK
* DONE

Status: 2 NOTEs
See
  'F:/biocbuild/bbs-3.16-bioc/meat/convert.Rcheck/00check.log'
for details.



Installation output

convert.Rcheck/00install.out

##############################################################################
##############################################################################
###
### Running command:
###
###   F:\biocbuild\bbs-3.16-bioc\R\bin\R.exe CMD INSTALL convert
###
##############################################################################
##############################################################################


* installing to library 'F:/biocbuild/bbs-3.16-bioc/R/library'
* installing *source* package 'convert' ...
** using staged installation
** R
** byte-compile and prepare package for lazy loading
** help
*** installing help indices
** building package indices
** installing vignettes
** testing if installed package can be loaded from temporary location
** testing if installed package can be loaded from final location
** testing if installed package keeps a record of temporary installation path
* DONE (convert)

Tests output


Example timings

convert.Rcheck/convert-Ex.timings

nameusersystemelapsed
coerce0.170.000.17