Name | Last modified | Size | Description | |
---|---|---|---|---|
Parent Directory | - | |||
buildbin-out.txt | 22-May-2024 00:37 | 1.2K | ||
buildbin-summary.dcf | 22-May-2024 00:37 | 531 | ||
buildsrc-out.txt | 23-May-2024 00:36 | 910 | ||
buildsrc-summary.dcf | 23-May-2024 00:36 | 342 | ||
checksrc-out.txt | 22-May-2024 00:37 | 4.2K | ||
checksrc-summary.dcf | 22-May-2024 00:37 | 445 | ||
install-out.txt | 23-May-2024 00:36 | 715 | ||
install-summary.dcf | 23-May-2024 00:36 | 271 | ||