Index of /checkResults/release/bioc-LATEST/contiBAIT/raw-results/merida1
Name
Last modified
Size
Description
Parent Directory
-
buildsrc-out.txt
05-Mar-2024 01:39
917
buildsrc-summary.dcf
05-Mar-2024 01:39
346
install-out.txt
05-Mar-2024 01:39
703
install-summary.dcf
05-Mar-2024 01:39
275