Index of /checkResults/release/bioc-LATEST/contiBAIT/raw-results/lconway
Name
Last modified
Size
Description
Parent Directory
-
buildsrc-out.txt
05-May-2024 00:39
917
buildsrc-summary.dcf
05-May-2024 00:39
346
install-out.txt
05-May-2024 00:39
703
install-summary.dcf
05-May-2024 00:39
275